Workbook

Sheet Details
C1: SNHPC APPENDIX 1 - PLANNING APPLICATION 261842
C6: Client: | D6: Hurst Neighbourhood Plan Working Group
C7: Project Number: | D7: TSP15103
C8: Project Name: | D8: Hurst & Binfield ATCs
C9: Survey Type: | D9: ="ATC Site " & RIGHT('Eastbound Data'!A4,2) -> ATC Site 02
C10: Location: | D10: =MID('Eastbound Data'!$A$5,16,(LEN('Eastbound Data'!$A$5)-21)) -> FOREST ROAD
C11: Start Date: | D11: ='Eastbound Data'!$A$9 -> 22 September 2022
C12: End Date: | D12: ='Eastbound Data'!$A$651 -> 28 September 2022
C13: Survey Time: | D13: 24 hours x 7 days

Sheet Location Plan
B32: Binfield, near Reading - ATC 2 - Forest Road - 100m to the West of suggested location - 51°25'55.11"N 0°48'39.52"W
B34: This is a better location as it was away from houses and so reduce noise impact on residents

Sheet Header
A1: TSP Class Profile All Days 15 mins 2020
A3: Globals
A4: Report Id | B4: CustomList-237
A5: Descriptor | B5: TSP Class Profile All Days 15 mins 2020
A6: Created by | B6: MetroCount Traffic Executive
A7: Creation Time (UTC) | B7: 2022-10-14T17:34:58
A8: Legal | B8: Copyright (c)1997 - 2016 MetroCount
A9: Graphic
A10: Language | B10: English
A11: Country | B11: United Kingdom
A12: Time | B12: UTC + 60 min
A13: Create Version | B13: 5.0.2.0
A14: Metric | B14: Part metric
A15: Speed Unit | B15: mph
A16: Length Unit | B16: metre
A17: Mass Unit | B17: tonne
A18: Dataset
A19: Site Name | B19: TSP15103-02
A20: Site Attribute | B20: TSP15103
A21: File Name | B21: Z:\My Drive\TSP Project 2018\TSP15103-Hurst & Binfield ATCs\TSP15103-02 0 2022-09-29 2015.EC0
A22: File Type | B22: Plus
A23: Algorithm | B23: Factory default axle
A24: Description | B24: FOREST ROAD [30M]
A25: Lane | B25: 0
A26: Direction | B26: 8
A27: Direction Text | B27: 8 - East bound A]B, West bound B]A.
A28: Layout Text | B28: Axle sensors - Paired (Class/Speed/Count)
A29: Setup Time | B29: 2022-09-21T23:34:40
A30: Start Time | B30: 2022-09-21T23:34:40
... A33: Configuration | B33: 40 MC5600 00 00 00 00 00 ? EE62HG0X MC56-L5 [MC55] (c)Microcom 19Oct04
A34: Profile
A35: Name | B35: TSP Class Profile All Days 15 mins 2020
A36: Title | B36: MetroCount Traffic Executive
A37: Graphic Logo
A38: Header
A39: Footer
A40: Percentile 1 | B40: 85
A41: Percentile 2 | B41: 95
A42: Pace | B42: 10
A43: Filter Start | B43: 2022-09-22T00:00:00
A44: Filter End | B44: 2022-09-29T00:00:00
A45: Class Scheme | B45: ARX
A46: F | B46: Cls(1-10) Dir(E) Sp(5,100) Headway(]0) Span(0 - 100) Lane(0-16)
A47: Low Speed | B47: 5
A48: High Speed | B48: 100
A49: Posted Limit | B49: 30
A50: Speed Limits | B50: 20 40 30 30 30 30 30 30 30 30
A51: Separation | B51: 0.000
... A54: Encoded Direction | B54: 2

Sheet Legend
A1: TSP Class Profile All Days 15 mins 2020
A3: Column
A4: Time | B4: 24-hour time (0000 - 2359)
A5: Total | B5: Number in time step
A6: Cls 1 | B6: Class totals
A7: Cls 2 | B7: Class totals
A8: Cls 3 | B8: Class totals
A9: Cls 4 | B9: Class totals
A10: Cls 5 | B10: Class totals
A11: Cls 6 | B11: Class totals
A12: Cls 7 | B12: Class totals
A13: Cls 8 | B13: Class totals
A14: Cls 9 | B14: Class totals
A15: Cls 10 | B15: Class totals
... A44: Fix1 | B44: User defined fixed text

Sheet Eastbound Data
A1: TSP Class Profile All Days 15 mins 2020
A3: Report Id - CustomList-237
A4: Site Name - TSP15103-02
A5: Description - FOREST ROAD [30M]
A6: Direction - East
A9: 22 September 2022
A11: Time | B11: Total | C11: Cls | D11: Cls | E11: Cls | F11: Cls | G11: Cls | H11: Cls | I11: Cls | J11: Cls | K11: Cls | L11: Cls | M11: Fix1 | N11: Time | O11: Vbin | P11: Vbin | Q11: Vbin | R11: Vbin | S11: Vbin | T11: Vbin | U11: Vbin | V11: Vbin | W11: Vbin | X11: Vbin | Y11: Vbin | Z11: Vbin | AA11: Vbin | AB11: Vbin | AC11: Vbin | AD11: Mean | AE11: Vpp | AF11: ]SL1 | AG11: ]SL1% | AH11: ]PSL | AI11: ]PSL% | AJ11: ]SL2 | AK11: ]SL2% | AL11: V50 | AM11: SD | AN11: Var | AO11: Fix1
C12: 1 | D12: 2 | E12: 3 | F12: 4 | G12: 5 | H12: 6 | I12: 7 | J12: 8 | K12: 9 | L12: 10 | O12: 0 | P12: 5 | Q12: 10 | R12: 15 | S12: 20 | T12: 25 | U12: 30 | V12: 35 | W12: 40 | X12: 45 | Y12: 50 | Z12: 55 | AA12: 60 | AB12: 65 | AC12: 70 | AE12: 85 | AF12: 20 | AG12: 20 | AH12: 30 | AI12: 30 | AJ12: 40 | AK12: 40
O13: 5 | P13: 10 | Q13: 15 | R13: 20 | S13: 25 | T13: 30 | U13: 35 | V13: 40 | W13: 45 | X13: 50 | Y13: 55 | Z13: 60 | AA13: 65 | AB13: 70 | AC13: 130
A14: 0000 | B14: 2 | C14: 0 | D14: 2 | E14: 0 | F14: 0 | G14: 0 | H14: 0 | I14: 0 | J14: 0 | K14: 0 | L14: 0 | N14: 0000 | O14: 0 | P14: 0 | Q14: 0 | R14: 0 | S14: 0 | T14: 0 | U14: 0 | V14: 2 | W14: 0 | X14: 0 | Y14: 0 | Z14: 0 | AA14: 0 | AB14: 0 | AC14: 0 | AD14: 39.2 | AE14: - | AF14: 2 | AG14: 100 | AH14: 2 | AI14: 100 | AJ14: 0 | AK14: 0 | AL14: - | AM14: 0.1 | AN14: 0
A15: 0015 | B15: 0 | C15: 0 | D15: 0 | E15: 0 | F15: 0 | G15: 0 | H15: 0 | I15: 0 | J15: 0 | K15: 0 | L15: 0 | N15: 0015 | O15: 0 | P15: 0 | Q15: 0 | R15: 0 | S15: 0 | T15: 0 | U15: 0 | V15: 0 | W15: 0 | X15: 0 | Y15: 0 | Z15: 0 | AA15: 0 | AB15: 0 | AC15: 0 | AD15: - | AE15: - | AF15: 0 | AG15: 0 | AH15: 0 | AI15: 0 | AJ15: 0 | AK15: 0 | AL15: - | AM15: - | AN15: -
A16: 0030 | B16: 1 | C16: 0 | D16: 0 | E16: 0 | F16: 1 | G16: 0 | H16: 0 | I16: 0 | J16: 0 | K16: 0 | L16: 0 | N16: 0030 | O16: 0 | P16: 0 | Q16: 0 | R16: 0 | S16: 0 | T16: 0 | U16: 0 | V16: 0 | W16: 1 | X16: 0 | Y16: 0 | Z16: 0 | AA16: 0 | AB16: 0 | AC16: 0 | AD16: 44.8 | AE16: - | AF16: 1 | AG16: 100 | AH16: 1 | AI16: 100 | AJ16: 1 | AK16: 100 | AL16: - | AM16: - | AN16: -
A17: 0045 | B17: 1 | C17: 0 | D17: 1 | E17: 0 | F17: 0 | G17: 0 | H17: 0 | I17: 0 | J17: 0 | K17: 0 | L17: 0 | N17: 0045 | O17: 0 | P17: 0 | Q17: 0 | R17: 0 | S17: 0 | T17: 0 | U17: 0 | V17: 0 | W17: 1 | X17: 0 | Y17: 0 | Z17: 0 | AA17: 0 | AB17: 0 | AC17: 0 | AD17: 42.7 | AE17: - | AF17: 1 | AG17: 100 | AH17: 1 | AI17: 100 | AJ17: 1 | AK17: 100 | AL17: - | AM17: - | AN17: -
A18: 0100 | B18: 0 | C18: 0 | D18: 0 | E18: 0 | F18: 0 | G18: 0 | H18: 0 | I18: 0 | J18: 0 | K18: 0 | L18: 0 | N18: 0100 | O18: 0 | P18: 0 | Q18: 0 | R18: 0 | S18: 0 | T18: 0 | U18: 0 | V18: 0 | W18: 0 | X18: 0 | Y18: 0 | Z18: 0 | AA18: 0 | AB18: 0 | AC18: 0 | AD18: - | AE18: - | AF18: 0 | AG18: 0 | AH18: 0 | AI18: 0 | AJ18: 0 | AK18: 0 | AL18: - | AM18: - | AN18: -
A19: 0115 | B19: 0 | C19: 0 | D19: 0 | E19: 0 | F19: 0 | G19: 0 | H19: 0 | I19: 0 | J19: 0 | K19: 0 | L19: 0 | N19: 0115 | O19: 0 | P19: 0 | Q19: 0 | R19: 0 | S19: 0 | T19: 0 | U19: 0 | V19: 0 | W19: 0 | X19: 0 | Y19: 0 | Z19: 0 | AA19: 0 | AB19: 0 | AC19: 0 | AD19: - | AE19: - | AF19: 0 | AG19: 0 | AH19: 0 | AI19: 0 | AJ19: 0 | AK19: 0 | AL19: - | AM19: - | AN19: -
A20: 0130 | B20: 0 | C20: 0 | D20: 0 | E20: 0 | F20: 0 | G20: 0 | H20: 0 | I20: 0 | J20: 0 | K20: 0 | L20: 0 | N20: 0130 | O20: 0 | P20: 0 | Q20: 0 | R20: 0 | S20: 0 | T20: 0 | U20: 0 | V20: 0 | W20: 0 | X20: 0 | Y20: 0 | Z20: 0 | AA20: 0 | AB20: 0 | AC20: 0 | AD20: - | AE20: - | AF20: 0 | AG20: 0 | AH20: 0 | AI20: 0 | AJ20: 0 | AK20: 0 | AL20: - | AM20: - | AN20: -
A21: 0145 | B21: 0 | C21: 0 | D21: 0 | E21: 0 | F21: 0 | G21: 0 | H21: 0 | I21: 0 | J21: 0 | K21: 0 | L21: 0 | N21: 0145 | O21: 0 | P21: 0 | Q21: 0 | R21: 0 | S21: 0 | T21: 0 | U21: 0 | V21: 0 | W21: 0 | X21: 0 | Y21: 0 | Z21: 0 | AA21: 0 | AB21: 0 | AC21: 0 | AD21: - | AE21: - | AF21: 0 | AG21: 0 | AH21: 0 | AI21: 0 | AJ21: 0 | AK21: 0 | AL21: - | AM21: - | AN21: -
A22: 0200 | B22: 1 | C22: 0 | D22: 1 | E22: 0 | F22: 0 | G22: 0 | H22: 0 | I22: 0 | J22: 0 | K22: 0 | L22: 0 | N22: 0200 | O22: 0 | P22: 0 | Q22: 0 | R22: 0 | S22: 0 | T22: 0 | U22: 0 | V22: 0 | W22: 0 | X22: 0 | Y22: 0 | Z22: 1 | AA22: 0 | AB22: 0 | AC22: 0 | AD22: 59.5 | AE22: - | AF22: 1 | AG22: 100 | AH22: 1 | AI22: 100 | AJ22: 1 | AK22: 100 | AL22: - | AM22: - | AN22: -
A23: 0215 | B23: 2 | C23: 0 | D23: 2 | E23: 0 | F23: 0 | G23: 0 | H23: 0 | I23: 0 | J23: 0 | K23: 0 | L23: 0 | N23: 0215 | O23: 0 | P23: 0 | Q23: 0 | R23: 0 | S23: 0 | T23: 0 | U23: 0 | V23: 0 | W23: 1 | X23: 1 | Y23: 0 | Z23: 0 | AA23: 0 | AB23: 0 | AC23: 0 | AD23: 43.9 | AE23: - | AF23: 2 | AG23: 100 | AH23: 2 | AI23: 100 | AJ23: 2 | AK23: 100 | AL23: - | AM23: 1.9 | AN23: 3.6
A24: 0230 | B24: 1 | C24: 0 | D24: 1 | E24: 0 | F24: 0 | G24: 0 | H24: 0 | I24: 0 | J24: 0 | K24: 0 | L24: 0 | N24: 0230 | O24: 0 | P24: 0 | Q24: 0 | R24: 0 | S24: 0 | T24: 0 | U24: 0 | V24: 0 | W24: 0 | X24: 1 | Y24: 0 | Z24: 0 | AA24: 0 | AB24: 0 | AC24: 0 | AD24: 47.8 | AE24: - | AF24: 1 | AG24: 100 | AH24: 1 | AI24: 100 | AJ24: 1 | AK24: 100 | AL24: - | AM24: - | AN24: -
A25: 0245 | B25: 1 | C25: 0 | D25: 1 | E25: 0 | F25: 0 | G25: 0 | H25: 0 | I25: 0 | J25: 0 | K25: 0 | L25: 0 | N25: 0245 | O25: 0 | P25: 0 | Q25: 0 | R25: 0 | S25: 0 | T25: 0 | U25: 0 | V25: 0 | W25: 0 | X25: 1 | Y25: 0 | Z25: 0 | AA25: 0 | AB25: 0 | AC25: 0 | AD25: 46.1 | AE25: - | AF25: 1 | AG25: 100 | AH25: 1 | AI25: 100 | AJ25: 1 | AK25: 100 | AL25: - | AM25: - | AN25: -
A26: 0300 | B26: 0 | C26: 0 | D26: 0 | E26: 0 | F26: 0 | G26: 0 | H26: 0 | I26: 0 | J26: 0 | K26: 0 | L26: 0 | N26: 0300 | O26: 0 | P26: 0 | Q26: 0 | R26: 0 | S26: 0 | T26: 0 | U26: 0 | V26: 0 | W26: 0 | X26: 0 | Y26: 0 | Z26: 0 | AA26: 0 | AB26: 0 | AC26: 0 | AD26: - | AE26: - | AF26: 0 | AG26: 0 | AH26: 0 | AI26: 0 | AJ26: 0 | AK26: 0 | AL26: - | AM26: - | AN26: -
A27: 0315 | B27: 0 | C27: 0 | D27: 0 | E27: 0 | F27: 0 | G27: 0 | H27: 0 | I27: 0 | J27: 0 | K27: 0 | L27: 0 | N27: 0315 | O27: 0 | P27: 0 | Q27: 0 | R27: 0 | S27: 0 | T27: 0 | U27: 0 | V27: 0 | W27: 0 | X27: 0 | Y27: 0 | Z27: 0 | AA27: 0 | AB27: 0 | AC27: 0 | AD27: - | AE27: - | AF27: 0 | AG27: 0 | AH27: 0 | AI27: 0 | AJ27: 0 | AK27: 0 | AL27: - | AM27: - | AN27: -
A28: 0330 | B28: 1 | C28: 0 | D28: 0 | E28: 0 | F28: 1 | G28: 0 | H28: 0 | I28: 0 | J28: 0 | K28: 0 | L28: 0 | N28: 0330 | O28: 0 | P28: 0 | Q28: 0 | R28: 0 | S28: 0 | T28: 0 | U28: 0 | V28: 1 | W28: 0 | X28: 0 | Y28: 0 | Z28: 0 | AA28: 0 | AB28: 0 | AC28: 0 | AD28: 39.1 | AE28: - | AF28: 1 | AG28: 100 | AH28: 1 | AI28: 100 | AJ28: 0 | AK28: 0 | AL28: - | AM28: - | AN28: -
A29: 0345 | B29: 0 | C29: 0 | D29: 0 | E29: 0 | F29: 0 | G29: 0 | H29: 0 | I29: 0 | J29: 0 | K29: 0 | L29: 0 | N29: 0345 | O29: 0 | P29: 0 | Q29: 0 | R29: 0 | S29: 0 | T29: 0 | U29: 0 | V29: 0 | W29: 0 | X29: 0 | Y29: 0 | Z29: 0 | AA29: 0 | AB29: 0 | AC29: 0 | AD29: - | AE29: - | AF29: 0 | AG29: 0 | AH29: 0 | AI29: 0 | AJ29: 0 | AK29: 0 | AL29: - | AM29: - | AN29: -
A30: 0400 | B30: 0 | C30: 0 | D30: 0 | E30: 0 | F30: 0 | G30: 0 | H30: 0 | I30: 0 | J30: 0 | K30: 0 | L30: 0 | N30: 0400 | O30: 0 | P30: 0 | Q30: 0 | R30: 0 | S30: 0 | T30: 0 | U30: 0 | V30: 0 | W30: 0 | X30: 0 | Y30: 0 | Z30: 0 | AA30: 0 | AB30: 0 | AC30: 0 | AD30: - | AE30: - | AF30: 0 | AG30: 0 | AH30: 0 | AI30: 0 | AJ30: 0 | AK30: 0 | AL30: - | AM30: - | AN30: -
A31: 0415 | B31: 2 | C31: 0 | D31: 2 | E31: 0 | F31: 0 | G31: 0 | H31: 0 | I31: 0 | J31: 0 | K31: 0 | L31: 0 | N31: 0415 | O31: 0 | P31: 0 | Q31: 0 | R31: 0 | S31: 0 | T31: 0 | U31: 0 | V31: 1 | W31: 0 | X31: 0 | Y31: 1 | Z31: 0 | AA31: 0 | AB31: 0 | AC31: 0 | AD31: 44.3 | AE31: - | AF31: 2 | AG31: 100 | AH31: 2 | AI31: 100 | AJ31: 1 | AK31: 50 | AL31: - | AM31: 9.7 | AN31: 94.6
A32: 0430 | B32: 2 | C32: 0 | D32: 2 | E32: 0 | F32: 0 | G32: 0 | H32: 0 | I32: 0 | J32: 0 | K32: 0 | L32: 0 | N32: 0430 | O32: 0 | P32: 0 | Q32: 0 | R32: 0 | S32: 0 | T32: 0 | U32: 0 | V32: 0 | W32: 0 | X32: 1 | Y32: 1 | Z32: 0 | AA32: 0 | AB32: 0 | AC32: 0 | AD32: 52.1 | AE32: - | AF32: 2 | AG32: 100 | AH32: 2 | AI32: 100 | AJ32: 2 | AK32: 100 | AL32: - | AM32: 3.4 | AN32: 11.8
A33: 0445 | B33: 3 | C33: 0 | D33: 2 | E33: 0 | F33: 1 | G33: 0 | H33: 0 | I33: 0 | J33: 0 | K33: 0 | L33: 0 | N33: 0445 | O33: 0 | P33: 0 | Q33: 0 | R33: 0 | S33: 0 | T33: 0 | U33: 0 | V33: 1 | W33: 1 | X33: 0 | Y33: 0 | Z33: 1 | AA33: 0 | AB33: 0 | AC33: 0 | AD33: 45.8 | AE33: - | AF33: 3 | AG33: 100 | AH33: 3 | AI33: 100 | AJ33: 2 | AK33: 66.67 | AL33: - | AM33: 10.6 | AN33: 112.4
A34: 0500 | B34: 1 | C34: 0 | D34: 0 | E34: 0 | F34: 1 | G34: 0 | H34: 0 | I34: 0 | J34: 0 | K34: 0 | L34: 0 | N34: 0500 | O34: 0 | P34: 0 | Q34: 0 | R34: 0 | S34: 0 | T34: 0 | U34: 0 | V34: 0 | W34: 0 | X34: 0 | Y34: 1 | Z34: 0 | AA34: 0 | AB34: 0 | AC34: 0 | AD34: 52.1 | AE34: - | AF34: 1 | AG34: 100 | AH34: 1 | AI34: 100 | AJ34: 1 | AK34: 100 | AL34: - | AM34: - | AN34: -
A35: 0515 | B35: 3 | C35: 0 | D35: 2 | E35: 0 | F35: 0 | G35: 0 | H35: 1 | I35: 0 | J35: 0 | K35: 0 | L35: 0 | N35: 0515 | O35: 0 | P35: 0 | Q35: 0 | R35: 0 | S35: 0 | T35: 0 | U35: 0 | V35: 1 | W35: 2 | X35: 0 | Y35: 0 | Z35: 0 | AA35: 0 | AB35: 0 | AC35: 0 | AD35: 41.5 | AE35: - | AF35: 3 | AG35: 100 | AH35: 3 | AI35: 100 | AJ35: 2 | AK35: 66.67 | AL35: - | AM35: 2.6 | AN35: 6.5
A36: 0530 | B36: 8 | C36: 0 | D36: 6 | E36: 1 | F36: 1 | G36: 0 | H36: 0 | I36: 0 | J36: 0 | K36: 0 | L36: 0 | N36: 0530 | O36: 0 | P36: 0 | Q36: 0 | R36: 0 | S36: 0 | T36: 0 | U36: 0 | V36: 2 | W36: 3 | X36: 1 | Y36: 0 | Z36: 1 | AA36: 0 | AB36: 1 | AC36: 0 | AD36: 46.8 | AE36: - | AF36: 8 | AG36: 100 | AH36: 8 | AI36: 100 | AJ36: 6 | AK36: 75 | AL36: - | AM36: 10.8 | AN36: 115.8
A37: 0545 | B37: 4 | C37: 0 | D37: 4 | E37: 0 | F37: 0 | G37: 0 | H37: 0 | I37: 0 | J37: 0 | K37: 0 | L37: 0 | N37: 0545 | O37: 0 | P37: 0 | Q37: 0 | R37: 0 | S37: 0 | T37: 0 | U37: 0 | V37: 0 | W37: 1 | X37: 1 | Y37: 0 | Z37: 2 | AA37: 0 | AB37: 0 | AC37: 0 | AD37: 51.8 | AE37: - | AF37: 4 | AG37: 100 | AH37: 4 | AI37: 100 | AJ37: 4 | AK37: 100 | AL37: - | AM37: 8.8 | AN37: 76.9
A38: 0600 | B38: 8 | C38: 0 | D38: 6 | E38: 0 | F38: 2 | G38: 0 | H38: 0 | I38: 0 | J38: 0 | K38: 0 | L38: 0 | N38: 0600 | O38: 0 | P38: 0 | Q38: 0 | R38: 0 | S38: 0 | T38: 0 | U38: 0 | V38: 1 | W38: 4 | X38: 1 | Y38: 2 | Z38: 0 | AA38: 0 | AB38: 0 | AC38: 0 | AD38: 44 | AE38: - | AF38: 8 | AG38: 100 | AH38: 8 | AI38: 100 | AJ38: 7 | AK38: 87.5 | AL38: - | AM38: 5 | AN38: 25.5
A39: 0615 | B39: 9 | C39: 0 | D39: 8 | E39: 1 | F39: 0 | G39: 0 | H39: 0 | I39: 0 | J39: 0 | K39: 0 | L39: 0 | N39: 0615 | O39: 0 | P39: 0 | Q39: 0 | R39: 0 | S39: 0 | T39: 1 | U39: 2 | V39: 4 | W39: 2 | X39: 0 | Y39: 0 | Z39: 0 | AA39: 0 | AB39: 0 | AC39: 0 | AD39: 36.7 | AE39: - | AF39: 9 | AG39: 100 | AH39: 8 | AI39: 88.89 | AJ39: 2 | AK39: 22.22 | AL39: - | AM39: 4 | AN39: 16.4
A40: 0630 | B40: 21 | C40: 0 | D40: 19 | E40: 0 | F40: 2 | G40: 0 | H40: 0 | I40: 0 | J40: 0 | K40: 0 | L40: 0 | N40: 0630 | O40: 0 | P40: 0 | Q40: 0 | R40: 0 | S40: 0 | T40: 0 | U40: 1 | V40: 2 | W40: 11 | X40: 5 | Y40: 1 | Z40: 0 | AA40: 1 | AB40: 0 | AC40: 0 | AD40: 44.3 | AE40: 48.4 | AF40: 21 | AG40: 100 | AH40: 21 | AI40: 100 | AJ40: 18 | AK40: 85.71 | AL40: 44.3 | AM40: 5.3 | AN40: 28
A41: 0645 | B41: 24 | C41: 0 | D41: 20 | E41: 0 | F41: 3 | G41: 1 | H41: 0 | I41: 0 | J41: 0 | K41: 0 | L41: 0 | N41: 0645 | O41: 0 | P41: 0 | Q41: 0 | R41: 0 | S41: 0 | T41: 0 | U41: 1 | V41: 8 | W41: 6 | X41: 8 | Y41: 1 | Z41: 0 | AA41: 0 | AB41: 0 | AC41: 0 | AD41: 42.9 | AE41: 47.9 | AF41: 24 | AG41: 100 | AH41: 24 | AI41: 100 | AJ41: 15 | AK41: 62.5 | AL41: 44 | AM41: 4.7 | AN41: 22.2
A42: 0700 | B42: 39 | C42: 1 | D42: 34 | E42: 0 | F42: 4 | G42: 0 | H42: 0 | I42: 0 | J42: 0 | K42: 0 | L42: 0 | N42: 0700 | O42: 0 | P42: 0 | Q42: 0 | R42: 0 | S42: 0 | T42: 0 | U42: 1 | V42: 9 | W42: 16 | X42: 8 | Y42: 2 | Z42: 2 | AA42: 1 | AB42: 0 | AC42: 0 | AD42: 43.8 | AE42: 49.8 | AF42: 39 | AG42: 100 | AH42: 39 | AI42: 100 | AJ42: 29 | AK42: 74.36 | AL42: 42.8 | AM42: 5.7 | AN42: 32
A43: 0715 | B43: 44 | C43: 0 | D43: 35 | E43: 0 | F43: 9 | G43: 0 | H43: 0 | I43: 0 | J43: 0 | K43: 0 | L43: 0 | N43: 0715 | O43: 0 | P43: 0 | Q43: 0 | R43: 0 | S43: 0 | T43: 0 | U43: 3 | V43: 17 | W43: 12 | X43: 6 | Y43: 3 | Z43: 2 | AA43: 1 | AB43: 0 | AC43: 0 | AD43: 42.6 | AE43: 48.7 | AF43: 44 | AG43: 100 | AH43: 44 | AI43: 100 | AJ43: 24 | AK43: 54.55 | AL43: 41.4 | AM43: 6.2 | AN43: 37.9
A44: 0730 | B44: 72 | C44: 0 | D44: 63 | E44: 2 | F44: 7 | G44: 0 | H44: 0 | I44: 0 | J44: 0 | K44: 0 | L44: 0 | N44: 0730 | O44: 0 | P44: 0 | Q44: 0 | R44: 0 | S44: 0 | T44: 0 | U44: 5 | V44: 26 | W44: 30 | X44: 8 | Y44: 3 | Z44: 0 | AA44: 0 | AB44: 0 | AC44: 0 | AD44: 40.9 | AE44: 45.1 | AF44: 72 | AG44: 100 | AH44: 72 | AI44: 100 | AJ44: 41 | AK44: 56.94 | AL44: 40.2 | AM44: 4.6 | AN44: 21.3
A45: 0745 | B45: 72 | C45: 0 | D45: 68 | E45: 0 | F45: 4 | G45: 0 | H45: 0 | I45: 0 | J45: 0 | K45: 0 | L45: 0 | N45: 0745 | O45: 0 | P45: 0 | Q45: 0 | R45: 0 | S45: 0 | T45: 2 | U45: 6 | V45: 20 | W45: 32 | X45: 11 | Y45: 1 | Z45: 0 | AA45: 0 | AB45: 0 | AC45: 0 | AD45: 41 | AE45: 45.6 | AF45: 72 | AG45: 100 | AH45: 70 | AI45: 97.22 | AJ45: 44 | AK45: 61.11 | AL45: 41.3 | AM45: 4.9 | AN45: 23.8
A46: 0800 | B46: 102 | C46: 1 | D46: 98 | E46: 0 | F46: 3 | G46: 0 | H46: 0 | I46: 0 | J46: 0 | K46: 0 | L46: 0 | N46: 0800 | O46: 0 | P46: 0 | Q46: 0 | R46: 0 | S46: 0 | T46: 0 | U46: 10 | V46: 46 | W46: 38 | X46: 7 | Y46: 1 | Z46: 0 | AA46: 0 | AB46: 0 | AC46: 0 | AD46: 39.9 | AE46: 43.7 | AF46: 102 | AG46: 100 | AH46: 102 | AI46: 100 | AJ46: 46 | AK46: 45.1 | AL46: 39.5 | AM46: 3.8 | AN46: 14.5
A47: 0815 | B47: 95 | C47: 2 | D47: 85 | E47: 0 | F47: 8 | G47: 0 | H47: 0 | I47: 0 | J47: 0 | K47: 0 | L47: 0 | N47: 0815 | O47: 0 | P47: 0 | Q47: 0 | R47: 0 | S47: 0 | T47: 0 | U47: 10 | V47: 46 | W47: 27 | X47: 9 | Y47: 3 | Z47: 0 | AA47: 0 | AB47: 0 | AC47: 0 | AD47: 40 | AE47: 44.3 | AF47: 95 | AG47: 100 | AH47: 95 | AI47: 100 | AJ47: 39 | AK47: 41.05 | AL47: 39.1 | AM47: 4.4 | AN47: 19
A48: 0830 | B48: 97 | C48: 1 | D48: 89 | E48: 0 | F48: 6 | G48: 0 | H48: 0 | I48: 1 | J48: 0 | K48: 0 | L48: 0 | N48: 0830 | O48: 0 | P48: 0 | Q48: 0 | R48: 3 | S48: 1 | T48: 3 | U48: 5 | V48: 33 | W48: 49 | X48: 3 | Y48: 0 | Z48: 0 | AA48: 0 | AB48: 0 | AC48: 0 | AD48: 39.2 | AE48: 43 | AF48: 94 | AG48: 96.91 | AH48: 90 | AI48: 92.78 | AJ48: 52 | AK48: 53.61 | AL48: 40.3 | AM48: 5.6 | AN48: 31.5
A49: 0845 | B49: 94 | C49: 0 | D49: 89 | E49: 2 | F49: 3 | G49: 0 | H49: 0 | I49: 0 | J49: 0 | K49: 0 | L49: 0 | N49: 0845 | O49: 0 | P49: 0 | Q49: 0 | R49: 0 | S49: 0 | T49: 0 | U49: 7 | V49: 42 | W49: 29 | X49: 10 | Y49: 6 | Z49: 0 | AA49: 0 | AB49: 0 | AC49: 0 | AD49: 40.9 | AE49: 45.6 | AF49: 94 | AG49: 100 | AH49: 94 | AI49: 100 | AJ49: 45 | AK49: 47.87 | AL49: 39.8 | AM49: 4.8 | AN49: 23
A50: 0900 | B50: 73 | C50: 0 | D50: 64 | E50: 1 | F50: 6 | G50: 1 | H50: 0 | I50: 0 | J50: 0 | K50: 0 | L50: 1 | N50: 0900 | O50: 0 | P50: 0 | Q50: 0 | R50: 0 | S50: 0 | T50: 3 | U50: 9 | V50: 41 | W50: 14 | X50: 3 | Y50: 3 | Z50: 0 | AA50: 0 | AB50: 0 | AC50: 0 | AD50: 38.4 | AE50: 43.2 | AF50: 73 | AG50: 100 | AH50: 70 | AI50: 95.89 | AJ50: 20 | AK50: 27.4 | AL50: 37.9 | AM50: 4.9 | AN50: 23.7
A51: 0915 | B51: 48 | C51: 0 | D51: 42 | E51: 0 | F51: 6 | G51: 0 | H51: 0 | I51: 0 | J51: 0 | K51: 0 | L51: 0 | N51: 0915 | O51: 0 | P51: 0 | Q51: 0 | R51: 0 | S51: 0 | T51: 0 | U51: 5 | V51: 19 | W51: 18 | X51: 5 | Y51: 1 | Z51: 0 | AA51: 0 | AB51: 0 | AC51: 0 | AD51: 40 | AE51: 44.9 | AF51: 48 | AG51: 100 | AH51: 48 | AI51: 100 | AJ51: 24 | AK51: 50 | AL51: 39.9 | AM51: 4.2 | AN51: 17.6
... A99: 2115 | B99: 16 | C99: 0 | D99: 16 | E99: 0 | F99: 0 | G99: 0 | H99: 0 | I99: 0 | J99: 0 | K99: 0 | L99: 0 | N99: 2115 | O99: 0 | P99: 0 | Q99: 0 | R99: 0 | S99: 0 | T99: 0 | U99: 3 | V99: 2 | W99: 8 | X99: 1 | Y99: 2 | Z99: 0 | AA99: 0 | AB99: 0 | AC99: 0 | AD99: 41.1 | AE99: 48.2 | AF99: 16 | AG99: 100 | AH99: 16 | AI99: 100 | AJ99: 11 | AK99: 68.75 | AL99: 41.6 | AM99: 5.9 | AN99: 34.7
A100: 2130 | B100: 10 | C100: 0 | D100: 10 | E100: 0 | F100: 0 | G100: 0 | H100: 0 | I100: 0 | J100: 0 | K100: 0 | L100: 0 | N100: 2130 | O100: 0 | P100: 0 | Q100: 0 | R100: 0 | S100: 0 | T100: 0 | U100: 0 | V100: 2 | W100: 3 | X100: 2 | Y100: 0 | Z100: 3 | AA100: 0 | AB100: 0 | AC100: 0 | AD100: 46.6 | AE100: - | AF100: 10 | AG100: 100 | AH100: 10 | AI100: 100 | AJ100: 8 | AK100: 80 | AL100: - | AM100: 7.5 | AN100: 56.8
A101: 2145 | B101: 4 | C101: 0 | D101: 4 | E101: 0 | F101: 0 | G101: 0 | H101: 0 | I101: 0 | J101: 0 | K101: 0 | L101: 0 | N101: 2145 | O101: 0 | P101: 0 | Q101: 0 | R101: 0 | S101: 0 | T101: 0 | U101: 1 | V101: 2 | W101: 1 | X101: 0 | Y101: 0 | Z101: 0 | AA101: 0 | AB101: 0 | AC101: 0 | AD101: 37.3 | AE101: - | AF101: 4 | AG101: 100 | AH101: 4 | AI101: 100 | AJ101: 1 | AK101: 25 | AL101: - | AM101: 4.2 | AN101: 17.4
A102: 2200 | B102: 11 | C102: 0 | D102: 9 | E102: 0 | F102: 2 | G102: 0 | H102: 0 | I102: 0 | J102: 0 | K102: 0 | L102: 0 | N102: 2200 | O102: 0 | P102: 0 | Q102: 0 | R102: 0 | S102: 0 | T102: 0 | U102: 0 | V102: 2 | W102: 6 | X102: 2 | Y102: 1 | Z102: 0 | AA102: 0 | AB102: 0 | AC102: 0 | AD102: 42.6 | AE102: 47.5 | AF102: 11 | AG102: 100 | AH102: 11 | AI102: 100 | AJ102: 9 | AK102: 81.82 | AL102: 40.8 | AM102: 3.9 | AN102: 15.1
A103: 2215 | B103: 12 | C103: 0 | D103: 12 | E103: 0 | F103: 0 | G103: 0 | H103: 0 | I103: 0 | J103: 0 | K103: 0 | L103: 0 | N103: 2215 | O103: 0 | P103: 0 | Q103: 0 | R103: 0 | S103: 0 | T103: 0 | U103: 4 | V103: 2 | W103: 2 | X103: 3 | Y103: 1 | Z103: 0 | AA103: 0 | AB103: 0 | AC103: 0 | AD103: 40.5 | AE103: 47.5 | AF103: 12 | AG103: 100 | AH103: 12 | AI103: 100 | AJ103: 6 | AK103: 50 | AL103: 40.1 | AM103: 6.4 | AN103: 40.8
A104: 2230 | B104: 6 | C104: 0 | D104: 6 | E104: 0 | F104: 0 | G104: 0 | H104: 0 | I104: 0 | J104: 0 | K104: 0 | L104: 0 | N104: 2230 | O104: 0 | P104: 0 | Q104: 0 | R104: 0 | S104: 0 | T104: 0 | U104: 1 | V104: 1 | W104: 2 | X104: 2 | Y104: 0 | Z104: 0 | AA104: 0 | AB104: 0 | AC104: 0 | AD104: 41.3 | AE104: - | AF104: 6 | AG104: 100 | AH104: 6 | AI104: 100 | AJ104: 4 | AK104: 66.67 | AL104: - | AM104: 5.1 | AN104: 25.9
A105: 2245 | B105: 8 | C105: 0 | D105: 8 | E105: 0 | F105: 0 | G105: 0 | H105: 0 | I105: 0 | J105: 0 | K105: 0 | L105: 0 | N105: 2245 | O105: 0 | P105: 0 | Q105: 0 | R105: 0 | S105: 0 | T105: 0 | U105: 1 | V105: 3 | W105: 1 | X105: 1 | Y105: 0 | Z105: 1 | AA105: 0 | AB105: 0 | AC105: 1 | AD105: 48.1 | AE105: - | AF105: 8 | AG105: 100 | AH105: 8 | AI105: 100 | AJ105: 4 | AK105: 50 | AL105: - | AM105: 19.3 | AN105: 370.8
A106: 2300 | B106: 5 | C106: 0 | D106: 5 | E106: 0 | F106: 0 | G106: 0 | H106: 0 | I106: 0 | J106: 0 | K106: 0 | L106: 0 | N106: 2300 | O106: 0 | P106: 0 | Q106: 0 | R106: 0 | S106: 0 | T106: 0 | U106: 0 | V106: 3 | W106: 1 | X106: 1 | Y106: 0 | Z106: 0 | AA106: 0 | AB106: 0 | AC106: 0 | AD106: 40.7 | AE106: - | AF106: 5 | AG106: 100 | AH106: 5 | AI106: 100 | AJ106: 2 | AK106: 40 | AL106: - | AM106: 3.8 | AN106: 14.2
A107: 2315 | B107: 4 | C107: 0 | D107: 4 | E107: 0 | F107: 0 | G107: 0 | H107: 0 | I107: 0 | J107: 0 | K107: 0 | L107: 0 | N107: 2315 | O107: 0 | P107: 0 | Q107: 0 | R107: 0 | S107: 0 | T107: 0 | U107: 0 | V107: 2 | W107: 0 | X107: 0 | Y107: 0 | Z107: 1 | AA107: 0 | AB107: 0 | AC107: 1 | AD107: 52.9 | AE107: - | AF107: 4 | AG107: 100 | AH107: 4 | AI107: 100 | AJ107: 2 | AK107: 50 | AL107: - | AM107: 21.4 | AN107: 457.7
A108: 2330 | B108: 1 | C108: 0 | D108: 1 | E108: 0 | F108: 0 | G108: 0 | H108: 0 | I108: 0 | J108: 0 | K108: 0 | L108: 0 | N108: 2330 | O108: 0 | P108: 0 | Q108: 0 | R108: 0 | S108: 0 | T108: 0 | U108: 0 | V108: 0 | W108: 0 | X108: 1 | Y108: 0 | Z108: 0 | AA108: 0 | AB108: 0 | AC108: 0 | AD108: 49.3 | AE108: - | AF108: 1 | AG108: 100 | AH108: 1 | AI108: 100 | AJ108: 1 | AK108: 100 | AL108: - | AM108: - | AN108: -
A109: 2345 | B109: 1 | C109: 0 | D109: 1 | E109: 0 | F109: 0 | G109: 0 | H109: 0 | I109: 0 | J109: 0 | K109: 0 | L109: 0 | N109: 2345 | O109: 0 | P109: 0 | Q109: 0 | R109: 0 | S109: 0 | T109: 0 | U109: 1 | V109: 0 | W109: 0 | X109: 0 | Y109: 0 | Z109: 0 | AA109: 0 | AB109: 0 | AC109: 0 | AD109: 34.8 | AE109: - | AF109: 1 | AG109: 100 | AH109: 1 | AI109: 100 | AJ109: 0 | AK109: 0 | AL109: - | AM109: - | AN109: -
A110: 07-19 | B110: 2788 | C110: 43 | D110: 2466 | E110: 12 | F110: 252 | G110: 5 | H110: 3 | I110: 2 | J110: 2 | K110: 0 | L110: 3 | N110: 07-19 | O110: 0 | P110: 0 | Q110: 11 | R110: 12 | S110: 14 | T110: 36 | U110: 311 | V110: 1041 | W110: 931 | X110: 308 | Y110: 95 | Z110: 20 | AA110: 6 | AB110: 2 | AC110: 1 | AD110: 40.1 | AE110: 45.1 | AF110: 2765 | AG110: 99.18 | AH110: 2715 | AI110: 97.38 | AJ110: 1363 | AK110: 48.89 | AL110: 39.9 | AM110: 5.8 | AN110: 34.1
A111: 06-22 | B111: 3136 | C111: 45 | D111: 2790 | E111: 13 | F111: 272 | G111: 6 | H111: 3 | I111: 2 | J111: 2 | K111: 0 | L111: 3 | N111: 06-22 | O111: 0 | P111: 0 | Q111: 11 | R111: 12 | S111: 14 | T111: 39 | U111: 337 | V111: 1159 | W111: 1046 | X111: 356 | Y111: 123 | Z111: 28 | AA111: 8 | AB111: 2 | AC111: 1 | AD111: 40.3 | AE111: 45.5 | AF111: 3113 | AG111: 99.27 | AH111: 3060 | AI111: 97.58 | AJ111: 1564 | AK111: 49.87 | AL111: 40 | AM111: 5.9 | AN111: 34.4
A112: 06-00 | B112: 3184 | C112: 45 | D112: 2836 | E112: 13 | F112: 274 | G112: 6 | H112: 3 | I112: 2 | J112: 2 | K112: 0 | L112: 3 | N112: 06-00 | O112: 0 | P112: 0 | Q112: 11 | R112: 12 | S112: 14 | T112: 39 | U112: 344 | V112: 1172 | W112: 1058 | X112: 366 | Y112: 125 | Z112: 30 | AA112: 8 | AB112: 2 | AC112: 3 | AD112: 40.4 | AE112: 45.6 | AF112: 3161 | AG112: 99.28 | AH112: 3108 | AI112: 97.61 | AJ112: 1592 | AK112: 50 | AL112: 40 | AM112: 6 | AN112: 35.8
A113: 00-00 | B113: 3217 | C113: 45 | D113: 2862 | E113: 14 | F113: 279 | G113: 6 | H113: 4 | I113: 2 | J113: 2 | K113: 0 | L113: 3 | N113: 00-00 | O113: 0 | P113: 0 | Q113: 11 | R113: 12 | S113: 14 | T113: 39 | U113: 344 | V113: 1180 | W113: 1068 | X113: 372 | Y113: 128 | Z113: 35 | AA113: 8 | AB113: 3 | AC113: 3 | AD113: 40.4 | AE113: 45.7 | AF113: 3194 | AG113: 99.29 | AH113: 3141 | AI113: 97.64 | AJ113: 1617 | AK113: 50.26 | AL113: 40 | AM113: 6 | AN113: 36.4
A116: 23 September 2022
A118: Time | B118: Total | C118: Cls | D118: Cls | E118: Cls | F118: Cls | G118: Cls | H118: Cls | I118: Cls | J118: Cls | K118: Cls | L118: Cls | M118: Fix1 | N118: Time | O118: Vbin | P118: Vbin | Q118: Vbin | R118: Vbin | S118: Vbin | T118: Vbin | U118: Vbin | V118: Vbin | W118: Vbin | X118: Vbin | Y118: Vbin | Z118: Vbin | AA118: Vbin | AB118: Vbin | AC118: Vbin | AD118: Mean | AE118: Vpp | AF118: ]SL1 | AG118: ]SL1% | AH118: ]PSL | AI118: ]PSL% | AJ118: ]SL2 | AK118: ]SL2% | AL118: V50 | AM118: SD | AN118: Var | AO118: Fix1
C119: 1 | D119: 2 | E119: 3 | F119: 4 | G119: 5 | H119: 6 | I119: 7 | J119: 8 | K119: 9 | L119: 10 | O119: 0 | P119: 5 | Q119: 10 | R119: 15 | S119: 20 | T119: 25 | U119: 30 | V119: 35 | W119: 40 | X119: 45 | Y119: 50 | Z119: 55 | AA119: 60 | AB119: 65 | AC119: 70 | AE119: 85 | AF119: 20 | AG119: 20 | AH119: 30 | AI119: 30 | AJ119: 40 | AK119: 40
O120: 5 | P120: 10 | Q120: 15 | R120: 20 | S120: 25 | T120: 30 | U120: 35 | V120: 40 | W120: 45 | X120: 50 | Y120: 55 | Z120: 60 | AA120: 65 | AB120: 70 | AC120: 130
A121: 0000 | B121: 0 | C121: 0 | D121: 0 | E121: 0 | F121: 0 | G121: 0 | H121: 0 | I121: 0 | J121: 0 | K121: 0 | L121: 0 | N121: 0000 | O121: 0 | P121: 0 | Q121: 0 | R121: 0 | S121: 0 | T121: 0 | U121: 0 | V121: 0 | W121: 0 | X121: 0 | Y121: 0 | Z121: 0 | AA121: 0 | AB121: 0 | AC121: 0 | AD121: - | AE121: - | AF121: 0 | AG121: 0 | AH121: 0 | AI121: 0 | AJ121: 0 | AK121: 0 | AL121: - | AM121: - | AN121: -
A122: 0015 | B122: 2 | C122: 0 | D122: 2 | E122: 0 | F122: 0 | G122: 0 | H122: 0 | I122: 0 | J122: 0 | K122: 0 | L122: 0 | N122: 0015 | O122: 0 | P122: 0 | Q122: 0 | R122: 0 | S122: 0 | T122: 0 | U122: 0 | V122: 1 | W122: 1 | X122: 0 | Y122: 0 | Z122: 0 | AA122: 0 | AB122: 0 | AC122: 0 | AD122: 39.6 | AE122: - | AF122: 2 | AG122: 100 | AH122: 2 | AI122: 100 | AJ122: 1 | AK122: 50 | AL122: - | AM122: 1.6 | AN122: 2.5
A123: 0030 | B123: 2 | C123: 0 | D123: 2 | E123: 0 | F123: 0 | G123: 0 | H123: 0 | I123: 0 | J123: 0 | K123: 0 | L123: 0 | N123: 0030 | O123: 0 | P123: 0 | Q123: 0 | R123: 0 | S123: 0 | T123: 0 | U123: 0 | V123: 2 | W123: 0 | X123: 0 | Y123: 0 | Z123: 0 | AA123: 0 | AB123: 0 | AC123: 0 | AD123: 37.3 | AE123: - | AF123: 2 | AG123: 100 | AH123: 2 | AI123: 100 | AJ123: 0 | AK123: 0 | AL123: - | AM123: 0.8 | AN123: 0.6
A124: 0045 | B124: 1 | C124: 0 | D124: 1 | E124: 0 | F124: 0 | G124: 0 | H124: 0 | I124: 0 | J124: 0 | K124: 0 | L124: 0 | N124: 0045 | O124: 0 | P124: 0 | Q124: 0 | R124: 0 | S124: 0 | T124: 0 | U124: 0 | V124: 1 | W124: 0 | X124: 0 | Y124: 0 | Z124: 0 | AA124: 0 | AB124: 0 | AC124: 0 | AD124: 37.1 | AE124: - | AF124: 1 | AG124: 100 | AH124: 1 | AI124: 100 | AJ124: 0 | AK124: 0 | AL124: - | AM124: - | AN124: -
A125: 0100 | B125: 1 | C125: 0 | D125: 0 | E125: 0 | F125: 1 | G125: 0 | H125: 0 | I125: 0 | J125: 0 | K125: 0 | L125: 0 | N125: 0100 | O125: 0 | P125: 0 | Q125: 0 | R125: 0 | S125: 0 | T125: 0 | U125: 0 | V125: 0 | W125: 0 | X125: 0 | Y125: 1 | Z125: 0 | AA125: 0 | AB125: 0 | AC125: 0 | AD125: 52.4 | AE125: - | AF125: 1 | AG125: 100 | AH125: 1 | AI125: 100 | AJ125: 1 | AK125: 100 | AL125: - | AM125: - | AN125: -
A126: 0115 | B126: 1 | C126: 0 | D126: 1 | E126: 0 | F126: 0 | G126: 0 | H126: 0 | I126: 0 | J126: 0 | K126: 0 | L126: 0 | N126: 0115 | O126: 0 | P126: 0 | Q126: 0 | R126: 0 | S126: 0 | T126: 0 | U126: 0 | V126: 0 | W126: 0 | X126: 0 | Y126: 1 | Z126: 0 | AA126: 0 | AB126: 0 | AC126: 0 | AD126: 54.2 | AE126: - | AF126: 1 | AG126: 100 | AH126: 1 | AI126: 100 | AJ126: 1 | AK126: 100 | AL126: - | AM126: - | AN126: -
A127: 0130 | B127: 1 | C127: 0 | D127: 1 | E127: 0 | F127: 0 | G127: 0 | H127: 0 | I127: 0 | J127: 0 | K127: 0 | L127: 0 | N127: 0130 | O127: 0 | P127: 0 | Q127: 0 | R127: 0 | S127: 0 | T127: 0 | U127: 0 | V127: 0 | W127: 0 | X127: 1 | Y127: 0 | Z127: 0 | AA127: 0 | AB127: 0 | AC127: 0 | AD127: 45.3 | AE127: - | AF127: 1 | AG127: 100 | AH127: 1 | AI127: 100 | AJ127: 1 | AK127: 100 | AL127: - | AM127: - | AN127: -
A128: 0145 | B128: 1 | C128: 0 | D128: 1 | E128: 0 | F128: 0 | G128: 0 | H128: 0 | I128: 0 | J128: 0 | K128: 0 | L128: 0 | N128: 0145 | O128: 0 | P128: 0 | Q128: 0 | R128: 0 | S128: 0 | T128: 0 | U128: 0 | V128: 1 | W128: 0 | X128: 0 | Y128: 0 | Z128: 0 | AA128: 0 | AB128: 0 | AC128: 0 | AD128: 39.6 | AE128: - | AF128: 1 | AG128: 100 | AH128: 1 | AI128: 100 | AJ128: 0 | AK128: 0 | AL128: - | AM128: - | AN128: -
A129: 0200 | B129: 2 | C129: 0 | D129: 2 | E129: 0 | F129: 0 | G129: 0 | H129: 0 | I129: 0 | J129: 0 | K129: 0 | L129: 0 | N129: 0200 | O129: 0 | P129: 0 | Q129: 0 | R129: 0 | S129: 0 | T129: 0 | U129: 0 | V129: 0 | W129: 1 | X129: 0 | Y129: 0 | Z129: 0 | AA129: 1 | AB129: 0 | AC129: 0 | AD129: 52.8 | AE129: - | AF129: 2 | AG129: 100 | AH129: 2 | AI129: 100 | AJ129: 2 | AK129: 100 | AL129: - | AM129: 11.9 | AN129: 140.7
A130: 0215 | B130: 0 | C130: 0 | D130: 0 | E130: 0 | F130: 0 | G130: 0 | H130: 0 | I130: 0 | J130: 0 | K130: 0 | L130: 0 | N130: 0215 | O130: 0 | P130: 0 | Q130: 0 | R130: 0 | S130: 0 | T130: 0 | U130: 0 | V130: 0 | W130: 0 | X130: 0 | Y130: 0 | Z130: 0 | AA130: 0 | AB130: 0 | AC130: 0 | AD130: - | AE130: - | AF130: 0 | AG130: 0 | AH130: 0 | AI130: 0 | AJ130: 0 | AK130: 0 | AL130: - | AM130: - | AN130: -
A131: 0230 | B131: 1 | C131: 0 | D131: 1 | E131: 0 | F131: 0 | G131: 0 | H131: 0 | I131: 0 | J131: 0 | K131: 0 | L131: 0 | N131: 0230 | O131: 0 | P131: 0 | Q131: 0 | R131: 0 | S131: 0 | T131: 0 | U131: 0 | V131: 0 | W131: 1 | X131: 0 | Y131: 0 | Z131: 0 | AA131: 0 | AB131: 0 | AC131: 0 | AD131: 44.4 | AE131: - | AF131: 1 | AG131: 100 | AH131: 1 | AI131: 100 | AJ131: 1 | AK131: 100 | AL131: - | AM131: - | AN131: -
A132: 0245 | B132: 1 | C132: 1 | D132: 0 | E132: 0 | F132: 0 | G132: 0 | H132: 0 | I132: 0 | J132: 0 | K132: 0 | L132: 0 | N132: 0245 | O132: 0 | P132: 0 | Q132: 1 | R132: 0 | S132: 0 | T132: 0 | U132: 0 | V132: 0 | W132: 0 | X132: 0 | Y132: 0 | Z132: 0 | AA132: 0 | AB132: 0 | AC132: 0 | AD132: 10.5 | AE132: - | AF132: 0 | AG132: 0 | AH132: 0 | AI132: 0 | AJ132: 0 | AK132: 0 | AL132: - | AM132: - | AN132: -
A133: 0300 | B133: 1 | C133: 0 | D133: 1 | E133: 0 | F133: 0 | G133: 0 | H133: 0 | I133: 0 | J133: 0 | K133: 0 | L133: 0 | N133: 0300 | O133: 0 | P133: 0 | Q133: 0 | R133: 0 | S133: 0 | T133: 0 | U133: 0 | V133: 0 | W133: 0 | X133: 1 | Y133: 0 | Z133: 0 | AA133: 0 | AB133: 0 | AC133: 0 | AD133: 46.6 | AE133: - | AF133: 1 | AG133: 100 | AH133: 1 | AI133: 100 | AJ133: 1 | AK133: 100 | AL133: - | AM133: - | AN133: -
A134: 0315 | B134: 0 | C134: 0 | D134: 0 | E134: 0 | F134: 0 | G134: 0 | H134: 0 | I134: 0 | J134: 0 | K134: 0 | L134: 0 | N134: 0315 | O134: 0 | P134: 0 | Q134: 0 | R134: 0 | S134: 0 | T134: 0 | U134: 0 | V134: 0 | W134: 0 | X134: 0 | Y134: 0 | Z134: 0 | AA134: 0 | AB134: 0 | AC134: 0 | AD134: - | AE134: - | AF134: 0 | AG134: 0 | AH134: 0 | AI134: 0 | AJ134: 0 | AK134: 0 | AL134: - | AM134: - | AN134: -
A135: 0330 | B135: 5 | C135: 0 | D135: 4 | E135: 0 | F135: 1 | G135: 0 | H135: 0 | I135: 0 | J135: 0 | K135: 0 | L135: 0 | N135: 0330 | O135: 0 | P135: 0 | Q135: 0 | R135: 0 | S135: 0 | T135: 0 | U135: 0 | V135: 1 | W135: 2 | X135: 1 | Y135: 1 | Z135: 0 | AA135: 0 | AB135: 0 | AC135: 0 | AD135: 44.7 | AE135: - | AF135: 5 | AG135: 100 | AH135: 5 | AI135: 100 | AJ135: 4 | AK135: 80 | AL135: - | AM135: 5.2 | AN135: 26.6
A136: 0345 | B136: 0 | C136: 0 | D136: 0 | E136: 0 | F136: 0 | G136: 0 | H136: 0 | I136: 0 | J136: 0 | K136: 0 | L136: 0 | N136: 0345 | O136: 0 | P136: 0 | Q136: 0 | R136: 0 | S136: 0 | T136: 0 | U136: 0 | V136: 0 | W136: 0 | X136: 0 | Y136: 0 | Z136: 0 | AA136: 0 | AB136: 0 | AC136: 0 | AD136: - | AE136: - | AF136: 0 | AG136: 0 | AH136: 0 | AI136: 0 | AJ136: 0 | AK136: 0 | AL136: - | AM136: - | AN136: -
A137: 0400 | B137: 0 | C137: 0 | D137: 0 | E137: 0 | F137: 0 | G137: 0 | H137: 0 | I137: 0 | J137: 0 | K137: 0 | L137: 0 | N137: 0400 | O137: 0 | P137: 0 | Q137: 0 | R137: 0 | S137: 0 | T137: 0 | U137: 0 | V137: 0 | W137: 0 | X137: 0 | Y137: 0 | Z137: 0 | AA137: 0 | AB137: 0 | AC137: 0 | AD137: - | AE137: - | AF137: 0 | AG137: 0 | AH137: 0 | AI137: 0 | AJ137: 0 | AK137: 0 | AL137: - | AM137: - | AN137: -
A138: 0415 | B138: 2 | C138: 0 | D138: 1 | E138: 0 | F138: 1 | G138: 0 | H138: 0 | I138: 0 | J138: 0 | K138: 0 | L138: 0 | N138: 0415 | O138: 0 | P138: 0 | Q138: 0 | R138: 0 | S138: 0 | T138: 0 | U138: 1 | V138: 0 | W138: 1 | X138: 0 | Y138: 0 | Z138: 0 | AA138: 0 | AB138: 0 | AC138: 0 | AD138: 38.7 | AE138: - | AF138: 2 | AG138: 100 | AH138: 2 | AI138: 100 | AJ138: 1 | AK138: 50 | AL138: - | AM138: 5.9 | AN138: 34.3
A139: 0430 | B139: 2 | C139: 0 | D139: 2 | E139: 0 | F139: 0 | G139: 0 | H139: 0 | I139: 0 | J139: 0 | K139: 0 | L139: 0 | N139: 0430 | O139: 0 | P139: 0 | Q139: 0 | R139: 0 | S139: 0 | T139: 0 | U139: 0 | V139: 0 | W139: 1 | X139: 1 | Y139: 0 | Z139: 0 | AA139: 0 | AB139: 0 | AC139: 0 | AD139: 45.2 | AE139: - | AF139: 2 | AG139: 100 | AH139: 2 | AI139: 100 | AJ139: 2 | AK139: 100 | AL139: - | AM139: 4.9 | AN139: 24.4
A140: 0445 | B140: 0 | C140: 0 | D140: 0 | E140: 0 | F140: 0 | G140: 0 | H140: 0 | I140: 0 | J140: 0 | K140: 0 | L140: 0 | N140: 0445 | O140: 0 | P140: 0 | Q140: 0 | R140: 0 | S140: 0 | T140: 0 | U140: 0 | V140: 0 | W140: 0 | X140: 0 | Y140: 0 | Z140: 0 | AA140: 0 | AB140: 0 | AC140: 0 | AD140: - | AE140: - | AF140: 0 | AG140: 0 | AH140: 0 | AI140: 0 | AJ140: 0 | AK140: 0 | AL140: - | AM140: - | AN140: -
A141: 0500 | B141: 4 | C141: 0 | D141: 2 | E141: 0 | F141: 2 | G141: 0 | H141: 0 | I141: 0 | J141: 0 | K141: 0 | L141: 0 | N141: 0500 | O141: 0 | P141: 0 | Q141: 0 | R141: 0 | S141: 0 | T141: 0 | U141: 0 | V141: 1 | W141: 0 | X141: 1 | Y141: 2 | Z141: 0 | AA141: 0 | AB141: 0 | AC141: 0 | AD141: 45.9 | AE141: - | AF141: 4 | AG141: 100 | AH141: 4 | AI141: 100 | AJ141: 3 | AK141: 75 | AL141: - | AM141: 7.3 | AN141: 53.2
A142: 0515 | B142: 3 | C142: 0 | D142: 2 | E142: 0 | F142: 0 | G142: 1 | H142: 0 | I142: 0 | J142: 0 | K142: 0 | L142: 0 | N142: 0515 | O142: 0 | P142: 0 | Q142: 0 | R142: 0 | S142: 0 | T142: 0 | U142: 0 | V142: 1 | W142: 1 | X142: 0 | Y142: 1 | Z142: 0 | AA142: 0 | AB142: 0 | AC142: 0 | AD142: 44.3 | AE142: - | AF142: 3 | AG142: 100 | AH142: 3 | AI142: 100 | AJ142: 2 | AK142: 66.67 | AL142: - | AM142: 8.2 | AN142: 67.8
A143: 0530 | B143: 5 | C143: 0 | D143: 4 | E143: 0 | F143: 1 | G143: 0 | H143: 0 | I143: 0 | J143: 0 | K143: 0 | L143: 0 | N143: 0530 | O143: 0 | P143: 0 | Q143: 0 | R143: 0 | S143: 0 | T143: 0 | U143: 1 | V143: 2 | W143: 0 | X143: 0 | Y143: 1 | Z143: 1 | AA143: 0 | AB143: 0 | AC143: 0 | AD143: 42.2 | AE143: - | AF143: 5 | AG143: 100 | AH143: 5 | AI143: 100 | AJ143: 2 | AK143: 40 | AL143: - | AM143: 11.2 | AN143: 124.3
A144: 0545 | B144: 6 | C144: 0 | D144: 6 | E144: 0 | F144: 0 | G144: 0 | H144: 0 | I144: 0 | J144: 0 | K144: 0 | L144: 0 | N144: 0545 | O144: 0 | P144: 0 | Q144: 0 | R144: 0 | S144: 0 | T144: 0 | U144: 0 | V144: 2 | W144: 0 | X144: 2 | Y144: 0 | Z144: 2 | AA144: 0 | AB144: 0 | AC144: 0 | AD144: 48.3 | AE144: - | AF144: 6 | AG144: 100 | AH144: 6 | AI144: 100 | AJ144: 4 | AK144: 66.67 | AL144: - | AM144: 8.7 | AN144: 74.9
A145: 0600 | B145: 8 | C145: 0 | D145: 6 | E145: 0 | F145: 2 | G145: 0 | H145: 0 | I145: 0 | J145: 0 | K145: 0 | L145: 0 | N145: 0600 | O145: 0 | P145: 0 | Q145: 0 | R145: 0 | S145: 0 | T145: 0 | U145: 0 | V145: 1 | W145: 5 | X145: 1 | Y145: 0 | Z145: 0 | AA145: 0 | AB145: 1 | AC145: 0 | AD145: 44.8 | AE145: - | AF145: 8 | AG145: 100 | AH145: 8 | AI145: 100 | AJ145: 7 | AK145: 87.5 | AL145: - | AM145: 8.5 | AN145: 72.7
A146: 0615 | B146: 9 | C146: 0 | D146: 8 | E146: 0 | F146: 1 | G146: 0 | H146: 0 | I146: 0 | J146: 0 | K146: 0 | L146: 0 | N146: 0615 | O146: 0 | P146: 0 | Q146: 0 | R146: 0 | S146: 0 | T146: 0 | U146: 0 | V146: 3 | W146: 4 | X146: 1 | Y146: 1 | Z146: 0 | AA146: 0 | AB146: 0 | AC146: 0 | AD146: 42.2 | AE146: - | AF146: 9 | AG146: 100 | AH146: 9 | AI146: 100 | AJ146: 6 | AK146: 66.67 | AL146: - | AM146: 4.9 | AN146: 23.8
A147: 0630 | B147: 15 | C147: 0 | D147: 14 | E147: 0 | F147: 1 | G147: 0 | H147: 0 | I147: 0 | J147: 0 | K147: 0 | L147: 0 | N147: 0630 | O147: 0 | P147: 0 | Q147: 0 | R147: 0 | S147: 0 | T147: 0 | U147: 0 | V147: 0 | W147: 5 | X147: 5 | Y147: 4 | Z147: 1 | AA147: 0 | AB147: 0 | AC147: 0 | AD147: 48 | AE147: 54.2 | AF147: 15 | AG147: 100 | AH147: 15 | AI147: 100 | AJ147: 15 | AK147: 100 | AL147: 46 | AM147: 4.9 | AN147: 23.6
A148: 0645 | B148: 27 | C148: 1 | D148: 24 | E148: 0 | F148: 1 | G148: 1 | H148: 0 | I148: 0 | J148: 0 | K148: 0 | L148: 0 | N148: 0645 | O148: 0 | P148: 0 | Q148: 0 | R148: 0 | S148: 0 | T148: 0 | U148: 1 | V148: 18 | W148: 2 | X148: 5 | Y148: 0 | Z148: 1 | AA148: 0 | AB148: 0 | AC148: 0 | AD148: 40.3 | AE148: 47.6 | AF148: 27 | AG148: 100 | AH148: 27 | AI148: 100 | AJ148: 8 | AK148: 29.63 | AL148: 38.1 | AM148: 5.2 | AN148: 27.3
A149: 0700 | B149: 23 | C149: 1 | D149: 22 | E149: 0 | F149: 0 | G149: 0 | H149: 0 | I149: 0 | J149: 0 | K149: 0 | L149: 0 | N149: 0700 | O149: 0 | P149: 0 | Q149: 0 | R149: 0 | S149: 0 | T149: 0 | U149: 0 | V149: 4 | W149: 6 | X149: 7 | Y149: 5 | Z149: 1 | AA149: 0 | AB149: 0 | AC149: 0 | AD149: 45.9 | AE149: 53.6 | AF149: 23 | AG149: 100 | AH149: 23 | AI149: 100 | AJ149: 19 | AK149: 82.61 | AL149: 45.6 | AM149: 5.7 | AN149: 32
A150: 0715 | B150: 42 | C150: 1 | D150: 35 | E150: 0 | F150: 6 | G150: 0 | H150: 0 | I150: 0 | J150: 0 | K150: 0 | L150: 0 | N150: 0715 | O150: 0 | P150: 0 | Q150: 0 | R150: 0 | S150: 0 | T150: 0 | U150: 0 | V150: 17 | W150: 18 | X150: 5 | Y150: 2 | Z150: 0 | AA150: 0 | AB150: 0 | AC150: 0 | AD150: 41.5 | AE150: 45.3 | AF150: 42 | AG150: 100 | AH150: 42 | AI150: 100 | AJ150: 25 | AK150: 59.52 | AL150: 40.7 | AM150: 4 | AN150: 16.3
A151: 0730 | B151: 60 | C151: 0 | D151: 52 | E151: 1 | F151: 7 | G151: 0 | H151: 0 | I151: 0 | J151: 0 | K151: 0 | L151: 0 | N151: 0730 | O151: 0 | P151: 0 | Q151: 0 | R151: 0 | S151: 0 | T151: 0 | U151: 8 | V151: 20 | W151: 25 | X151: 6 | Y151: 1 | Z151: 0 | AA151: 0 | AB151: 0 | AC151: 0 | AD151: 40.3 | AE151: 44.5 | AF151: 60 | AG151: 100 | AH151: 60 | AI151: 100 | AJ151: 32 | AK151: 53.33 | AL151: 40.2 | AM151: 4.1 | AN151: 17.1
A152: 0745 | B152: 47 | C152: 0 | D152: 43 | E152: 0 | F152: 4 | G152: 0 | H152: 0 | I152: 0 | J152: 0 | K152: 0 | L152: 0 | N152: 0745 | O152: 0 | P152: 0 | Q152: 0 | R152: 0 | S152: 0 | T152: 0 | U152: 3 | V152: 23 | W152: 13 | X152: 6 | Y152: 1 | Z152: 1 | AA152: 0 | AB152: 0 | AC152: 0 | AD152: 40.5 | AE152: 46.1 | AF152: 47 | AG152: 100 | AH152: 47 | AI152: 100 | AJ152: 21 | AK152: 44.68 | AL152: 39.5 | AM152: 4.9 | AN152: 24.4
A153: 0800 | B153: 76 | C153: 0 | D153: 70 | E153: 0 | F153: 6 | G153: 0 | H153: 0 | I153: 0 | J153: 0 | K153: 0 | L153: 0 | N153: 0800 | O153: 0 | P153: 0 | Q153: 0 | R153: 0 | S153: 0 | T153: 3 | U153: 8 | V153: 24 | W153: 33 | X153: 8 | Y153: 0 | Z153: 0 | AA153: 0 | AB153: 0 | AC153: 0 | AD153: 39.7 | AE153: 43.8 | AF153: 76 | AG153: 100 | AH153: 73 | AI153: 96.05 | AJ153: 41 | AK153: 53.95 | AL153: 40.3 | AM153: 4.3 | AN153: 18.6
A154: 0815 | B154: 86 | C154: 0 | D154: 76 | E154: 0 | F154: 9 | G154: 0 | H154: 0 | I154: 0 | J154: 0 | K154: 1 | L154: 0 | N154: 0815 | O154: 0 | P154: 0 | Q154: 0 | R154: 0 | S154: 0 | T154: 0 | U154: 5 | V154: 55 | W154: 17 | X154: 5 | Y154: 2 | Z154: 1 | AA154: 1 | AB154: 0 | AC154: 0 | AD154: 39.7 | AE154: 43.1 | AF154: 86 | AG154: 100 | AH154: 86 | AI154: 100 | AJ154: 26 | AK154: 30.23 | AL154: 38.4 | AM154: 4.8 | AN154: 23
...

Sheet Eastbound Chart
A1: TSP Class Profile All Days 15 Mins
A3: ='Eastbound Data'!A3 -> Report Id - CustomList-237 | F3: WEEK 1
A4: ='Eastbound Data'!A4 -> Site Name - TSP15103-02
A5: ='Eastbound Data'!A5 -> Description - FOREST ROAD [30M]
A6: ='Eastbound Data'!A6 -> Direction - East
A43: Average Speed
A44: Virtual Week Total Vehicle Flow
A45: 85th Percentile speed
A46: ='Eastbound Data'!A9 -> 22 September 2022 | C46: Total Vehicle Flow
A83: ='Eastbound Data'!A116 -> 23 September 2022
A120: ='Eastbound Data'!A223 -> 24 September 2022
A157: ='Eastbound Data'!A330 -> 25 September 2022
A194: ='Eastbound Data'!A437 -> 26 September 2022
A231: ='Eastbound Data'!A544 -> 27 September 2022
A268: ='Eastbound Data'!A651 -> 28 September 2022

Sheet Westbound Data
A1: TSP Class Profile All Days 15 mins 2020
A3: Report Id - CustomList-237
A4: Site Name - TSP15103-02
A5: Description - FOREST ROAD [30M]
A6: Direction - West
A9: 22 September 2022
A11: Time | B11: Total | C11: Cls | D11: Cls | E11: Cls | F11: Cls | G11: Cls | H11: Cls | I11: Cls | J11: Cls | K11: Cls | L11: Cls | M11: Fix1 | N11: Time | O11: Vbin | P11: Vbin | Q11: Vbin | R11: Vbin | S11: Vbin | T11: Vbin | U11: Vbin | V11: Vbin | W11: Vbin | X11: Vbin | Y11: Vbin | Z11: Vbin | AA11: Vbin | AB11: Vbin | AC11: Vbin | AD11: Mean | AE11: Vpp | AF11: ]SL1 | AG11: ]SL1% | AH11: ]PSL | AI11: ]PSL% | AJ11: ]SL2 | AK11: ]SL2% | AL11: V50 | AM11: SD | AN11: Var | AO11: Fix1
C12: 1 | D12: 2 | E12: 3 | F12: 4 | G12: 5 | H12: 6 | I12: 7 | J12: 8 | K12: 9 | L12: 10 | O12: 0 | P12: 5 | Q12: 10 | R12: 15 | S12: 20 | T12: 25 | U12: 30 | V12: 35 | W12: 40 | X12: 45 | Y12: 50 | Z12: 55 | AA12: 60 | AB12: 65 | AC12: 70 | AE12: 85 | AF12: 20 | AG12: 20 | AH12: 30 | AI12: 30 | AJ12: 40 | AK12: 40
O13: 5 | P13: 10 | Q13: 15 | R13: 20 | S13: 25 | T13: 30 | U13: 35 | V13: 40 | W13: 45 | X13: 50 | Y13: 55 | Z13: 60 | AA13: 65 | AB13: 70 | AC13: 130
A14: 0000 | B14: 1 | C14: 0 | D14: 1 | E14: 0 | F14: 0 | G14: 0 | H14: 0 | I14: 0 | J14: 0 | K14: 0 | L14: 0 | N14: 0000 | O14: 0 | P14: 0 | Q14: 0 | R14: 0 | S14: 0 | T14: 1 | U14: 0 | V14: 0 | W14: 0 | X14: 0 | Y14: 0 | Z14: 0 | AA14: 0 | AB14: 0 | AC14: 0 | AD14: 26.5 | AE14: - | AF14: 1 | AG14: 100 | AH14: 0 | AI14: 0 | AJ14: 0 | AK14: 0 | AL14: - | AM14: - | AN14: -
A15: 0015 | B15: 1 | C15: 0 | D15: 1 | E15: 0 | F15: 0 | G15: 0 | H15: 0 | I15: 0 | J15: 0 | K15: 0 | L15: 0 | N15: 0015 | O15: 0 | P15: 0 | Q15: 0 | R15: 0 | S15: 0 | T15: 0 | U15: 0 | V15: 0 | W15: 0 | X15: 1 | Y15: 0 | Z15: 0 | AA15: 0 | AB15: 0 | AC15: 0 | AD15: 47.2 | AE15: - | AF15: 1 | AG15: 100 | AH15: 1 | AI15: 100 | AJ15: 1 | AK15: 100 | AL15: - | AM15: - | AN15: -
A16: 0030 | B16: 1 | C16: 0 | D16: 1 | E16: 0 | F16: 0 | G16: 0 | H16: 0 | I16: 0 | J16: 0 | K16: 0 | L16: 0 | N16: 0030 | O16: 0 | P16: 0 | Q16: 0 | R16: 0 | S16: 0 | T16: 0 | U16: 0 | V16: 1 | W16: 0 | X16: 0 | Y16: 0 | Z16: 0 | AA16: 0 | AB16: 0 | AC16: 0 | AD16: 37.9 | AE16: - | AF16: 1 | AG16: 100 | AH16: 1 | AI16: 100 | AJ16: 0 | AK16: 0 | AL16: - | AM16: - | AN16: -
A17: 0045 | B17: 1 | C17: 0 | D17: 1 | E17: 0 | F17: 0 | G17: 0 | H17: 0 | I17: 0 | J17: 0 | K17: 0 | L17: 0 | N17: 0045 | O17: 0 | P17: 0 | Q17: 0 | R17: 0 | S17: 0 | T17: 0 | U17: 0 | V17: 0 | W17: 1 | X17: 0 | Y17: 0 | Z17: 0 | AA17: 0 | AB17: 0 | AC17: 0 | AD17: 41.6 | AE17: - | AF17: 1 | AG17: 100 | AH17: 1 | AI17: 100 | AJ17: 1 | AK17: 100 | AL17: - | AM17: - | AN17: -
A18: 0100 | B18: 0 | C18: 0 | D18: 0 | E18: 0 | F18: 0 | G18: 0 | H18: 0 | I18: 0 | J18: 0 | K18: 0 | L18: 0 | N18: 0100 | O18: 0 | P18: 0 | Q18: 0 | R18: 0 | S18: 0 | T18: 0 | U18: 0 | V18: 0 | W18: 0 | X18: 0 | Y18: 0 | Z18: 0 | AA18: 0 | AB18: 0 | AC18: 0 | AD18: - | AE18: - | AF18: 0 | AG18: 0 | AH18: 0 | AI18: 0 | AJ18: 0 | AK18: 0 | AL18: - | AM18: - | AN18: -
A19: 0115 | B19: 0 | C19: 0 | D19: 0 | E19: 0 | F19: 0 | G19: 0 | H19: 0 | I19: 0 | J19: 0 | K19: 0 | L19: 0 | N19: 0115 | O19: 0 | P19: 0 | Q19: 0 | R19: 0 | S19: 0 | T19: 0 | U19: 0 | V19: 0 | W19: 0 | X19: 0 | Y19: 0 | Z19: 0 | AA19: 0 | AB19: 0 | AC19: 0 | AD19: - | AE19: - | AF19: 0 | AG19: 0 | AH19: 0 | AI19: 0 | AJ19: 0 | AK19: 0 | AL19: - | AM19: - | AN19: -
A20: 0130 | B20: 0 | C20: 0 | D20: 0 | E20: 0 | F20: 0 | G20: 0 | H20: 0 | I20: 0 | J20: 0 | K20: 0 | L20: 0 | N20: 0130 | O20: 0 | P20: 0 | Q20: 0 | R20: 0 | S20: 0 | T20: 0 | U20: 0 | V20: 0 | W20: 0 | X20: 0 | Y20: 0 | Z20: 0 | AA20: 0 | AB20: 0 | AC20: 0 | AD20: - | AE20: - | AF20: 0 | AG20: 0 | AH20: 0 | AI20: 0 | AJ20: 0 | AK20: 0 | AL20: - | AM20: - | AN20: -
A21: 0145 | B21: 0 | C21: 0 | D21: 0 | E21: 0 | F21: 0 | G21: 0 | H21: 0 | I21: 0 | J21: 0 | K21: 0 | L21: 0 | N21: 0145 | O21: 0 | P21: 0 | Q21: 0 | R21: 0 | S21: 0 | T21: 0 | U21: 0 | V21: 0 | W21: 0 | X21: 0 | Y21: 0 | Z21: 0 | AA21: 0 | AB21: 0 | AC21: 0 | AD21: - | AE21: - | AF21: 0 | AG21: 0 | AH21: 0 | AI21: 0 | AJ21: 0 | AK21: 0 | AL21: - | AM21: - | AN21: -
A22: 0200 | B22: 1 | C22: 0 | D22: 1 | E22: 0 | F22: 0 | G22: 0 | H22: 0 | I22: 0 | J22: 0 | K22: 0 | L22: 0 | N22: 0200 | O22: 0 | P22: 0 | Q22: 0 | R22: 0 | S22: 0 | T22: 0 | U22: 0 | V22: 0 | W22: 0 | X22: 1 | Y22: 0 | Z22: 0 | AA22: 0 | AB22: 0 | AC22: 0 | AD22: 48.7 | AE22: - | AF22: 1 | AG22: 100 | AH22: 1 | AI22: 100 | AJ22: 1 | AK22: 100 | AL22: - | AM22: - | AN22: -
A23: 0215 | B23: 0 | C23: 0 | D23: 0 | E23: 0 | F23: 0 | G23: 0 | H23: 0 | I23: 0 | J23: 0 | K23: 0 | L23: 0 | N23: 0215 | O23: 0 | P23: 0 | Q23: 0 | R23: 0 | S23: 0 | T23: 0 | U23: 0 | V23: 0 | W23: 0 | X23: 0 | Y23: 0 | Z23: 0 | AA23: 0 | AB23: 0 | AC23: 0 | AD23: - | AE23: - | AF23: 0 | AG23: 0 | AH23: 0 | AI23: 0 | AJ23: 0 | AK23: 0 | AL23: - | AM23: - | AN23: -
A24: 0230 | B24: 1 | C24: 0 | D24: 1 | E24: 0 | F24: 0 | G24: 0 | H24: 0 | I24: 0 | J24: 0 | K24: 0 | L24: 0 | N24: 0230 | O24: 0 | P24: 0 | Q24: 0 | R24: 0 | S24: 0 | T24: 0 | U24: 0 | V24: 0 | W24: 0 | X24: 0 | Y24: 1 | Z24: 0 | AA24: 0 | AB24: 0 | AC24: 0 | AD24: 50.1 | AE24: - | AF24: 1 | AG24: 100 | AH24: 1 | AI24: 100 | AJ24: 1 | AK24: 100 | AL24: - | AM24: - | AN24: -
A25: 0245 | B25: 0 | C25: 0 | D25: 0 | E25: 0 | F25: 0 | G25: 0 | H25: 0 | I25: 0 | J25: 0 | K25: 0 | L25: 0 | N25: 0245 | O25: 0 | P25: 0 | Q25: 0 | R25: 0 | S25: 0 | T25: 0 | U25: 0 | V25: 0 | W25: 0 | X25: 0 | Y25: 0 | Z25: 0 | AA25: 0 | AB25: 0 | AC25: 0 | AD25: - | AE25: - | AF25: 0 | AG25: 0 | AH25: 0 | AI25: 0 | AJ25: 0 | AK25: 0 | AL25: - | AM25: - | AN25: -
A26: 0300 | B26: 1 | C26: 0 | D26: 0 | E26: 0 | F26: 1 | G26: 0 | H26: 0 | I26: 0 | J26: 0 | K26: 0 | L26: 0 | N26: 0300 | O26: 0 | P26: 0 | Q26: 0 | R26: 0 | S26: 0 | T26: 1 | U26: 0 | V26: 0 | W26: 0 | X26: 0 | Y26: 0 | Z26: 0 | AA26: 0 | AB26: 0 | AC26: 0 | AD26: 27.2 | AE26: - | AF26: 1 | AG26: 100 | AH26: 0 | AI26: 0 | AJ26: 0 | AK26: 0 | AL26: - | AM26: - | AN26: -
A27: 0315 | B27: 1 | C27: 0 | D27: 1 | E27: 0 | F27: 0 | G27: 0 | H27: 0 | I27: 0 | J27: 0 | K27: 0 | L27: 0 | N27: 0315 | O27: 0 | P27: 0 | Q27: 0 | R27: 0 | S27: 0 | T27: 0 | U27: 0 | V27: 0 | W27: 0 | X27: 1 | Y27: 0 | Z27: 0 | AA27: 0 | AB27: 0 | AC27: 0 | AD27: 47.7 | AE27: - | AF27: 1 | AG27: 100 | AH27: 1 | AI27: 100 | AJ27: 1 | AK27: 100 | AL27: - | AM27: - | AN27: -
A28: 0330 | B28: 0 | C28: 0 | D28: 0 | E28: 0 | F28: 0 | G28: 0 | H28: 0 | I28: 0 | J28: 0 | K28: 0 | L28: 0 | N28: 0330 | O28: 0 | P28: 0 | Q28: 0 | R28: 0 | S28: 0 | T28: 0 | U28: 0 | V28: 0 | W28: 0 | X28: 0 | Y28: 0 | Z28: 0 | AA28: 0 | AB28: 0 | AC28: 0 | AD28: - | AE28: - | AF28: 0 | AG28: 0 | AH28: 0 | AI28: 0 | AJ28: 0 | AK28: 0 | AL28: - | AM28: - | AN28: -
A29: 0345 | B29: 0 | C29: 0 | D29: 0 | E29: 0 | F29: 0 | G29: 0 | H29: 0 | I29: 0 | J29: 0 | K29: 0 | L29: 0 | N29: 0345 | O29: 0 | P29: 0 | Q29: 0 | R29: 0 | S29: 0 | T29: 0 | U29: 0 | V29: 0 | W29: 0 | X29: 0 | Y29: 0 | Z29: 0 | AA29: 0 | AB29: 0 | AC29: 0 | AD29: - | AE29: - | AF29: 0 | AG29: 0 | AH29: 0 | AI29: 0 | AJ29: 0 | AK29: 0 | AL29: - | AM29: - | AN29: -
A30: 0400 | B30: 0 | C30: 0 | D30: 0 | E30: 0 | F30: 0 | G30: 0 | H30: 0 | I30: 0 | J30: 0 | K30: 0 | L30: 0 | N30: 0400 | O30: 0 | P30: 0 | Q30: 0 | R30: 0 | S30: 0 | T30: 0 | U30: 0 | V30: 0 | W30: 0 | X30: 0 | Y30: 0 | Z30: 0 | AA30: 0 | AB30: 0 | AC30: 0 | AD30: - | AE30: - | AF30: 0 | AG30: 0 | AH30: 0 | AI30: 0 | AJ30: 0 | AK30: 0 | AL30: - | AM30: - | AN30: -
A31: 0415 | B31: 0 | C31: 0 | D31: 0 | E31: 0 | F31: 0 | G31: 0 | H31: 0 | I31: 0 | J31: 0 | K31: 0 | L31: 0 | N31: 0415 | O31: 0 | P31: 0 | Q31: 0 | R31: 0 | S31: 0 | T31: 0 | U31: 0 | V31: 0 | W31: 0 | X31: 0 | Y31: 0 | Z31: 0 | AA31: 0 | AB31: 0 | AC31: 0 | AD31: - | AE31: - | AF31: 0 | AG31: 0 | AH31: 0 | AI31: 0 | AJ31: 0 | AK31: 0 | AL31: - | AM31: - | AN31: -
A32: 0430 | B32: 0 | C32: 0 | D32: 0 | E32: 0 | F32: 0 | G32: 0 | H32: 0 | I32: 0 | J32: 0 | K32: 0 | L32: 0 | N32: 0430 | O32: 0 | P32: 0 | Q32: 0 | R32: 0 | S32: 0 | T32: 0 | U32: 0 | V32: 0 | W32: 0 | X32: 0 | Y32: 0 | Z32: 0 | AA32: 0 | AB32: 0 | AC32: 0 | AD32: - | AE32: - | AF32: 0 | AG32: 0 | AH32: 0 | AI32: 0 | AJ32: 0 | AK32: 0 | AL32: - | AM32: - | AN32: -
A33: 0445 | B33: 1 | C33: 0 | D33: 1 | E33: 0 | F33: 0 | G33: 0 | H33: 0 | I33: 0 | J33: 0 | K33: 0 | L33: 0 | N33: 0445 | O33: 0 | P33: 0 | Q33: 0 | R33: 0 | S33: 0 | T33: 0 | U33: 0 | V33: 0 | W33: 1 | X33: 0 | Y33: 0 | Z33: 0 | AA33: 0 | AB33: 0 | AC33: 0 | AD33: 44.9 | AE33: - | AF33: 1 | AG33: 100 | AH33: 1 | AI33: 100 | AJ33: 1 | AK33: 100 | AL33: - | AM33: - | AN33: -
A34: 0500 | B34: 3 | C34: 0 | D34: 3 | E34: 0 | F34: 0 | G34: 0 | H34: 0 | I34: 0 | J34: 0 | K34: 0 | L34: 0 | N34: 0500 | O34: 0 | P34: 0 | Q34: 0 | R34: 0 | S34: 0 | T34: 0 | U34: 0 | V34: 0 | W34: 1 | X34: 2 | Y34: 0 | Z34: 0 | AA34: 0 | AB34: 0 | AC34: 0 | AD34: 47.9 | AE34: - | AF34: 3 | AG34: 100 | AH34: 3 | AI34: 100 | AJ34: 3 | AK34: 100 | AL34: - | AM34: 3.2 | AN34: 10.5
A35: 0515 | B35: 4 | C35: 0 | D35: 2 | E35: 0 | F35: 2 | G35: 0 | H35: 0 | I35: 0 | J35: 0 | K35: 0 | L35: 0 | N35: 0515 | O35: 0 | P35: 0 | Q35: 0 | R35: 0 | S35: 0 | T35: 0 | U35: 0 | V35: 0 | W35: 3 | X35: 0 | Y35: 1 | Z35: 0 | AA35: 0 | AB35: 0 | AC35: 0 | AD35: 44.7 | AE35: - | AF35: 4 | AG35: 100 | AH35: 4 | AI35: 100 | AJ35: 4 | AK35: 100 | AL35: - | AM35: 5.9 | AN35: 34.4
A36: 0530 | B36: 4 | C36: 1 | D36: 3 | E36: 0 | F36: 0 | G36: 0 | H36: 0 | I36: 0 | J36: 0 | K36: 0 | L36: 0 | N36: 0530 | O36: 0 | P36: 0 | Q36: 0 | R36: 1 | S36: 0 | T36: 0 | U36: 0 | V36: 0 | W36: 1 | X36: 0 | Y36: 2 | Z36: 0 | AA36: 0 | AB36: 0 | AC36: 0 | AD36: 41.7 | AE36: - | AF36: 3 | AG36: 75 | AH36: 3 | AI36: 75 | AJ36: 3 | AK36: 75 | AL36: - | AM36: 16.8 | AN36: 282.9
A37: 0545 | B37: 10 | C37: 0 | D37: 9 | E37: 0 | F37: 1 | G37: 0 | H37: 0 | I37: 0 | J37: 0 | K37: 0 | L37: 0 | N37: 0545 | O37: 0 | P37: 0 | Q37: 0 | R37: 0 | S37: 0 | T37: 0 | U37: 0 | V37: 2 | W37: 2 | X37: 2 | Y37: 1 | Z37: 2 | AA37: 0 | AB37: 0 | AC37: 1 | AD37: 49.9 | AE37: - | AF37: 10 | AG37: 100 | AH37: 10 | AI37: 100 | AJ37: 8 | AK37: 80 | AL37: - | AM37: 11 | AN37: 122
A38: 0600 | B38: 11 | C38: 1 | D38: 10 | E38: 0 | F38: 0 | G38: 0 | H38: 0 | I38: 0 | J38: 0 | K38: 0 | L38: 0 | N38: 0600 | O38: 0 | P38: 0 | Q38: 1 | R38: 0 | S38: 0 | T38: 0 | U38: 1 | V38: 2 | W38: 1 | X38: 4 | Y38: 2 | Z38: 0 | AA38: 0 | AB38: 0 | AC38: 0 | AD38: 42 | AE38: 50.4 | AF38: 10 | AG38: 90.91 | AH38: 10 | AI38: 90.91 | AJ38: 7 | AK38: 63.64 | AL38: 47.1 | AM38: 11.1 | AN38: 122.5
A39: 0615 | B39: 18 | C39: 0 | D39: 16 | E39: 0 | F39: 2 | G39: 0 | H39: 0 | I39: 0 | J39: 0 | K39: 0 | L39: 0 | N39: 0615 | O39: 0 | P39: 0 | Q39: 0 | R39: 0 | S39: 0 | T39: 0 | U39: 0 | V39: 2 | W39: 7 | X39: 3 | Y39: 1 | Z39: 2 | AA39: 3 | AB39: 0 | AC39: 0 | AD39: 47.8 | AE39: 60.4 | AF39: 18 | AG39: 100 | AH39: 18 | AI39: 100 | AJ39: 16 | AK39: 88.89 | AL39: 44.8 | AM39: 8.5 | AN39: 72.9
A40: 0630 | B40: 23 | C40: 0 | D40: 18 | E40: 0 | F40: 4 | G40: 0 | H40: 0 | I40: 0 | J40: 0 | K40: 1 | L40: 0 | N40: 0630 | O40: 0 | P40: 0 | Q40: 0 | R40: 0 | S40: 0 | T40: 0 | U40: 0 | V40: 6 | W40: 6 | X40: 4 | Y40: 4 | Z40: 2 | AA40: 1 | AB40: 0 | AC40: 0 | AD40: 46 | AE40: 56.2 | AF40: 23 | AG40: 100 | AH40: 23 | AI40: 100 | AJ40: 17 | AK40: 73.91 | AL40: 43.3 | AM40: 7.9 | AN40: 63
A41: 0645 | B41: 37 | C41: 1 | D41: 31 | E41: 0 | F41: 5 | G41: 0 | H41: 0 | I41: 0 | J41: 0 | K41: 0 | L41: 0 | N41: 0645 | O41: 0 | P41: 0 | Q41: 0 | R41: 0 | S41: 0 | T41: 0 | U41: 2 | V41: 7 | W41: 12 | X41: 10 | Y41: 4 | Z41: 2 | AA41: 0 | AB41: 0 | AC41: 0 | AD41: 44.3 | AE41: 50.2 | AF41: 37 | AG41: 100 | AH41: 37 | AI41: 100 | AJ41: 28 | AK41: 75.68 | AL41: 43.9 | AM41: 6 | AN41: 35.5
A42: 0700 | B42: 55 | C42: 1 | D42: 50 | E42: 0 | F42: 4 | G42: 0 | H42: 0 | I42: 0 | J42: 0 | K42: 0 | L42: 0 | N42: 0700 | O42: 0 | P42: 0 | Q42: 0 | R42: 0 | S42: 0 | T42: 0 | U42: 2 | V42: 7 | W42: 28 | X42: 13 | Y42: 2 | Z42: 1 | AA42: 1 | AB42: 1 | AC42: 0 | AD42: 44.2 | AE42: 49.4 | AF42: 55 | AG42: 100 | AH42: 55 | AI42: 100 | AJ42: 46 | AK42: 83.64 | AL42: 42.9 | AM42: 6.1 | AN42: 37
A43: 0715 | B43: 57 | C43: 3 | D43: 49 | E43: 0 | F43: 5 | G43: 0 | H43: 0 | I43: 0 | J43: 0 | K43: 0 | L43: 0 | N43: 0715 | O43: 0 | P43: 0 | Q43: 0 | R43: 2 | S43: 0 | T43: 0 | U43: 3 | V43: 20 | W43: 14 | X43: 13 | Y43: 2 | Z43: 1 | AA43: 1 | AB43: 0 | AC43: 1 | AD43: 42 | AE43: 48.7 | AF43: 55 | AG43: 96.49 | AH43: 55 | AI43: 96.49 | AJ43: 32 | AK43: 56.14 | AL43: 41.3 | AM43: 8.9 | AN43: 78.5
A44: 0730 | B44: 66 | C44: 0 | D44: 59 | E44: 0 | F44: 7 | G44: 0 | H44: 0 | I44: 0 | J44: 0 | K44: 0 | L44: 0 | N44: 0730 | O44: 0 | P44: 0 | Q44: 0 | R44: 0 | S44: 0 | T44: 1 | U44: 3 | V44: 9 | W44: 28 | X44: 16 | Y44: 6 | Z44: 3 | AA44: 0 | AB44: 0 | AC44: 0 | AD44: 43.9 | AE44: 48.8 | AF44: 66 | AG44: 100 | AH44: 65 | AI44: 98.48 | AJ44: 53 | AK44: 80.3 | AL44: 44 | AM44: 5.5 | AN44: 30.3
A45: 0745 | B45: 97 | C45: 0 | D45: 88 | E45: 0 | F45: 9 | G45: 0 | H45: 0 | I45: 0 | J45: 0 | K45: 0 | L45: 0 | N45: 0745 | O45: 0 | P45: 0 | Q45: 0 | R45: 0 | S45: 0 | T45: 0 | U45: 7 | V45: 33 | W45: 43 | X45: 11 | Y45: 3 | Z45: 0 | AA45: 0 | AB45: 0 | AC45: 0 | AD45: 40.8 | AE45: 44.7 | AF45: 97 | AG45: 100 | AH45: 97 | AI45: 100 | AJ45: 57 | AK45: 58.76 | AL45: 41.2 | AM45: 4.1 | AN45: 16.7
A46: 0800 | B46: 97 | C46: 0 | D46: 90 | E46: 1 | F46: 6 | G46: 0 | H46: 0 | I46: 0 | J46: 0 | K46: 0 | L46: 0 | N46: 0800 | O46: 0 | P46: 0 | Q46: 0 | R46: 0 | S46: 0 | T46: 1 | U46: 10 | V46: 26 | W46: 35 | X46: 19 | Y46: 4 | Z46: 2 | AA46: 0 | AB46: 0 | AC46: 0 | AD46: 41.7 | AE46: 47 | AF46: 97 | AG46: 100 | AH46: 96 | AI46: 98.97 | AJ46: 60 | AK46: 61.86 | AL46: 41.8 | AM46: 5.7 | AN46: 32.1
A47: 0815 | B47: 85 | C47: 3 | D47: 73 | E47: 0 | F47: 8 | G47: 0 | H47: 1 | I47: 0 | J47: 0 | K47: 0 | L47: 0 | N47: 0815 | O47: 0 | P47: 0 | Q47: 0 | R47: 0 | S47: 0 | T47: 0 | U47: 1 | V47: 42 | W47: 32 | X47: 8 | Y47: 2 | Z47: 0 | AA47: 0 | AB47: 0 | AC47: 0 | AD47: 41 | AE47: 44.6 | AF47: 85 | AG47: 100 | AH47: 85 | AI47: 100 | AJ47: 42 | AK47: 49.41 | AL47: 40 | AM47: 3.7 | AN47: 13.8
A48: 0830 | B48: 89 | C48: 1 | D48: 83 | E48: 0 | F48: 4 | G48: 1 | H48: 0 | I48: 0 | J48: 0 | K48: 0 | L48: 0 | N48: 0830 | O48: 0 | P48: 0 | Q48: 0 | R48: 0 | S48: 1 | T48: 1 | U48: 6 | V48: 39 | W48: 31 | X48: 9 | Y48: 2 | Z48: 0 | AA48: 0 | AB48: 0 | AC48: 0 | AD48: 40.2 | AE48: 44.2 | AF48: 89 | AG48: 100 | AH48: 87 | AI48: 97.75 | AJ48: 42 | AK48: 47.19 | AL48: 39.9 | AM48: 4.5 | AN48: 20.2
A49: 0845 | B49: 79 | C49: 0 | D49: 76 | E49: 0 | F49: 3 | G49: 0 | H49: 0 | I49: 0 | J49: 0 | K49: 0 | L49: 0 | N49: 0845 | O49: 0 | P49: 0 | Q49: 0 | R49: 0 | S49: 0 | T49: 0 | U49: 7 | V49: 34 | W49: 30 | X49: 4 | Y49: 2 | Z49: 1 | AA49: 1 | AB49: 0 | AC49: 0 | AD49: 40.4 | AE49: 42.8 | AF49: 79 | AG49: 100 | AH49: 79 | AI49: 100 | AJ49: 38 | AK49: 48.1 | AL49: 39.7 | AM49: 4.8 | AN49: 22.9
... A99: 2115 | B99: 17 | C99: 0 | D99: 17 | E99: 0 | F99: 0 | G99: 0 | H99: 0 | I99: 0 | J99: 0 | K99: 0 | L99: 0 | N99: 2115 | O99: 0 | P99: 0 | Q99: 0 | R99: 0 | S99: 0 | T99: 0 | U99: 2 | V99: 4 | W99: 6 | X99: 4 | Y99: 0 | Z99: 1 | AA99: 0 | AB99: 0 | AC99: 0 | AD99: 42.6 | AE99: 47.8 | AF99: 17 | AG99: 100 | AH99: 17 | AI99: 100 | AJ99: 11 | AK99: 64.71 | AL99: 42 | AM99: 6 | AN99: 36.4
A100: 2130 | B100: 9 | C100: 0 | D100: 9 | E100: 0 | F100: 0 | G100: 0 | H100: 0 | I100: 0 | J100: 0 | K100: 0 | L100: 0 | N100: 2130 | O100: 0 | P100: 0 | Q100: 0 | R100: 0 | S100: 0 | T100: 0 | U100: 1 | V100: 5 | W100: 1 | X100: 1 | Y100: 1 | Z100: 0 | AA100: 0 | AB100: 0 | AC100: 0 | AD100: 39.4 | AE100: - | AF100: 9 | AG100: 100 | AH100: 9 | AI100: 100 | AJ100: 3 | AK100: 33.33 | AL100: - | AM100: 5.6 | AN100: 31.3
A101: 2145 | B101: 8 | C101: 0 | D101: 8 | E101: 0 | F101: 0 | G101: 0 | H101: 0 | I101: 0 | J101: 0 | K101: 0 | L101: 0 | N101: 2145 | O101: 0 | P101: 0 | Q101: 0 | R101: 0 | S101: 0 | T101: 0 | U101: 1 | V101: 2 | W101: 3 | X101: 1 | Y101: 0 | Z101: 1 | AA101: 0 | AB101: 0 | AC101: 0 | AD101: 42.6 | AE101: - | AF101: 8 | AG101: 100 | AH101: 8 | AI101: 100 | AJ101: 5 | AK101: 62.5 | AL101: - | AM101: 6.4 | AN101: 41.2
A102: 2200 | B102: 7 | C102: 0 | D102: 6 | E102: 0 | F102: 1 | G102: 0 | H102: 0 | I102: 0 | J102: 0 | K102: 0 | L102: 0 | N102: 2200 | O102: 0 | P102: 0 | Q102: 0 | R102: 0 | S102: 0 | T102: 0 | U102: 0 | V102: 2 | W102: 2 | X102: 2 | Y102: 1 | Z102: 0 | AA102: 0 | AB102: 0 | AC102: 0 | AD102: 43.5 | AE102: - | AF102: 7 | AG102: 100 | AH102: 7 | AI102: 100 | AJ102: 5 | AK102: 71.43 | AL102: - | AM102: 4.4 | AN102: 19.1
A103: 2215 | B103: 9 | C103: 0 | D103: 9 | E103: 0 | F103: 0 | G103: 0 | H103: 0 | I103: 0 | J103: 0 | K103: 0 | L103: 0 | N103: 2215 | O103: 0 | P103: 0 | Q103: 0 | R103: 0 | S103: 0 | T103: 0 | U103: 2 | V103: 1 | W103: 2 | X103: 1 | Y103: 2 | Z103: 0 | AA103: 1 | AB103: 0 | AC103: 0 | AD103: 45.2 | AE103: - | AF103: 9 | AG103: 100 | AH103: 9 | AI103: 100 | AJ103: 6 | AK103: 66.67 | AL103: - | AM103: 10 | AN103: 100.6
A104: 2230 | B104: 5 | C104: 0 | D104: 5 | E104: 0 | F104: 0 | G104: 0 | H104: 0 | I104: 0 | J104: 0 | K104: 0 | L104: 0 | N104: 2230 | O104: 0 | P104: 0 | Q104: 0 | R104: 0 | S104: 0 | T104: 0 | U104: 1 | V104: 1 | W104: 0 | X104: 1 | Y104: 2 | Z104: 0 | AA104: 0 | AB104: 0 | AC104: 0 | AD104: 44.6 | AE104: - | AF104: 5 | AG104: 100 | AH104: 5 | AI104: 100 | AJ104: 3 | AK104: 60 | AL104: - | AM104: 7.6 | AN104: 57.6
A105: 2245 | B105: 4 | C105: 0 | D105: 4 | E105: 0 | F105: 0 | G105: 0 | H105: 0 | I105: 0 | J105: 0 | K105: 0 | L105: 0 | N105: 2245 | O105: 0 | P105: 0 | Q105: 0 | R105: 0 | S105: 0 | T105: 0 | U105: 1 | V105: 1 | W105: 0 | X105: 1 | Y105: 0 | Z105: 1 | AA105: 0 | AB105: 0 | AC105: 0 | AD105: 43.5 | AE105: - | AF105: 4 | AG105: 100 | AH105: 4 | AI105: 100 | AJ105: 2 | AK105: 50 | AL105: - | AM105: 12.5 | AN105: 156.6
A106: 2300 | B106: 4 | C106: 0 | D106: 4 | E106: 0 | F106: 0 | G106: 0 | H106: 0 | I106: 0 | J106: 0 | K106: 0 | L106: 0 | N106: 2300 | O106: 0 | P106: 0 | Q106: 0 | R106: 0 | S106: 0 | T106: 0 | U106: 0 | V106: 2 | W106: 1 | X106: 0 | Y106: 0 | Z106: 0 | AA106: 1 | AB106: 0 | AC106: 0 | AD106: 46.3 | AE106: - | AF106: 4 | AG106: 100 | AH106: 4 | AI106: 100 | AJ106: 2 | AK106: 50 | AL106: - | AM106: 11.9 | AN106: 141
A107: 2315 | B107: 5 | C107: 1 | D107: 3 | E107: 0 | F107: 1 | G107: 0 | H107: 0 | I107: 0 | J107: 0 | K107: 0 | L107: 0 | N107: 2315 | O107: 0 | P107: 0 | Q107: 0 | R107: 0 | S107: 0 | T107: 0 | U107: 0 | V107: 2 | W107: 0 | X107: 2 | Y107: 1 | Z107: 0 | AA107: 0 | AB107: 0 | AC107: 0 | AD107: 44.4 | AE107: - | AF107: 5 | AG107: 100 | AH107: 5 | AI107: 100 | AJ107: 3 | AK107: 60 | AL107: - | AM107: 6.5 | AN107: 42.9
A108: 2330 | B108: 5 | C108: 0 | D108: 4 | E108: 0 | F108: 1 | G108: 0 | H108: 0 | I108: 0 | J108: 0 | K108: 0 | L108: 0 | N108: 2330 | O108: 0 | P108: 0 | Q108: 0 | R108: 0 | S108: 0 | T108: 0 | U108: 1 | V108: 1 | W108: 2 | X108: 0 | Y108: 0 | Z108: 0 | AA108: 1 | AB108: 0 | AC108: 0 | AD108: 43.1 | AE108: - | AF108: 5 | AG108: 100 | AH108: 5 | AI108: 100 | AJ108: 3 | AK108: 60 | AL108: - | AM108: 10.1 | AN108: 102.6
A109: 2345 | B109: 1 | C109: 0 | D109: 1 | E109: 0 | F109: 0 | G109: 0 | H109: 0 | I109: 0 | J109: 0 | K109: 0 | L109: 0 | N109: 2345 | O109: 0 | P109: 0 | Q109: 0 | R109: 0 | S109: 0 | T109: 0 | U109: 0 | V109: 0 | W109: 0 | X109: 1 | Y109: 0 | Z109: 0 | AA109: 0 | AB109: 0 | AC109: 0 | AD109: 47.7 | AE109: - | AF109: 1 | AG109: 100 | AH109: 1 | AI109: 100 | AJ109: 1 | AK109: 100 | AL109: - | AM109: - | AN109: -
A110: 07-19 | B110: 2934 | C110: 44 | D110: 2649 | E110: 12 | F110: 220 | G110: 2 | H110: 1 | I110: 0 | J110: 3 | K110: 1 | L110: 2 | N110: 07-19 | O110: 0 | P110: 0 | Q110: 2 | R110: 15 | S110: 17 | T110: 36 | U110: 193 | V110: 1056 | W110: 1067 | X110: 378 | Y110: 118 | Z110: 35 | AA110: 9 | AB110: 5 | AC110: 3 | AD110: 41 | AE110: 45.9 | AF110: 2917 | AG110: 99.42 | AH110: 2864 | AI110: 97.61 | AJ110: 1615 | AK110: 55.04 | AL110: 40.6 | AM110: 5.7 | AN110: 32.9
A111: 06-22 | B111: 3295 | C111: 53 | D111: 2985 | E111: 12 | F111: 235 | G111: 2 | H111: 1 | I111: 0 | J111: 3 | K111: 2 | L111: 2 | N111: 06-22 | O111: 0 | P111: 0 | Q111: 3 | R111: 15 | S111: 18 | T111: 37 | U111: 212 | V111: 1156 | W111: 1185 | X111: 451 | Y111: 147 | Z111: 47 | AA111: 15 | AB111: 5 | AC111: 4 | AD111: 41.2 | AE111: 46.2 | AF111: 3277 | AG111: 99.45 | AH111: 3222 | AI111: 97.78 | AJ111: 1854 | AK111: 56.27 | AL111: 40.8 | AM111: 5.9 | AN111: 34.8
A112: 06-00 | B112: 3335 | C112: 54 | D112: 3021 | E112: 12 | F112: 238 | G112: 2 | H112: 1 | I112: 0 | J112: 3 | K112: 2 | L112: 2 | N112: 06-00 | O112: 0 | P112: 0 | Q112: 3 | R112: 15 | S112: 18 | T112: 37 | U112: 217 | V112: 1166 | W112: 1192 | X112: 459 | Y112: 153 | Z112: 48 | AA112: 18 | AB112: 5 | AC112: 4 | AD112: 41.3 | AE112: 46.3 | AF112: 3317 | AG112: 99.46 | AH112: 3262 | AI112: 97.81 | AJ112: 1879 | AK112: 56.34 | AL112: 40.8 | AM112: 5.9 | AN112: 35.3
A113: 00-00 | B113: 3365 | C113: 55 | D113: 3046 | E113: 12 | F113: 242 | G113: 2 | H113: 1 | I113: 0 | J113: 3 | K113: 2 | L113: 2 | N113: 00-00 | O113: 0 | P113: 0 | Q113: 3 | R113: 16 | S113: 18 | T113: 39 | U113: 217 | V113: 1169 | W113: 1201 | X113: 466 | Y113: 158 | Z113: 50 | AA113: 18 | AB113: 5 | AC113: 5 | AD113: 41.3 | AE113: 46.5 | AF113: 3346 | AG113: 99.44 | AH113: 3289 | AI113: 97.74 | AJ113: 1903 | AK113: 56.55 | AL113: 40.8 | AM113: 6 | AN113: 36.1
A116: 23 September 2022
A118: Time | B118: Total | C118: Cls | D118: Cls | E118: Cls | F118: Cls | G118: Cls | H118: Cls | I118: Cls | J118: Cls | K118: Cls | L118: Cls | M118: Fix1 | N118: Time | O118: Vbin | P118: Vbin | Q118: Vbin | R118: Vbin | S118: Vbin | T118: Vbin | U118: Vbin | V118: Vbin | W118: Vbin | X118: Vbin | Y118: Vbin | Z118: Vbin | AA118: Vbin | AB118: Vbin | AC118: Vbin | AD118: Mean | AE118: Vpp | AF118: ]SL1 | AG118: ]SL1% | AH118: ]PSL | AI118: ]PSL% | AJ118: ]SL2 | AK118: ]SL2% | AL118: V50 | AM118: SD | AN118: Var | AO118: Fix1
C119: 1 | D119: 2 | E119: 3 | F119: 4 | G119: 5 | H119: 6 | I119: 7 | J119: 8 | K119: 9 | L119: 10 | O119: 0 | P119: 5 | Q119: 10 | R119: 15 | S119: 20 | T119: 25 | U119: 30 | V119: 35 | W119: 40 | X119: 45 | Y119: 50 | Z119: 55 | AA119: 60 | AB119: 65 | AC119: 70 | AE119: 85 | AF119: 20 | AG119: 20 | AH119: 30 | AI119: 30 | AJ119: 40 | AK119: 40
O120: 5 | P120: 10 | Q120: 15 | R120: 20 | S120: 25 | T120: 30 | U120: 35 | V120: 40 | W120: 45 | X120: 50 | Y120: 55 | Z120: 60 | AA120: 65 | AB120: 70 | AC120: 130
A121: 0000 | B121: 5 | C121: 0 | D121: 5 | E121: 0 | F121: 0 | G121: 0 | H121: 0 | I121: 0 | J121: 0 | K121: 0 | L121: 0 | N121: 0000 | O121: 0 | P121: 0 | Q121: 0 | R121: 0 | S121: 0 | T121: 0 | U121: 0 | V121: 0 | W121: 1 | X121: 2 | Y121: 1 | Z121: 0 | AA121: 1 | AB121: 0 | AC121: 0 | AD121: 49.2 | AE121: - | AF121: 5 | AG121: 100 | AH121: 5 | AI121: 100 | AJ121: 5 | AK121: 100 | AL121: - | AM121: 8.3 | AN121: 68.4
A122: 0015 | B122: 1 | C122: 0 | D122: 1 | E122: 0 | F122: 0 | G122: 0 | H122: 0 | I122: 0 | J122: 0 | K122: 0 | L122: 0 | N122: 0015 | O122: 0 | P122: 0 | Q122: 0 | R122: 0 | S122: 0 | T122: 0 | U122: 0 | V122: 0 | W122: 0 | X122: 0 | Y122: 0 | Z122: 1 | AA122: 0 | AB122: 0 | AC122: 0 | AD122: 59.8 | AE122: - | AF122: 1 | AG122: 100 | AH122: 1 | AI122: 100 | AJ122: 1 | AK122: 100 | AL122: - | AM122: - | AN122: -
A123: 0030 | B123: 0 | C123: 0 | D123: 0 | E123: 0 | F123: 0 | G123: 0 | H123: 0 | I123: 0 | J123: 0 | K123: 0 | L123: 0 | N123: 0030 | O123: 0 | P123: 0 | Q123: 0 | R123: 0 | S123: 0 | T123: 0 | U123: 0 | V123: 0 | W123: 0 | X123: 0 | Y123: 0 | Z123: 0 | AA123: 0 | AB123: 0 | AC123: 0 | AD123: - | AE123: - | AF123: 0 | AG123: 0 | AH123: 0 | AI123: 0 | AJ123: 0 | AK123: 0 | AL123: - | AM123: - | AN123: -
A124: 0045 | B124: 1 | C124: 0 | D124: 1 | E124: 0 | F124: 0 | G124: 0 | H124: 0 | I124: 0 | J124: 0 | K124: 0 | L124: 0 | N124: 0045 | O124: 0 | P124: 0 | Q124: 0 | R124: 0 | S124: 1 | T124: 0 | U124: 0 | V124: 0 | W124: 0 | X124: 0 | Y124: 0 | Z124: 0 | AA124: 0 | AB124: 0 | AC124: 0 | AD124: 21.3 | AE124: - | AF124: 1 | AG124: 100 | AH124: 0 | AI124: 0 | AJ124: 0 | AK124: 0 | AL124: - | AM124: - | AN124: -
A125: 0100 | B125: 0 | C125: 0 | D125: 0 | E125: 0 | F125: 0 | G125: 0 | H125: 0 | I125: 0 | J125: 0 | K125: 0 | L125: 0 | N125: 0100 | O125: 0 | P125: 0 | Q125: 0 | R125: 0 | S125: 0 | T125: 0 | U125: 0 | V125: 0 | W125: 0 | X125: 0 | Y125: 0 | Z125: 0 | AA125: 0 | AB125: 0 | AC125: 0 | AD125: - | AE125: - | AF125: 0 | AG125: 0 | AH125: 0 | AI125: 0 | AJ125: 0 | AK125: 0 | AL125: - | AM125: - | AN125: -
A126: 0115 | B126: 1 | C126: 0 | D126: 1 | E126: 0 | F126: 0 | G126: 0 | H126: 0 | I126: 0 | J126: 0 | K126: 0 | L126: 0 | N126: 0115 | O126: 0 | P126: 0 | Q126: 0 | R126: 0 | S126: 0 | T126: 0 | U126: 0 | V126: 0 | W126: 0 | X126: 1 | Y126: 0 | Z126: 0 | AA126: 0 | AB126: 0 | AC126: 0 | AD126: 48.2 | AE126: - | AF126: 1 | AG126: 100 | AH126: 1 | AI126: 100 | AJ126: 1 | AK126: 100 | AL126: - | AM126: - | AN126: -
A127: 0130 | B127: 0 | C127: 0 | D127: 0 | E127: 0 | F127: 0 | G127: 0 | H127: 0 | I127: 0 | J127: 0 | K127: 0 | L127: 0 | N127: 0130 | O127: 0 | P127: 0 | Q127: 0 | R127: 0 | S127: 0 | T127: 0 | U127: 0 | V127: 0 | W127: 0 | X127: 0 | Y127: 0 | Z127: 0 | AA127: 0 | AB127: 0 | AC127: 0 | AD127: - | AE127: - | AF127: 0 | AG127: 0 | AH127: 0 | AI127: 0 | AJ127: 0 | AK127: 0 | AL127: - | AM127: - | AN127: -
A128: 0145 | B128: 1 | C128: 0 | D128: 1 | E128: 0 | F128: 0 | G128: 0 | H128: 0 | I128: 0 | J128: 0 | K128: 0 | L128: 0 | N128: 0145 | O128: 0 | P128: 0 | Q128: 0 | R128: 0 | S128: 0 | T128: 0 | U128: 0 | V128: 1 | W128: 0 | X128: 0 | Y128: 0 | Z128: 0 | AA128: 0 | AB128: 0 | AC128: 0 | AD128: 35.7 | AE128: - | AF128: 1 | AG128: 100 | AH128: 1 | AI128: 100 | AJ128: 0 | AK128: 0 | AL128: - | AM128: - | AN128: -
A129: 0200 | B129: 1 | C129: 0 | D129: 1 | E129: 0 | F129: 0 | G129: 0 | H129: 0 | I129: 0 | J129: 0 | K129: 0 | L129: 0 | N129: 0200 | O129: 0 | P129: 0 | Q129: 0 | R129: 0 | S129: 0 | T129: 0 | U129: 0 | V129: 1 | W129: 0 | X129: 0 | Y129: 0 | Z129: 0 | AA129: 0 | AB129: 0 | AC129: 0 | AD129: 38.7 | AE129: - | AF129: 1 | AG129: 100 | AH129: 1 | AI129: 100 | AJ129: 0 | AK129: 0 | AL129: - | AM129: - | AN129: -
A130: 0215 | B130: 0 | C130: 0 | D130: 0 | E130: 0 | F130: 0 | G130: 0 | H130: 0 | I130: 0 | J130: 0 | K130: 0 | L130: 0 | N130: 0215 | O130: 0 | P130: 0 | Q130: 0 | R130: 0 | S130: 0 | T130: 0 | U130: 0 | V130: 0 | W130: 0 | X130: 0 | Y130: 0 | Z130: 0 | AA130: 0 | AB130: 0 | AC130: 0 | AD130: - | AE130: - | AF130: 0 | AG130: 0 | AH130: 0 | AI130: 0 | AJ130: 0 | AK130: 0 | AL130: - | AM130: - | AN130: -
A131: 0230 | B131: 0 | C131: 0 | D131: 0 | E131: 0 | F131: 0 | G131: 0 | H131: 0 | I131: 0 | J131: 0 | K131: 0 | L131: 0 | N131: 0230 | O131: 0 | P131: 0 | Q131: 0 | R131: 0 | S131: 0 | T131: 0 | U131: 0 | V131: 0 | W131: 0 | X131: 0 | Y131: 0 | Z131: 0 | AA131: 0 | AB131: 0 | AC131: 0 | AD131: - | AE131: - | AF131: 0 | AG131: 0 | AH131: 0 | AI131: 0 | AJ131: 0 | AK131: 0 | AL131: - | AM131: - | AN131: -
A132: 0245 | B132: 0 | C132: 0 | D132: 0 | E132: 0 | F132: 0 | G132: 0 | H132: 0 | I132: 0 | J132: 0 | K132: 0 | L132: 0 | N132: 0245 | O132: 0 | P132: 0 | Q132: 0 | R132: 0 | S132: 0 | T132: 0 | U132: 0 | V132: 0 | W132: 0 | X132: 0 | Y132: 0 | Z132: 0 | AA132: 0 | AB132: 0 | AC132: 0 | AD132: - | AE132: - | AF132: 0 | AG132: 0 | AH132: 0 | AI132: 0 | AJ132: 0 | AK132: 0 | AL132: - | AM132: - | AN132: -
A133: 0300 | B133: 0 | C133: 0 | D133: 0 | E133: 0 | F133: 0 | G133: 0 | H133: 0 | I133: 0 | J133: 0 | K133: 0 | L133: 0 | N133: 0300 | O133: 0 | P133: 0 | Q133: 0 | R133: 0 | S133: 0 | T133: 0 | U133: 0 | V133: 0 | W133: 0 | X133: 0 | Y133: 0 | Z133: 0 | AA133: 0 | AB133: 0 | AC133: 0 | AD133: - | AE133: - | AF133: 0 | AG133: 0 | AH133: 0 | AI133: 0 | AJ133: 0 | AK133: 0 | AL133: - | AM133: - | AN133: -
A134: 0315 | B134: 0 | C134: 0 | D134: 0 | E134: 0 | F134: 0 | G134: 0 | H134: 0 | I134: 0 | J134: 0 | K134: 0 | L134: 0 | N134: 0315 | O134: 0 | P134: 0 | Q134: 0 | R134: 0 | S134: 0 | T134: 0 | U134: 0 | V134: 0 | W134: 0 | X134: 0 | Y134: 0 | Z134: 0 | AA134: 0 | AB134: 0 | AC134: 0 | AD134: - | AE134: - | AF134: 0 | AG134: 0 | AH134: 0 | AI134: 0 | AJ134: 0 | AK134: 0 | AL134: - | AM134: - | AN134: -
A135: 0330 | B135: 1 | C135: 0 | D135: 1 | E135: 0 | F135: 0 | G135: 0 | H135: 0 | I135: 0 | J135: 0 | K135: 0 | L135: 0 | N135: 0330 | O135: 0 | P135: 0 | Q135: 0 | R135: 0 | S135: 0 | T135: 0 | U135: 0 | V135: 0 | W135: 0 | X135: 0 | Y135: 0 | Z135: 0 | AA135: 1 | AB135: 0 | AC135: 0 | AD135: 63.7 | AE135: - | AF135: 1 | AG135: 100 | AH135: 1 | AI135: 100 | AJ135: 1 | AK135: 100 | AL135: - | AM135: - | AN135: -
A136: 0345 | B136: 0 | C136: 0 | D136: 0 | E136: 0 | F136: 0 | G136: 0 | H136: 0 | I136: 0 | J136: 0 | K136: 0 | L136: 0 | N136: 0345 | O136: 0 | P136: 0 | Q136: 0 | R136: 0 | S136: 0 | T136: 0 | U136: 0 | V136: 0 | W136: 0 | X136: 0 | Y136: 0 | Z136: 0 | AA136: 0 | AB136: 0 | AC136: 0 | AD136: - | AE136: - | AF136: 0 | AG136: 0 | AH136: 0 | AI136: 0 | AJ136: 0 | AK136: 0 | AL136: - | AM136: - | AN136: -
A137: 0400 | B137: 1 | C137: 0 | D137: 1 | E137: 0 | F137: 0 | G137: 0 | H137: 0 | I137: 0 | J137: 0 | K137: 0 | L137: 0 | N137: 0400 | O137: 0 | P137: 0 | Q137: 0 | R137: 0 | S137: 0 | T137: 0 | U137: 0 | V137: 0 | W137: 0 | X137: 1 | Y137: 0 | Z137: 0 | AA137: 0 | AB137: 0 | AC137: 0 | AD137: 46.2 | AE137: - | AF137: 1 | AG137: 100 | AH137: 1 | AI137: 100 | AJ137: 1 | AK137: 100 | AL137: - | AM137: - | AN137: -
A138: 0415 | B138: 0 | C138: 0 | D138: 0 | E138: 0 | F138: 0 | G138: 0 | H138: 0 | I138: 0 | J138: 0 | K138: 0 | L138: 0 | N138: 0415 | O138: 0 | P138: 0 | Q138: 0 | R138: 0 | S138: 0 | T138: 0 | U138: 0 | V138: 0 | W138: 0 | X138: 0 | Y138: 0 | Z138: 0 | AA138: 0 | AB138: 0 | AC138: 0 | AD138: - | AE138: - | AF138: 0 | AG138: 0 | AH138: 0 | AI138: 0 | AJ138: 0 | AK138: 0 | AL138: - | AM138: - | AN138: -
A139: 0430 | B139: 0 | C139: 0 | D139: 0 | E139: 0 | F139: 0 | G139: 0 | H139: 0 | I139: 0 | J139: 0 | K139: 0 | L139: 0 | N139: 0430 | O139: 0 | P139: 0 | Q139: 0 | R139: 0 | S139: 0 | T139: 0 | U139: 0 | V139: 0 | W139: 0 | X139: 0 | Y139: 0 | Z139: 0 | AA139: 0 | AB139: 0 | AC139: 0 | AD139: - | AE139: - | AF139: 0 | AG139: 0 | AH139: 0 | AI139: 0 | AJ139: 0 | AK139: 0 | AL139: - | AM139: - | AN139: -
A140: 0445 | B140: 1 | C140: 0 | D140: 1 | E140: 0 | F140: 0 | G140: 0 | H140: 0 | I140: 0 | J140: 0 | K140: 0 | L140: 0 | N140: 0445 | O140: 0 | P140: 0 | Q140: 0 | R140: 0 | S140: 0 | T140: 0 | U140: 0 | V140: 0 | W140: 0 | X140: 1 | Y140: 0 | Z140: 0 | AA140: 0 | AB140: 0 | AC140: 0 | AD140: 46.2 | AE140: - | AF140: 1 | AG140: 100 | AH140: 1 | AI140: 100 | AJ140: 1 | AK140: 100 | AL140: - | AM140: - | AN140: -
A141: 0500 | B141: 3 | C141: 1 | D141: 2 | E141: 0 | F141: 0 | G141: 0 | H141: 0 | I141: 0 | J141: 0 | K141: 0 | L141: 0 | N141: 0500 | O141: 0 | P141: 0 | Q141: 0 | R141: 1 | S141: 0 | T141: 0 | U141: 0 | V141: 0 | W141: 0 | X141: 2 | Y141: 0 | Z141: 0 | AA141: 0 | AB141: 0 | AC141: 0 | AD141: 38.8 | AE141: - | AF141: 2 | AG141: 66.67 | AH141: 2 | AI141: 66.67 | AJ141: 2 | AK141: 66.67 | AL141: - | AM141: 17.6 | AN141: 311.2
A142: 0515 | B142: 4 | C142: 0 | D142: 3 | E142: 0 | F142: 1 | G142: 0 | H142: 0 | I142: 0 | J142: 0 | K142: 0 | L142: 0 | N142: 0515 | O142: 0 | P142: 0 | Q142: 0 | R142: 0 | S142: 0 | T142: 0 | U142: 0 | V142: 1 | W142: 1 | X142: 0 | Y142: 1 | Z142: 1 | AA142: 0 | AB142: 0 | AC142: 0 | AD142: 48.4 | AE142: - | AF142: 4 | AG142: 100 | AH142: 4 | AI142: 100 | AJ142: 3 | AK142: 75 | AL142: - | AM142: 10.8 | AN142: 116.2
A143: 0530 | B143: 4 | C143: 0 | D143: 3 | E143: 0 | F143: 1 | G143: 0 | H143: 0 | I143: 0 | J143: 0 | K143: 0 | L143: 0 | N143: 0530 | O143: 0 | P143: 0 | Q143: 0 | R143: 0 | S143: 0 | T143: 0 | U143: 1 | V143: 0 | W143: 0 | X143: 0 | Y143: 3 | Z143: 0 | AA143: 0 | AB143: 0 | AC143: 0 | AD143: 48.2 | AE143: - | AF143: 4 | AG143: 100 | AH143: 4 | AI143: 100 | AJ143: 3 | AK143: 75 | AL143: - | AM143: 9.2 | AN143: 83.9
A144: 0545 | B144: 10 | C144: 1 | D144: 6 | E144: 0 | F144: 3 | G144: 0 | H144: 0 | I144: 0 | J144: 0 | K144: 0 | L144: 0 | N144: 0545 | O144: 0 | P144: 0 | Q144: 0 | R144: 1 | S144: 0 | T144: 0 | U144: 1 | V144: 3 | W144: 1 | X144: 2 | Y144: 1 | Z144: 1 | AA144: 0 | AB144: 0 | AC144: 0 | AD144: 41.2 | AE144: - | AF144: 9 | AG144: 90 | AH144: 9 | AI144: 90 | AJ144: 5 | AK144: 50 | AL144: - | AM144: 11.9 | AN144: 141.6
A145: 0600 | B145: 7 | C145: 0 | D145: 6 | E145: 0 | F145: 1 | G145: 0 | H145: 0 | I145: 0 | J145: 0 | K145: 0 | L145: 0 | N145: 0600 | O145: 0 | P145: 0 | Q145: 0 | R145: 0 | S145: 0 | T145: 0 | U145: 1 | V145: 1 | W145: 2 | X145: 2 | Y145: 1 | Z145: 0 | AA145: 0 | AB145: 0 | AC145: 0 | AD145: 43.2 | AE145: - | AF145: 7 | AG145: 100 | AH145: 7 | AI145: 100 | AJ145: 5 | AK145: 71.43 | AL145: - | AM145: 6.4 | AN145: 40.5
A146: 0615 | B146: 17 | C146: 0 | D146: 15 | E146: 0 | F146: 2 | G146: 0 | H146: 0 | I146: 0 | J146: 0 | K146: 0 | L146: 0 | N146: 0615 | O146: 0 | P146: 0 | Q146: 0 | R146: 0 | S146: 0 | T146: 0 | U146: 2 | V146: 4 | W146: 7 | X146: 2 | Y146: 2 | Z146: 0 | AA146: 0 | AB146: 0 | AC146: 0 | AD146: 42.8 | AE146: 50.5 | AF146: 17 | AG146: 100 | AH146: 17 | AI146: 100 | AJ146: 11 | AK146: 64.71 | AL146: 42.4 | AM146: 5.6 | AN146: 31.4
A147: 0630 | B147: 18 | C147: 1 | D147: 16 | E147: 0 | F147: 1 | G147: 0 | H147: 0 | I147: 0 | J147: 0 | K147: 0 | L147: 0 | N147: 0630 | O147: 0 | P147: 0 | Q147: 0 | R147: 0 | S147: 0 | T147: 0 | U147: 0 | V147: 1 | W147: 8 | X147: 6 | Y147: 3 | Z147: 0 | AA147: 0 | AB147: 0 | AC147: 0 | AD147: 45.1 | AE147: 50.5 | AF147: 18 | AG147: 100 | AH147: 18 | AI147: 100 | AJ147: 17 | AK147: 94.44 | AL147: 44.9 | AM147: 3.7 | AN147: 13.5
A148: 0645 | B148: 29 | C148: 0 | D148: 23 | E148: 0 | F148: 6 | G148: 0 | H148: 0 | I148: 0 | J148: 0 | K148: 0 | L148: 0 | N148: 0645 | O148: 0 | P148: 0 | Q148: 0 | R148: 0 | S148: 0 | T148: 0 | U148: 2 | V148: 8 | W148: 9 | X148: 8 | Y148: 1 | Z148: 1 | AA148: 0 | AB148: 0 | AC148: 0 | AD148: 42.8 | AE148: 48.1 | AF148: 29 | AG148: 100 | AH148: 29 | AI148: 100 | AJ148: 19 | AK148: 65.52 | AL148: 42.1 | AM148: 5.6 | AN148: 31.8
A149: 0700 | B149: 35 | C149: 1 | D149: 30 | E149: 0 | F149: 4 | G149: 0 | H149: 0 | I149: 0 | J149: 0 | K149: 0 | L149: 0 | N149: 0700 | O149: 0 | P149: 0 | Q149: 0 | R149: 1 | S149: 0 | T149: 0 | U149: 1 | V149: 11 | W149: 11 | X149: 6 | Y149: 2 | Z149: 2 | AA149: 1 | AB149: 0 | AC149: 0 | AD149: 42.9 | AE149: 51.3 | AF149: 34 | AG149: 97.14 | AH149: 34 | AI149: 97.14 | AJ149: 22 | AK149: 62.86 | AL149: 42.4 | AM149: 8 | AN149: 63.7
A150: 0715 | B150: 45 | C150: 2 | D150: 35 | E150: 1 | F150: 6 | G150: 0 | H150: 0 | I150: 0 | J150: 0 | K150: 0 | L150: 1 | N150: 0715 | O150: 0 | P150: 0 | Q150: 0 | R150: 1 | S150: 0 | T150: 0 | U150: 1 | V150: 15 | W150: 17 | X150: 5 | Y150: 4 | Z150: 1 | AA150: 0 | AB150: 1 | AC150: 0 | AD150: 42.2 | AE150: 49.4 | AF150: 44 | AG150: 97.78 | AH150: 44 | AI150: 97.78 | AJ150: 28 | AK150: 62.22 | AL150: 40.7 | AM150: 7.5 | AN150: 56.7
A151: 0730 | B151: 61 | C151: 0 | D151: 56 | E151: 0 | F151: 5 | G151: 0 | H151: 0 | I151: 0 | J151: 0 | K151: 0 | L151: 0 | N151: 0730 | O151: 0 | P151: 0 | Q151: 0 | R151: 0 | S151: 0 | T151: 0 | U151: 14 | V151: 21 | W151: 18 | X151: 5 | Y151: 2 | Z151: 1 | AA151: 0 | AB151: 0 | AC151: 0 | AD151: 39.5 | AE151: 44.4 | AF151: 61 | AG151: 100 | AH151: 61 | AI151: 100 | AJ151: 26 | AK151: 42.62 | AL151: 38.3 | AM151: 5.1 | AN151: 26.4
A152: 0745 | B152: 77 | C152: 0 | D152: 69 | E152: 0 | F152: 8 | G152: 0 | H152: 0 | I152: 0 | J152: 0 | K152: 0 | L152: 0 | N152: 0745 | O152: 0 | P152: 0 | Q152: 0 | R152: 0 | S152: 0 | T152: 0 | U152: 8 | V152: 29 | W152: 25 | X152: 14 | Y152: 1 | Z152: 0 | AA152: 0 | AB152: 0 | AC152: 0 | AD152: 40.6 | AE152: 45.7 | AF152: 77 | AG152: 100 | AH152: 77 | AI152: 100 | AJ152: 40 | AK152: 51.95 | AL152: 40.2 | AM152: 4.3 | AN152: 18.1
A153: 0800 | B153: 77 | C153: 0 | D153: 70 | E153: 0 | F153: 6 | G153: 1 | H153: 0 | I153: 0 | J153: 0 | K153: 0 | L153: 0 | N153: 0800 | O153: 0 | P153: 0 | Q153: 0 | R153: 0 | S153: 0 | T153: 0 | U153: 2 | V153: 33 | W153: 33 | X153: 5 | Y153: 1 | Z153: 2 | AA153: 1 | AB153: 0 | AC153: 0 | AD153: 41.4 | AE153: 44.2 | AF153: 77 | AG153: 100 | AH153: 77 | AI153: 100 | AJ153: 42 | AK153: 54.55 | AL153: 40.2 | AM153: 4.9 | AN153: 24.1
A154: 0815 | B154: 77 | C154: 0 | D154: 64 | E154: 0 | F154: 10 | G154: 1 | H154: 0 | I154: 0 | J154: 0 | K154: 0 | L154: 2 | N154: 0815 | O154: 0 | P154: 0 | Q154: 0 | R154: 0 | S154: 2 | T154: 0 | U154: 8 | V154: 27 | W154: 33 | X154: 4 | Y154: 3 | Z154: 0 | AA154: 0 | AB154: 0 | AC154: 0 | AD154: 40 | AE154: 44.1 | AF154: 77 | AG154: 100 | AH154: 75 | AI154: 97.4 | AJ154: 40 | AK154: 51.95 | AL154: 40 | AM154: 5 | AN154: 25.4
A155: 0830 | B155: 84 | C155: 1 | D155: 73 | E155: 0 | F155: 10 | G155: 0 | H155: 0 | I155: 0 | J155: 0 | K155: 0 | L155: 0 | N155: 0830 | O155: 0 | P155: 0 | Q155: 0 | R155: 1 | S155: 0 | T155: 1 | U155: 5 | V155: 26 | W155: 35 | X155: 10 | Y155: 3 | Z155: 3 | AA155: 0 | AB155: 0 | AC155: 0 | AD155: 41.4 | AE155: 47.5 | AF155: 83 | AG155: 98.81 | AH155: 82 | AI155: 97.62 | AJ155: 51 | AK155: 60.71 | AL155: 41 | AM155: 6 | AN155: 35.6
A156: 0845 | B156: 70 | C156: 0 | D156: 61 | E156: 0 | F156: 6 | G156: 1 | H156: 0 | I156: 1 | J156: 0 | K156: 0 | L156: 1 | N156: 0845 | O156: 0 | P156: 0 | Q156: 0 | R156: 0 | S156: 0 | T156: 3 | U156: 5 | V156: 26 | W156: 23 | X156: 8 | Y156: 4 | Z156: 1 | AA156: 0 | AB156: 0 | AC156: 0 | AD156: 40.6 | AE156: 46.6 | AF156: 70 | AG156: 100 | AH156: 67 | AI156: 95.71 | AJ156: 36 | AK156: 51.43 | AL156: 40.3 | AM156: 5.8 | AN156: 34
...

Sheet Westbound Chart
A1: TSP Class Profile All Days 15 Mins
A3: ='Westbound Data'!A3 -> Report Id - CustomList-237 | F3: WEEK 1
A4: ='Westbound Data'!A4 -> Site Name - TSP15103-02
A5: ='Westbound Data'!A5 -> Description - FOREST ROAD [30M]
A6: ='Westbound Data'!A6 -> Direction - West
A43: Average Speed
A44: Virtual Week Total Vehicle Flow
A45: 85th Percentile speed
A46: ='Westbound Data'!A9 -> 22 September 2022 | C46: Total Vehicle Flow
A83: ='Westbound Data'!A116 -> 23 September 2022
A120: ='Westbound Data'!A223 -> 24 September 2022
A157: ='Westbound Data'!A330 -> 25 September 2022
A194: ='Westbound Data'!A437 -> 26 September 2022
A231: ='Westbound Data'!A544 -> 27 September 2022
A268: ='Westbound Data'!A651 -> 28 September 2022

Sheet ARX Classifications
A1: Automatic Traffic Counts Classification Scheme
A3: Length | B3: Axles & Groups | D3: Vehicle Type | E3: ARX Classification
A4: Type | B4: Axles | C4: Groups | D4: Description | E4: Class | G4: Parameters | H4: Dominant Vechicle
A5: Short up to 5.5m | B5: Light Vehicles
B6: 2 | C6: 1 or 2 | D6: Very Short | E6: MC | F6: 1 | G6: d(1) < 1.7 and axles = 2
D7: Bicycle or Motorcycle
B8: 2 | C8: 1 or 2 | D8: Short | E8: SV | F8: 2 | G8: d(1) > 1.7m. d(1) < = 3.2m and axles = 2
D9: Saloon, Hatchback, Estate, 4WD, Pick-Up, Light Van, Bicycle, Motorcycle, etc.
A10: Medium 5.5m to 14.5m | B10: 3, 4 or 5 | C10: 3 | D10: Short - Towing | E10: SVT | F10: 3 | G10: groups = 3, d(1) > 2.1m. d(1) < = 3.2m. d(2) > = 2.1m and axles = 3,4,5
D11: Trailer, Caravan, Boat, etc.
B12: Heavy Vehicles
B13: 2 | C13: 2 | D13: Two Axle Truck or Bus | E13: TB2 | F13: 4 | G13: d(1) > 3.2m and axles = 2
B14: 3 | C14: 2 | D14: Three Axle Truck or Bus | E14: TB3 | F14: 5 | G14: axles = 3 and groups = 2
B15: > 3 | C15: 2 | D15: Four Axle Truck | E15: T4 | F15: 6 | G15: d(1) > 3.2m. axles = 3 and groups = 3
A16: Long 11.5m to 19.0m | B16: 3 | C16: 3 | D16: Three Axle Articulated | E16: ART3 | F16: 7 | G16: d(1) > 3.2m. Axles = 3 and groups = 3
D17: Three axle articulated vehicle or rigid vehicle and trailer
B18: 4 | C18: > 2 | D18: Four Axle Articulated | E18: ART4 | F18: 8 | G18: d(2) < 2.1m or d(1) < 2.1m or d(1) > 3.2m axles = 5 and groups < 2
D19: Four axle articulated vehicle or rigid vehicle and trailer
B20: 5 | C20: > 2 | D20: Five Axle Articulated | E20: ART5 | F20: 9 | G20: axles = 6 and groups > 2 or axles 6 and groups = 3
D21: Five axle articulated vehicle or rigid vehicle and trailer
B22: > = 6 | C22: > 2 | D22: Six Axle Articulated | E22: ART6 | F22: 10 | G22: axles = 6 and groups >2 or axles > 6 and groups = 3
D23: Six (or more) axle articulated vehicle or rigid vehicle and trailer
B24: Ungrouped classes
D25: Unclassifiable Vehicle | F25: 13
D26: Unclassifiable Axle Event | F26: 0

Sheet Graph
B3: 27 September 2022
B5: Time | C5: Total | D5: Total
C6: Ebd | D6: Wbd
B8: 0000 | C8: 0 | D8: 0
B9: 0015 | C9: 2 | D9: 3
B10: 0030 | C10: 1 | D10: 0
B11: 0045 | C11: 0 | D11: 0
B12: 0100 | C12: 1 | D12: 0
B13: 0115 | C13: 0 | D13: 0
B14: 0130 | C14: 0 | D14: 0
B15: 0145 | C15: 0 | D15: 0
B16: 0200 | C16: 1 | D16: 1
B17: 0215 | C17: 0 | D17: 0
B18: 0230 | C18: 0 | D18: 0
B19: 0245 | C19: 0 | D19: 0
... B107: 00-00 | C107: 3143 | D107: 3311
