Workbook

Sheet Details
C1: SNHPC APPENDIX 1 - PLANNING APPLICATION 261842
C6: Client: | D6: Hurst Neighbourhood Plan Working Group
C7: Project Number: | D7: TSP15103
C8: Project Name: | D8: Hurst & Binfield ATCs
C9: Survey Type: | D9: ="ATC Site " & RIGHT('Eastbound Data'!A4,2) -> ATC Site 02
C10: Location: | D10: =MID('Eastbound Data'!$A$5,16,(LEN('Eastbound Data'!$A$5)-21)) -> FOREST ROAD
C11: Start Date: | D11: ='Eastbound Data'!$A$9 -> 22 September 2022
C12: End Date: | D12: ='Eastbound Data'!$A$651 -> 28 September 2022
C13: Survey Time: | D13: 24 hours x 7 days

Sheet Location Plan
B32: Binfield, near Reading - ATC 2 - Forest Road - 100m to the West of suggested location - 51°25'55.11"N 0°48'39.52"W
B34: This is a better location as it was away from houses and so reduce noise impact on residents

Sheet Header
A1: TSP Class Profile All Days 15 mins 2020
A3: Globals
A4: Report Id | B4: CustomList-237
A5: Descriptor | B5: TSP Class Profile All Days 15 mins 2020
A6: Created by | B6: MetroCount Traffic Executive
A7: Creation Time (UTC) | B7: 2022-10-14T17:34:58
A8: Legal | B8: Copyright (c)1997 - 2016 MetroCount
A9: Graphic
A10: Language | B10: English
A11: Country | B11: United Kingdom
A12: Time | B12: UTC + 60 min
A13: Create Version | B13: 5.0.2.0
A14: Metric | B14: Part metric
A15: Speed Unit | B15: mph
A16: Length Unit | B16: metre
A17: Mass Unit | B17: tonne
A18: Dataset
A19: Site Name | B19: TSP15103-02
A20: Site Attribute | B20: TSP15103
A21: File Name | B21: Z:\My Drive\TSP Project 2018\TSP15103-Hurst & Binfield ATCs\TSP15103-02 0 2022-09-29 2015.EC0
A22: File Type | B22: Plus
A23: Algorithm | B23: Factory default axle
A24: Description | B24: FOREST ROAD [30M]
A25: Lane | B25: 0
A26: Direction | B26: 8
A27: Direction Text | B27: 8 - East bound A]B, West bound B]A.
A28: Layout Text | B28: Axle sensors - Paired (Class/Speed/Count)
A29: Setup Time | B29: 2022-09-21T23:34:40
A30: Start Time | B30: 2022-09-21T23:34:40
... A33: Configuration | B33: 40 MC5600 00 00 00 00 00 ? EE62HG0X MC56-L5 [MC55] (c)Microcom 19Oct04
A34: Profile
A35: Name | B35: TSP Class Profile All Days 15 mins 2020
A36: Title | B36: MetroCount Traffic Executive
A37: Graphic Logo
A38: Header
A39: Footer
A40: Percentile 1 | B40: 85
A41: Percentile 2 | B41: 95
A42: Pace | B42: 10
A43: Filter Start | B43: 2022-09-22T00:00:00
...

Sheet Legend
A1: TSP Class Profile All Days 15 mins 2020
A3: Column
A4: Time | B4: 24-hour time (0000 - 2359)
A5: Total | B5: Number in time step
A6: Cls 1 | B6: Class totals
A7: Cls 2 | B7: Class totals
A8: Cls 3 | B8: Class totals
A9: Cls 4 | B9: Class totals
A10: Cls 5 | B10: Class totals
A11: Cls 6 | B11: Class totals
A12: Cls 7 | B12: Class totals
A13: Cls 8 | B13: Class totals
A14: Cls 9 | B14: Class totals
A15: Cls 10 | B15: Class totals
... A44: Fix1 | B44: User defined fixed text

Sheet Eastbound Data
A1: TSP Class Profile All Days 15 mins 2020
A3: Report Id - CustomList-237
A4: Site Name - TSP15103-02
A5: Description - FOREST ROAD [30M]
A6: Direction - East
A9: 22 September 2022
A11: Time | B11: Total | C11: Cls | D11: Cls | E11: Cls | F11: Cls | G11: Cls | H11: Cls | I11: Cls | J11: Cls | K11: Cls | L11: Cls | M11: Fix1 | N11: Time | O11: Vbin | P11: Vbin | Q11: Vbin | R11: Vbin | S11: Vbin | T11: Vbin | U11: Vbin | V11: Vbin | W11: Vbin | X11: Vbin | Y11: Vbin | Z11: Vbin | AA11: Vbin | AB11: Vbin | AC11: Vbin | AD11: Mean | AE11: Vpp | AF11: ]SL1 | AG11: ]SL1% | AH11: ]PSL | AI11: ]PSL% | AJ11: ]SL2 | AK11: ]SL2% | AL11: V50 | AM11: SD | AN11: Var | AO11: Fix1
C12: 1 | D12: 2 | E12: 3 | F12: 4 | G12: 5 | H12: 6 | I12: 7 | J12: 8 | K12: 9 | L12: 10 | O12: 0 | P12: 5 | Q12: 10 | R12: 15 | S12: 20 | T12: 25 | U12: 30 | V12: 35 | W12: 40 | X12: 45 | Y12: 50 | Z12: 55 | AA12: 60 | AB12: 65 | AC12: 70 | AE12: 85 | AF12: 20 | AG12: 20 | AH12: 30 | AI12: 30 | AJ12: 40 | AK12: 40
O13: 5 | P13: 10 | Q13: 15 | R13: 20 | S13: 25 | T13: 30 | U13: 35 | V13: 40 | W13: 45 | X13: 50 | Y13: 55 | Z13: 60 | AA13: 65 | AB13: 70 | AC13: 130
A14: 0000 | B14: 2 | C14: 0 | D14: 2 | E14: 0 | F14: 0 | G14: 0 | H14: 0 | I14: 0 | J14: 0 | K14: 0 | L14: 0 | N14: 0000 | O14: 0 | P14: 0 | Q14: 0 | R14: 0 | S14: 0 | T14: 0 | U14: 0 | V14: 2 | W14: 0 | X14: 0 | Y14: 0 | Z14: 0 | AA14: 0 | AB14: 0 | AC14: 0 | AD14: 39.2 | AE14: - | AF14: 2 | AG14: 100 | AH14: 2 | AI14: 100 | AJ14: 0 | AK14: 0 | AL14: - | AM14: 0.1 | AN14: 0
A15: 0015 | B15: 0 | C15: 0 | D15: 0 | E15: 0 | F15: 0 | G15: 0 | H15: 0 | I15: 0 | J15: 0 | K15: 0 | L15: 0 | N15: 0015 | O15: 0 | P15: 0 | Q15: 0 | R15: 0 | S15: 0 | T15: 0 | U15: 0 | V15: 0 | W15: 0 | X15: 0 | Y15: 0 | Z15: 0 | AA15: 0 | AB15: 0 | AC15: 0 | AD15: - | AE15: - | AF15: 0 | AG15: 0 | AH15: 0 | AI15: 0 | AJ15: 0 | AK15: 0 | AL15: - | AM15: - | AN15: -
A16: 0030 | B16: 1 | C16: 0 | D16: 0 | E16: 0 | F16: 1 | G16: 0 | H16: 0 | I16: 0 | J16: 0 | K16: 0 | L16: 0 | N16: 0030 | O16: 0 | P16: 0 | Q16: 0 | R16: 0 | S16: 0 | T16: 0 | U16: 0 | V16: 0 | W16: 1 | X16: 0 | Y16: 0 | Z16: 0 | AA16: 0 | AB16: 0 | AC16: 0 | AD16: 44.8 | AE16: - | AF16: 1 | AG16: 100 | AH16: 1 | AI16: 100 | AJ16: 1 | AK16: 100 | AL16: - | AM16: - | AN16: -
A17: 0045 | B17: 1 | C17: 0 | D17: 1 | E17: 0 | F17: 0 | G17: 0 | H17: 0 | I17: 0 | J17: 0 | K17: 0 | L17: 0 | N17: 0045 | O17: 0 | P17: 0 | Q17: 0 | R17: 0 | S17: 0 | T17: 0 | U17: 0 | V17: 0 | W17: 1 | X17: 0 | Y17: 0 | Z17: 0 | AA17: 0 | AB17: 0 | AC17: 0 | AD17: 42.7 | AE17: - | AF17: 1 | AG17: 100 | AH17: 1 | AI17: 100 | AJ17: 1 | AK17: 100 | AL17: - | AM17: - | AN17: -
A18: 0100 | B18: 0 | C18: 0 | D18: 0 | E18: 0 | F18: 0 | G18: 0 | H18: 0 | I18: 0 | J18: 0 | K18: 0 | L18: 0 | N18: 0100 | O18: 0 | P18: 0 | Q18: 0 | R18: 0 | S18: 0 | T18: 0 | U18: 0 | V18: 0 | W18: 0 | X18: 0 | Y18: 0 | Z18: 0 | AA18: 0 | AB18: 0 | AC18: 0 | AD18: - | AE18: - | AF18: 0 | AG18: 0 | AH18: 0 | AI18: 0 | AJ18: 0 | AK18: 0 | AL18: - | AM18: - | AN18: -
A19: 0115 | B19: 0 | C19: 0 | D19: 0 | E19: 0 | F19: 0 | G19: 0 | H19: 0 | I19: 0 | J19: 0 | K19: 0 | L19: 0 | N19: 0115 | O19: 0 | P19: 0 | Q19: 0 | R19: 0 | S19: 0 | T19: 0 | U19: 0 | V19: 0 | W19: 0 | X19: 0 | Y19: 0 | Z19: 0 | AA19: 0 | AB19: 0 | AC19: 0 | AD19: - | AE19: - | AF19: 0 | AG19: 0 | AH19: 0 | AI19: 0 | AJ19: 0 | AK19: 0 | AL19: - | AM19: - | AN19: -
A20: 0130 | B20: 0 | C20: 0 | D20: 0 | E20: 0 | F20: 0 | G20: 0 | H20: 0 | I20: 0 | J20: 0 | K20: 0 | L20: 0 | N20: 0130 | O20: 0 | P20: 0 | Q20: 0 | R20: 0 | S20: 0 | T20: 0 | U20: 0 | V20: 0 | W20: 0 | X20: 0 | Y20: 0 | Z20: 0 | AA20: 0 | AB20: 0 | AC20: 0 | AD20: - | AE20: - | AF20: 0 | AG20: 0 | AH20: 0 | AI20: 0 | AJ20: 0 | AK20: 0 | AL20: - | AM20: - | AN20: -
A21: 0145 | B21: 0 | C21: 0 | D21: 0 | E21: 0 | F21: 0 | G21: 0 | H21: 0 | I21: 0 | J21: 0 | K21: 0 | L21: 0 | N21: 0145 | O21: 0 | P21: 0 | Q21: 0 | R21: 0 | S21: 0 | T21: 0 | U21: 0 | V21: 0 | W21: 0 | X21: 0 | Y21: 0 | Z21: 0 | AA21: 0 | AB21: 0 | AC21: 0 | AD21: - | AE21: - | AF21: 0 | AG21: 0 | AH21: 0 | AI21: 0 | AJ21: 0 | AK21: 0 | AL21: - | AM21: - | AN21: -
A22: 0200 | B22: 1 | C22: 0 | D22: 1 | E22: 0 | F22: 0 | G22: 0 | H22: 0 | I22: 0 | J22: 0 | K22: 0 | L22: 0 | N22: 0200 | O22: 0 | P22: 0 | Q22: 0 | R22: 0 | S22: 0 | T22: 0 | U22: 0 | V22: 0 | W22: 0 | X22: 0 | Y22: 0 | Z22: 1 | AA22: 0 | AB22: 0 | AC22: 0 | AD22: 59.5 | AE22: - | AF22: 1 | AG22: 100 | AH22: 1 | AI22: 100 | AJ22: 1 | AK22: 100 | AL22: - | AM22: - | AN22: -
A23: 0215 | B23: 2 | C23: 0 | D23: 2 | E23: 0 | F23: 0 | G23: 0 | H23: 0 | I23: 0 | J23: 0 | K23: 0 | L23: 0 | N23: 0215 | O23: 0 | P23: 0 | Q23: 0 | R23: 0 | S23: 0 | T23: 0 | U23: 0 | V23: 0 | W23: 1 | X23: 1 | Y23: 0 | Z23: 0 | AA23: 0 | AB23: 0 | AC23: 0 | AD23: 43.9 | AE23: - | AF23: 2 | AG23: 100 | AH23: 2 | AI23: 100 | AJ23: 2 | AK23: 100 | AL23: - | AM23: 1.9 | AN23: 3.6
A24: 0230 | B24: 1 | C24: 0 | D24: 1 | E24: 0 | F24: 0 | G24: 0 | H24: 0 | I24: 0 | J24: 0 | K24: 0 | L24: 0 | N24: 0230 | O24: 0 | P24: 0 | Q24: 0 | R24: 0 | S24: 0 | T24: 0 | U24: 0 | V24: 0 | W24: 0 | X24: 1 | Y24: 0 | Z24: 0 | AA24: 0 | AB24: 0 | AC24: 0 | AD24: 47.8 | AE24: - | AF24: 1 | AG24: 100 | AH24: 1 | AI24: 100 | AJ24: 1 | AK24: 100 | AL24: - | AM24: - | AN24: -
A25: 0245 | B25: 1 | C25: 0 | D25: 1 | E25: 0 | F25: 0 | G25: 0 | H25: 0 | I25: 0 | J25: 0 | K25: 0 | L25: 0 | N25: 0245 | O25: 0 | P25: 0 | Q25: 0 | R25: 0 | S25: 0 | T25: 0 | U25: 0 | V25: 0 | W25: 0 | X25: 1 | Y25: 0 | Z25: 0 | AA25: 0 | AB25: 0 | AC25: 0 | AD25: 46.1 | AE25: - | AF25: 1 | AG25: 100 | AH25: 1 | AI25: 100 | AJ25: 1 | AK25: 100 | AL25: - | AM25: - | AN25: -
A26: 0300 | B26: 0 | C26: 0 | D26: 0 | E26: 0 | F26: 0 | G26: 0 | H26: 0 | I26: 0 | J26: 0 | K26: 0 | L26: 0 | N26: 0300 | O26: 0 | P26: 0 | Q26: 0 | R26: 0 | S26: 0 | T26: 0 | U26: 0 | V26: 0 | W26: 0 | X26: 0 | Y26: 0 | Z26: 0 | AA26: 0 | AB26: 0 | AC26: 0 | AD26: - | AE26: - | AF26: 0 | AG26: 0 | AH26: 0 | AI26: 0 | AJ26: 0 | AK26: 0 | AL26: - | AM26: - | AN26: -
A27: 0315 | B27: 0 | C27: 0 | D27: 0 | E27: 0 | F27: 0 | G27: 0 | H27: 0 | I27: 0 | J27: 0 | K27: 0 | L27: 0 | N27: 0315 | O27: 0 | P27: 0 | Q27: 0 | R27: 0 | S27: 0 | T27: 0 | U27: 0 | V27: 0 | W27: 0 | X27: 0 | Y27: 0 | Z27: 0 | AA27: 0 | AB27: 0 | AC27: 0 | AD27: - | AE27: - | AF27: 0 | AG27: 0 | AH27: 0 | AI27: 0 | AJ27: 0 | AK27: 0 | AL27: - | AM27: - | AN27: -
A28: 0330 | B28: 1 | C28: 0 | D28: 0 | E28: 0 | F28: 1 | G28: 0 | H28: 0 | I28: 0 | J28: 0 | K28: 0 | L28: 0 | N28: 0330 | O28: 0 | P28: 0 | Q28: 0 | R28: 0 | S28: 0 | T28: 0 | U28: 0 | V28: 1 | W28: 0 | X28: 0 | Y28: 0 | Z28: 0 | AA28: 0 | AB28: 0 | AC28: 0 | AD28: 39.1 | AE28: - | AF28: 1 | AG28: 100 | AH28: 1 | AI28: 100 | AJ28: 0 | AK28: 0 | AL28: - | AM28: - | AN28: -
A29: 0345 | B29: 0 | C29: 0 | D29: 0 | E29: 0 | F29: 0 | G29: 0 | H29: 0 | I29: 0 | J29: 0 | K29: 0 | L29: 0 | N29: 0345 | O29: 0 | P29: 0 | Q29: 0 | R29: 0 | S29: 0 | T29: 0 | U29: 0 | V29: 0 | W29: 0 | X29: 0 | Y29: 0 | Z29: 0 | AA29: 0 | AB29: 0 | AC29: 0 | AD29: - | AE29: - | AF29: 0 | AG29: 0 | AH29: 0 | AI29: 0 | AJ29: 0 | AK29: 0 | AL29: - | AM29: - | AN29: -
A30: 0400 | B30: 0 | C30: 0 | D30: 0 | E30: 0 | F30: 0 | G30: 0 | H30: 0 | I30: 0 | J30: 0 | K30: 0 | L30: 0 | N30: 0400 | O30: 0 | P30: 0 | Q30: 0 | R30: 0 | S30: 0 | T30: 0 | U30: 0 | V30: 0 | W30: 0 | X30: 0 | Y30: 0 | Z30: 0 | AA30: 0 | AB30: 0 | AC30: 0 | AD30: - | AE30: - | AF30: 0 | AG30: 0 | AH30: 0 | AI30: 0 | AJ30: 0 | AK30: 0 | AL30: - | AM30: - | AN30: -
A31: 0415 | B31: 2 | C31: 0 | D31: 2 | E31: 0 | F31: 0 | G31: 0 | H31: 0 | I31: 0 | J31: 0 | K31: 0 | L31: 0 | N31: 0415 | O31: 0 | P31: 0 | Q31: 0 | R31: 0 | S31: 0 | T31: 0 | U31: 0 | V31: 1 | W31: 0 | X31: 0 | Y31: 1 | Z31: 0 | AA31: 0 | AB31: 0 | AC31: 0 | AD31: 44.3 | AE31: - | AF31: 2 | AG31: 100 | AH31: 2 | AI31: 100 | AJ31: 1 | AK31: 50 | AL31: - | AM31: 9.7 | AN31: 94.6
A32: 0430 | B32: 2 | C32: 0 | D32: 2 | E32: 0 | F32: 0 | G32: 0 | H32: 0 | I32: 0 | J32: 0 | K32: 0 | L32: 0 | N32: 0430 | O32: 0 | P32: 0 | Q32: 0 | R32: 0 | S32: 0 | T32: 0 | U32: 0 | V32: 0 | W32: 0 | X32: 1 | Y32: 1 | Z32: 0 | AA32: 0 | AB32: 0 | AC32: 0 | AD32: 52.1 | AE32: - | AF32: 2 | AG32: 100 | AH32: 2 | AI32: 100 | AJ32: 2 | AK32: 100 | AL32: - | AM32: 3.4 | AN32: 11.8
A33: 0445 | B33: 3 | C33: 0 | D33: 2 | E33: 0 | F33: 1 | G33: 0 | H33: 0 | I33: 0 | J33: 0 | K33: 0 | L33: 0 | N33: 0445 | O33: 0 | P33: 0 | Q33: 0 | R33: 0 | S33: 0 | T33: 0 | U33: 0 | V33: 1 | W33: 1 | X33: 0 | Y33: 0 | Z33: 1 | AA33: 0 | AB33: 0 | AC33: 0 | AD33: 45.8 | AE33: - | AF33: 3 | AG33: 100 | AH33: 3 | AI33: 100 | AJ33: 2 | AK33: 66.67 | AL33: - | AM33: 10.6 | AN33: 112.4
A34: 0500 | B34: 1 | C34: 0 | D34: 0 | E34: 0 | F34: 1 | G34: 0 | H34: 0 | I34: 0 | J34: 0 | K34: 0 | L34: 0 | N34: 0500 | O34: 0 | P34: 0 | Q34: 0 | R34: 0 | S34: 0 | T34: 0 | U34: 0 | V34: 0 | W34: 0 | X34: 0 | Y34: 1 | Z34: 0 | AA34: 0 | AB34: 0 | AC34: 0 | AD34: 52.1 | AE34: - | AF34: 1 | AG34: 100 | AH34: 1 | AI34: 100 | AJ34: 1 | AK34: 100 | AL34: - | AM34: - | AN34: -
A35: 0515 | B35: 3 | C35: 0 | D35: 2 | E35: 0 | F35: 0 | G35: 0 | H35: 1 | I35: 0 | J35: 0 | K35: 0 | L35: 0 | N35: 0515 | O35: 0 | P35: 0 | Q35: 0 | R35: 0 | S35: 0 | T35: 0 | U35: 0 | V35: 1 | W35: 2 | X35: 0 | Y35: 0 | Z35: 0 | AA35: 0 | AB35: 0 | AC35: 0 | AD35: 41.5 | AE35: - | AF35: 3 | AG35: 100 | AH35: 3 | AI35: 100 | AJ35: 2 | AK35: 66.67 | AL35: - | AM35: 2.6 | AN35: 6.5
A36: 0530 | B36: 8 | C36: 0 | D36: 6 | E36: 1 | F36: 1 | G36: 0 | H36: 0 | I36: 0 | J36: 0 | K36: 0 | L36: 0 | N36: 0530 | O36: 0 | P36: 0 | Q36: 0 | R36: 0 | S36: 0 | T36: 0 | U36: 0 | V36: 2 | W36: 3 | X36: 1 | Y36: 0 | Z36: 1 | AA36: 0 | AB36: 1 | AC36: 0 | AD36: 46.8 | AE36: - | AF36: 8 | AG36: 100 | AH36: 8 | AI36: 100 | AJ36: 6 | AK36: 75 | AL36: - | AM36: 10.8 | AN36: 115.8
A37: 0545 | B37: 4 | C37: 0 | D37: 4 | E37: 0 | F37: 0 | G37: 0 | H37: 0 | I37: 0 | J37: 0 | K37: 0 | L37: 0 | N37: 0545 | O37: 0 | P37: 0 | Q37: 0 | R37: 0 | S37: 0 | T37: 0 | U37: 0 | V37: 0 | W37: 1 | X37: 1 | Y37: 0 | Z37: 2 | AA37: 0 | AB37: 0 | AC37: 0 | AD37: 51.8 | AE37: - | AF37: 4 | AG37: 100 | AH37: 4 | AI37: 100 | AJ37: 4 | AK37: 100 | AL37: - | AM37: 8.8 | AN37: 76.9
A38: 0600 | B38: 8 | C38: 0 | D38: 6 | E38: 0 | F38: 2 | G38: 0 | H38: 0 | I38: 0 | J38: 0 | K38: 0 | L38: 0 | N38: 0600 | O38: 0 | P38: 0 | Q38: 0 | R38: 0 | S38: 0 | T38: 0 | U38: 0 | V38: 1 | W38: 4 | X38: 1 | Y38: 2 | Z38: 0 | AA38: 0 | AB38: 0 | AC38: 0 | AD38: 44 | AE38: - | AF38: 8 | AG38: 100 | AH38: 8 | AI38: 100 | AJ38: 7 | AK38: 87.5 | AL38: - | AM38: 5 | AN38: 25.5
A39: 0615 | B39: 9 | C39: 0 | D39: 8 | E39: 1 | F39: 0 | G39: 0 | H39: 0 | I39: 0 | J39: 0 | K39: 0 | L39: 0 | N39: 0615 | O39: 0 | P39: 0 | Q39: 0 | R39: 0 | S39: 0 | T39: 1 | U39: 2 | V39: 4 | W39: 2 | X39: 0 | Y39: 0 | Z39: 0 | AA39: 0 | AB39: 0 | AC39: 0 | AD39: 36.7 | AE39: - | AF39: 9 | AG39: 100 | AH39: 8 | AI39: 88.89 | AJ39: 2 | AK39: 22.22 | AL39: - | AM39: 4 | AN39: 16.4
A40: 0630 | B40: 21 | C40: 0 | D40: 19 | E40: 0 | F40: 2 | G40: 0 | H40: 0 | I40: 0 | J40: 0 | K40: 0 | L40: 0 | N40: 0630 | O40: 0 | P40: 0 | Q40: 0 | R40: 0 | S40: 0 | T40: 0 | U40: 1 | V40: 2 | W40: 11 | X40: 5 | Y40: 1 | Z40: 0 | AA40: 1 | AB40: 0 | AC40: 0 | AD40: 44.3 | AE40: 48.4 | AF40: 21 | AG40: 100 | AH40: 21 | AI40: 100 | AJ40: 18 | AK40: 85.71 | AL40: 44.3 | AM40: 5.3 | AN40: 28
A41: 0645 | B41: 24 | C41: 0 | D41: 20 | E41: 0 | F41: 3 | G41: 1 | H41: 0 | I41: 0 | J41: 0 | K41: 0 | L41: 0 | N41: 0645 | O41: 0 | P41: 0 | Q41: 0 | R41: 0 | S41: 0 | T41: 0 | U41: 1 | V41: 8 | W41: 6 | X41: 8 | Y41: 1 | Z41: 0 | AA41: 0 | AB41: 0 | AC41: 0 | AD41: 42.9 | AE41: 47.9 | AF41: 24 | AG41: 100 | AH41: 24 | AI41: 100 | AJ41: 15 | AK41: 62.5 | AL41: 44 | AM41: 4.7 | AN41: 22.2
A42: 0700 | B42: 39 | C42: 1 | D42: 34 | E42: 0 | F42: 4 | G42: 0 | H42: 0 | I42: 0 | J42: 0 | K42: 0 | L42: 0 | N42: 0700 | O42: 0 | P42: 0 | Q42: 0 | R42: 0 | S42: 0 | T42: 0 | U42: 1 | V42: 9 | W42: 16 | X42: 8 | Y42: 2 | Z42: 2 | AA42: 1 | AB42: 0 | AC42: 0 | AD42: 43.8 | AE42: 49.8 | AF42: 39 | AG42: 100 | AH42: 39 | AI42: 100 | AJ42: 29 | AK42: 74.36 | AL42: 42.8 | AM42: 5.7 | AN42: 32
A43: 0715 | B43: 44 | C43: 0 | D43: 35 | E43: 0 | F43: 9 | G43: 0 | H43: 0 | I43: 0 | J43: 0 | K43: 0 | L43: 0 | N43: 0715 | O43: 0 | P43: 0 | Q43: 0 | R43: 0 | S43: 0 | T43: 0 | U43: 3 | V43: 17 | W43: 12 | X43: 6 | Y43: 3 | Z43: 2 | AA43: 1 | AB43: 0 | AC43: 0 | AD43: 42.6 | AE43: 48.7 | AF43: 44 | AG43: 100 | AH43: 44 | AI43: 100 | AJ43: 24 | AK43: 54.55 | AL43: 41.4 | AM43: 6.2 | AN43: 37.9
A44: 0730 | B44: 72 | C44: 0 | D44: 63 | E44: 2 | F44: 7 | G44: 0 | H44: 0 | I44: 0 | J44: 0 | K44: 0 | L44: 0 | N44: 0730 | O44: 0 | P44: 0 | Q44: 0 | R44: 0 | S44: 0 | T44: 0 | U44: 5 | V44: 26 | W44: 30 | X44: 8 | Y44: 3 | Z44: 0 | AA44: 0 | AB44: 0 | AC44: 0 | AD44: 40.9 | AE44: 45.1 | AF44: 72 | AG44: 100 | AH44: 72 | AI44: 100 | AJ44: 41 | AK44: 56.94 | AL44: 40.2 | AM44: 4.6 | AN44: 21.3
...

Sheet Eastbound Chart
A1: TSP Class Profile All Days 15 Mins
A3: ='Eastbound Data'!A3 -> Report Id - CustomList-237 | F3: WEEK 1
A4: ='Eastbound Data'!A4 -> Site Name - TSP15103-02
A5: ='Eastbound Data'!A5 -> Description - FOREST ROAD [30M]
A6: ='Eastbound Data'!A6 -> Direction - East
A43: Average Speed
A44: Virtual Week Total Vehicle Flow
A45: 85th Percentile speed
A46: ='Eastbound Data'!A9 -> 22 September 2022 | C46: Total Vehicle Flow
A83: ='Eastbound Data'!A116 -> 23 September 2022
A120: ='Eastbound Data'!A223 -> 24 September 2022
A157: ='Eastbound Data'!A330 -> 25 September 2022
A194: ='Eastbound Data'!A437 -> 26 September 2022
A231: ='Eastbound Data'!A544 -> 27 September 2022
A268: ='Eastbound Data'!A651 -> 28 September 2022

Sheet Westbound Data
A1: TSP Class Profile All Days 15 mins 2020
A3: Report Id - CustomList-237
A4: Site Name - TSP15103-02
A5: Description - FOREST ROAD [30M]
A6: Direction - West
A9: 22 September 2022
A11: Time | B11: Total | C11: Cls | D11: Cls | E11: Cls | F11: Cls | G11: Cls | H11: Cls | I11: Cls | J11: Cls | K11: Cls | L11: Cls | M11: Fix1 | N11: Time | O11: Vbin | P11: Vbin | Q11: Vbin | R11: Vbin | S11: Vbin | T11: Vbin | U11: Vbin | V11: Vbin | W11: Vbin | X11: Vbin | Y11: Vbin | Z11: Vbin | AA11: Vbin | AB11: Vbin | AC11: Vbin | AD11: Mean | AE11: Vpp | AF11: ]SL1 | AG11: ]SL1% | AH11: ]PSL | AI11: ]PSL% | AJ11: ]SL2 | AK11: ]SL2% | AL11: V50 | AM11: SD | AN11: Var | AO11: Fix1
C12: 1 | D12: 2 | E12: 3 | F12: 4 | G12: 5 | H12: 6 | I12: 7 | J12: 8 | K12: 9 | L12: 10 | O12: 0 | P12: 5 | Q12: 10 | R12: 15 | S12: 20 | T12: 25 | U12: 30 | V12: 35 | W12: 40 | X12: 45 | Y12: 50 | Z12: 55 | AA12: 60 | AB12: 65 | AC12: 70 | AE12: 85 | AF12: 20 | AG12: 20 | AH12: 30 | AI12: 30 | AJ12: 40 | AK12: 40
O13: 5 | P13: 10 | Q13: 15 | R13: 20 | S13: 25 | T13: 30 | U13: 35 | V13: 40 | W13: 45 | X13: 50 | Y13: 55 | Z13: 60 | AA13: 65 | AB13: 70 | AC13: 130
A14: 0000 | B14: 1 | C14: 0 | D14: 1 | E14: 0 | F14: 0 | G14: 0 | H14: 0 | I14: 0 | J14: 0 | K14: 0 | L14: 0 | N14: 0000 | O14: 0 | P14: 0 | Q14: 0 | R14: 0 | S14: 0 | T14: 1 | U14: 0 | V14: 0 | W14: 0 | X14: 0 | Y14: 0 | Z14: 0 | AA14: 0 | AB14: 0 | AC14: 0 | AD14: 26.5 | AE14: - | AF14: 1 | AG14: 100 | AH14: 0 | AI14: 0 | AJ14: 0 | AK14: 0 | AL14: - | AM14: - | AN14: -
A15: 0015 | B15: 1 | C15: 0 | D15: 1 | E15: 0 | F15: 0 | G15: 0 | H15: 0 | I15: 0 | J15: 0 | K15: 0 | L15: 0 | N15: 0015 | O15: 0 | P15: 0 | Q15: 0 | R15: 0 | S15: 0 | T15: 0 | U15: 0 | V15: 0 | W15: 0 | X15: 1 | Y15: 0 | Z15: 0 | AA15: 0 | AB15: 0 | AC15: 0 | AD15: 47.2 | AE15: - | AF15: 1 | AG15: 100 | AH15: 1 | AI15: 100 | AJ15: 1 | AK15: 100 | AL15: - | AM15: - | AN15: -
A16: 0030 | B16: 1 | C16: 0 | D16: 1 | E16: 0 | F16: 0 | G16: 0 | H16: 0 | I16: 0 | J16: 0 | K16: 0 | L16: 0 | N16: 0030 | O16: 0 | P16: 0 | Q16: 0 | R16: 0 | S16: 0 | T16: 0 | U16: 0 | V16: 1 | W16: 0 | X16: 0 | Y16: 0 | Z16: 0 | AA16: 0 | AB16: 0 | AC16: 0 | AD16: 37.9 | AE16: - | AF16: 1 | AG16: 100 | AH16: 1 | AI16: 100 | AJ16: 0 | AK16: 0 | AL16: - | AM16: - | AN16: -
A17: 0045 | B17: 1 | C17: 0 | D17: 1 | E17: 0 | F17: 0 | G17: 0 | H17: 0 | I17: 0 | J17: 0 | K17: 0 | L17: 0 | N17: 0045 | O17: 0 | P17: 0 | Q17: 0 | R17: 0 | S17: 0 | T17: 0 | U17: 0 | V17: 0 | W17: 1 | X17: 0 | Y17: 0 | Z17: 0 | AA17: 0 | AB17: 0 | AC17: 0 | AD17: 41.6 | AE17: - | AF17: 1 | AG17: 100 | AH17: 1 | AI17: 100 | AJ17: 1 | AK17: 100 | AL17: - | AM17: - | AN17: -
A18: 0100 | B18: 0 | C18: 0 | D18: 0 | E18: 0 | F18: 0 | G18: 0 | H18: 0 | I18: 0 | J18: 0 | K18: 0 | L18: 0 | N18: 0100 | O18: 0 | P18: 0 | Q18: 0 | R18: 0 | S18: 0 | T18: 0 | U18: 0 | V18: 0 | W18: 0 | X18: 0 | Y18: 0 | Z18: 0 | AA18: 0 | AB18: 0 | AC18: 0 | AD18: - | AE18: - | AF18: 0 | AG18: 0 | AH18: 0 | AI18: 0 | AJ18: 0 | AK18: 0 | AL18: - | AM18: - | AN18: -
A19: 0115 | B19: 0 | C19: 0 | D19: 0 | E19: 0 | F19: 0 | G19: 0 | H19: 0 | I19: 0 | J19: 0 | K19: 0 | L19: 0 | N19: 0115 | O19: 0 | P19: 0 | Q19: 0 | R19: 0 | S19: 0 | T19: 0 | U19: 0 | V19: 0 | W19: 0 | X19: 0 | Y19: 0 | Z19: 0 | AA19: 0 | AB19: 0 | AC19: 0 | AD19: - | AE19: - | AF19: 0 | AG19: 0 | AH19: 0 | AI19: 0 | AJ19: 0 | AK19: 0 | AL19: - | AM19: - | AN19: -
A20: 0130 | B20: 0 | C20: 0 | D20: 0 | E20: 0 | F20: 0 | G20: 0 | H20: 0 | I20: 0 | J20: 0 | K20: 0 | L20: 0 | N20: 0130 | O20: 0 | P20: 0 | Q20: 0 | R20: 0 | S20: 0 | T20: 0 | U20: 0 | V20: 0 | W20: 0 | X20: 0 | Y20: 0 | Z20: 0 | AA20: 0 | AB20: 0 | AC20: 0 | AD20: - | AE20: - | AF20: 0 | AG20: 0 | AH20: 0 | AI20: 0 | AJ20: 0 | AK20: 0 | AL20: - | AM20: - | AN20: -
A21: 0145 | B21: 0 | C21: 0 | D21: 0 | E21: 0 | F21: 0 | G21: 0 | H21: 0 | I21: 0 | J21: 0 | K21: 0 | L21: 0 | N21: 0145 | O21: 0 | P21: 0 | Q21: 0 | R21: 0 | S21: 0 | T21: 0 | U21: 0 | V21: 0 | W21: 0 | X21: 0 | Y21: 0 | Z21: 0 | AA21: 0 | AB21: 0 | AC21: 0 | AD21: - | AE21: - | AF21: 0 | AG21: 0 | AH21: 0 | AI21: 0 | AJ21: 0 | AK21: 0 | AL21: - | AM21: - | AN21: -
A22: 0200 | B22: 1 | C22: 0 | D22: 1 | E22: 0 | F22: 0 | G22: 0 | H22: 0 | I22: 0 | J22: 0 | K22: 0 | L22: 0 | N22: 0200 | O22: 0 | P22: 0 | Q22: 0 | R22: 0 | S22: 0 | T22: 0 | U22: 0 | V22: 0 | W22: 0 | X22: 1 | Y22: 0 | Z22: 0 | AA22: 0 | AB22: 0 | AC22: 0 | AD22: 48.7 | AE22: - | AF22: 1 | AG22: 100 | AH22: 1 | AI22: 100 | AJ22: 1 | AK22: 100 | AL22: - | AM22: - | AN22: -
A23: 0215 | B23: 0 | C23: 0 | D23: 0 | E23: 0 | F23: 0 | G23: 0 | H23: 0 | I23: 0 | J23: 0 | K23: 0 | L23: 0 | N23: 0215 | O23: 0 | P23: 0 | Q23: 0 | R23: 0 | S23: 0 | T23: 0 | U23: 0 | V23: 0 | W23: 0 | X23: 0 | Y23: 0 | Z23: 0 | AA23: 0 | AB23: 0 | AC23: 0 | AD23: - | AE23: - | AF23: 0 | AG23: 0 | AH23: 0 | AI23: 0 | AJ23: 0 | AK23: 0 | AL23: - | AM23: - | AN23: -
A24: 0230 | B24: 1 | C24: 0 | D24: 1 | E24: 0 | F24: 0 | G24: 0 | H24: 0 | I24: 0 | J24: 0 | K24: 0 | L24: 0 | N24: 0230 | O24: 0 | P24: 0 | Q24: 0 | R24: 0 | S24: 0 | T24: 0 | U24: 0 | V24: 0 | W24: 0 | X24: 0 | Y24: 1 | Z24: 0 | AA24: 0 | AB24: 0 | AC24: 0 | AD24: 50.1 | AE24: - | AF24: 1 | AG24: 100 | AH24: 1 | AI24: 100 | AJ24: 1 | AK24: 100 | AL24: - | AM24: - | AN24: -
A25: 0245 | B25: 0 | C25: 0 | D25: 0 | E25: 0 | F25: 0 | G25: 0 | H25: 0 | I25: 0 | J25: 0 | K25: 0 | L25: 0 | N25: 0245 | O25: 0 | P25: 0 | Q25: 0 | R25: 0 | S25: 0 | T25: 0 | U25: 0 | V25: 0 | W25: 0 | X25: 0 | Y25: 0 | Z25: 0 | AA25: 0 | AB25: 0 | AC25: 0 | AD25: - | AE25: - | AF25: 0 | AG25: 0 | AH25: 0 | AI25: 0 | AJ25: 0 | AK25: 0 | AL25: - | AM25: - | AN25: -
A26: 0300 | B26: 1 | C26: 0 | D26: 0 | E26: 0 | F26: 1 | G26: 0 | H26: 0 | I26: 0 | J26: 0 | K26: 0 | L26: 0 | N26: 0300 | O26: 0 | P26: 0 | Q26: 0 | R26: 0 | S26: 0 | T26: 1 | U26: 0 | V26: 0 | W26: 0 | X26: 0 | Y26: 0 | Z26: 0 | AA26: 0 | AB26: 0 | AC26: 0 | AD26: 27.2 | AE26: - | AF26: 1 | AG26: 100 | AH26: 0 | AI26: 0 | AJ26: 0 | AK26: 0 | AL26: - | AM26: - | AN26: -
A27: 0315 | B27: 1 | C27: 0 | D27: 1 | E27: 0 | F27: 0 | G27: 0 | H27: 0 | I27: 0 | J27: 0 | K27: 0 | L27: 0 | N27: 0315 | O27: 0 | P27: 0 | Q27: 0 | R27: 0 | S27: 0 | T27: 0 | U27: 0 | V27: 0 | W27: 0 | X27: 1 | Y27: 0 | Z27: 0 | AA27: 0 | AB27: 0 | AC27: 0 | AD27: 47.7 | AE27: - | AF27: 1 | AG27: 100 | AH27: 1 | AI27: 100 | AJ27: 1 | AK27: 100 | AL27: - | AM27: - | AN27: -
A28: 0330 | B28: 0 | C28: 0 | D28: 0 | E28: 0 | F28: 0 | G28: 0 | H28: 0 | I28: 0 | J28: 0 | K28: 0 | L28: 0 | N28: 0330 | O28: 0 | P28: 0 | Q28: 0 | R28: 0 | S28: 0 | T28: 0 | U28: 0 | V28: 0 | W28: 0 | X28: 0 | Y28: 0 | Z28: 0 | AA28: 0 | AB28: 0 | AC28: 0 | AD28: - | AE28: - | AF28: 0 | AG28: 0 | AH28: 0 | AI28: 0 | AJ28: 0 | AK28: 0 | AL28: - | AM28: - | AN28: -
A29: 0345 | B29: 0 | C29: 0 | D29: 0 | E29: 0 | F29: 0 | G29: 0 | H29: 0 | I29: 0 | J29: 0 | K29: 0 | L29: 0 | N29: 0345 | O29: 0 | P29: 0 | Q29: 0 | R29: 0 | S29: 0 | T29: 0 | U29: 0 | V29: 0 | W29: 0 | X29: 0 | Y29: 0 | Z29: 0 | AA29: 0 | AB29: 0 | AC29: 0 | AD29: - | AE29: - | AF29: 0 | AG29: 0 | AH29: 0 | AI29: 0 | AJ29: 0 | AK29: 0 | AL29: - | AM29: - | AN29: -
A30: 0400 | B30: 0 | C30: 0 | D30: 0 | E30: 0 | F30: 0 | G30: 0 | H30: 0 | I30: 0 | J30: 0 | K30: 0 | L30: 0 | N30: 0400 | O30: 0 | P30: 0 | Q30: 0 | R30: 0 | S30: 0 | T30: 0 | U30: 0 | V30: 0 | W30: 0 | X30: 0 | Y30: 0 | Z30: 0 | AA30: 0 | AB30: 0 | AC30: 0 | AD30: - | AE30: - | AF30: 0 | AG30: 0 | AH30: 0 | AI30: 0 | AJ30: 0 | AK30: 0 | AL30: - | AM30: - | AN30: -
A31: 0415 | B31: 0 | C31: 0 | D31: 0 | E31: 0 | F31: 0 | G31: 0 | H31: 0 | I31: 0 | J31: 0 | K31: 0 | L31: 0 | N31: 0415 | O31: 0 | P31: 0 | Q31: 0 | R31: 0 | S31: 0 | T31: 0 | U31: 0 | V31: 0 | W31: 0 | X31: 0 | Y31: 0 | Z31: 0 | AA31: 0 | AB31: 0 | AC31: 0 | AD31: - | AE31: - | AF31: 0 | AG31: 0 | AH31: 0 | AI31: 0 | AJ31: 0 | AK31: 0 | AL31: - | AM31: - | AN31: -
A32: 0430 | B32: 0 | C32: 0 | D32: 0 | E32: 0 | F32: 0 | G32: 0 | H32: 0 | I32: 0 | J32: 0 | K32: 0 | L32: 0 | N32: 0430 | O32: 0 | P32: 0 | Q32: 0 | R32: 0 | S32: 0 | T32: 0 | U32: 0 | V32: 0 | W32: 0 | X32: 0 | Y32: 0 | Z32: 0 | AA32: 0 | AB32: 0 | AC32: 0 | AD32: - | AE32: - | AF32: 0 | AG32: 0 | AH32: 0 | AI32: 0 | AJ32: 0 | AK32: 0 | AL32: - | AM32: - | AN32: -
A33: 0445 | B33: 1 | C33: 0 | D33: 1 | E33: 0 | F33: 0 | G33: 0 | H33: 0 | I33: 0 | J33: 0 | K33: 0 | L33: 0 | N33: 0445 | O33: 0 | P33: 0 | Q33: 0 | R33: 0 | S33: 0 | T33: 0 | U33: 0 | V33: 0 | W33: 1 | X33: 0 | Y33: 0 | Z33: 0 | AA33: 0 | AB33: 0 | AC33: 0 | AD33: 44.9 | AE33: - | AF33: 1 | AG33: 100 | AH33: 1 | AI33: 100 | AJ33: 1 | AK33: 100 | AL33: - | AM33: - | AN33: -
A34: 0500 | B34: 3 | C34: 0 | D34: 3 | E34: 0 | F34: 0 | G34: 0 | H34: 0 | I34: 0 | J34: 0 | K34: 0 | L34: 0 | N34: 0500 | O34: 0 | P34: 0 | Q34: 0 | R34: 0 | S34: 0 | T34: 0 | U34: 0 | V34: 0 | W34: 1 | X34: 2 | Y34: 0 | Z34: 0 | AA34: 0 | AB34: 0 | AC34: 0 | AD34: 47.9 | AE34: - | AF34: 3 | AG34: 100 | AH34: 3 | AI34: 100 | AJ34: 3 | AK34: 100 | AL34: - | AM34: 3.2 | AN34: 10.5
A35: 0515 | B35: 4 | C35: 0 | D35: 2 | E35: 0 | F35: 2 | G35: 0 | H35: 0 | I35: 0 | J35: 0 | K35: 0 | L35: 0 | N35: 0515 | O35: 0 | P35: 0 | Q35: 0 | R35: 0 | S35: 0 | T35: 0 | U35: 0 | V35: 0 | W35: 3 | X35: 0 | Y35: 1 | Z35: 0 | AA35: 0 | AB35: 0 | AC35: 0 | AD35: 44.7 | AE35: - | AF35: 4 | AG35: 100 | AH35: 4 | AI35: 100 | AJ35: 4 | AK35: 100 | AL35: - | AM35: 5.9 | AN35: 34.4
A36: 0530 | B36: 4 | C36: 1 | D36: 3 | E36: 0 | F36: 0 | G36: 0 | H36: 0 | I36: 0 | J36: 0 | K36: 0 | L36: 0 | N36: 0530 | O36: 0 | P36: 0 | Q36: 0 | R36: 1 | S36: 0 | T36: 0 | U36: 0 | V36: 0 | W36: 1 | X36: 0 | Y36: 2 | Z36: 0 | AA36: 0 | AB36: 0 | AC36: 0 | AD36: 41.7 | AE36: - | AF36: 3 | AG36: 75 | AH36: 3 | AI36: 75 | AJ36: 3 | AK36: 75 | AL36: - | AM36: 16.8 | AN36: 282.9
A37: 0545 | B37: 10 | C37: 0 | D37: 9 | E37: 0 | F37: 1 | G37: 0 | H37: 0 | I37: 0 | J37: 0 | K37: 0 | L37: 0 | N37: 0545 | O37: 0 | P37: 0 | Q37: 0 | R37: 0 | S37: 0 | T37: 0 | U37: 0 | V37: 2 | W37: 2 | X37: 2 | Y37: 1 | Z37: 2 | AA37: 0 | AB37: 0 | AC37: 1 | AD37: 49.9 | AE37: - | AF37: 10 | AG37: 100 | AH37: 10 | AI37: 100 | AJ37: 8 | AK37: 80 | AL37: - | AM37: 11 | AN37: 122
A38: 0600 | B38: 11 | C38: 1 | D38: 10 | E38: 0 | F38: 0 | G38: 0 | H38: 0 | I38: 0 | J38: 0 | K38: 0 | L38: 0 | N38: 0600 | O38: 0 | P38: 0 | Q38: 1 | R38: 0 | S38: 0 | T38: 0 | U38: 1 | V38: 2 | W38: 1 | X38: 4 | Y38: 2 | Z38: 0 | AA38: 0 | AB38: 0 | AC38: 0 | AD38: 42 | AE38: 50.4 | AF38: 10 | AG38: 90.91 | AH38: 10 | AI38: 90.91 | AJ38: 7 | AK38: 63.64 | AL38: 47.1 | AM38: 11.1 | AN38: 122.5
A39: 0615 | B39: 18 | C39: 0 | D39: 16 | E39: 0 | F39: 2 | G39: 0 | H39: 0 | I39: 0 | J39: 0 | K39: 0 | L39: 0 | N39: 0615 | O39: 0 | P39: 0 | Q39: 0 | R39: 0 | S39: 0 | T39: 0 | U39: 0 | V39: 2 | W39: 7 | X39: 3 | Y39: 1 | Z39: 2 | AA39: 3 | AB39: 0 | AC39: 0 | AD39: 47.8 | AE39: 60.4 | AF39: 18 | AG39: 100 | AH39: 18 | AI39: 100 | AJ39: 16 | AK39: 88.89 | AL39: 44.8 | AM39: 8.5 | AN39: 72.9
A40: 0630 | B40: 23 | C40: 0 | D40: 18 | E40: 0 | F40: 4 | G40: 0 | H40: 0 | I40: 0 | J40: 0 | K40: 1 | L40: 0 | N40: 0630 | O40: 0 | P40: 0 | Q40: 0 | R40: 0 | S40: 0 | T40: 0 | U40: 0 | V40: 6 | W40: 6 | X40: 4 | Y40: 4 | Z40: 2 | AA40: 1 | AB40: 0 | AC40: 0 | AD40: 46 | AE40: 56.2 | AF40: 23 | AG40: 100 | AH40: 23 | AI40: 100 | AJ40: 17 | AK40: 73.91 | AL40: 43.3 | AM40: 7.9 | AN40: 63
A41: 0645 | B41: 37 | C41: 1 | D41: 31 | E41: 0 | F41: 5 | G41: 0 | H41: 0 | I41: 0 | J41: 0 | K41: 0 | L41: 0 | N41: 0645 | O41: 0 | P41: 0 | Q41: 0 | R41: 0 | S41: 0 | T41: 0 | U41: 2 | V41: 7 | W41: 12 | X41: 10 | Y41: 4 | Z41: 2 | AA41: 0 | AB41: 0 | AC41: 0 | AD41: 44.3 | AE41: 50.2 | AF41: 37 | AG41: 100 | AH41: 37 | AI41: 100 | AJ41: 28 | AK41: 75.68 | AL41: 43.9 | AM41: 6 | AN41: 35.5
A42: 0700 | B42: 55 | C42: 1 | D42: 50 | E42: 0 | F42: 4 | G42: 0 | H42: 0 | I42: 0 | J42: 0 | K42: 0 | L42: 0 | N42: 0700 | O42: 0 | P42: 0 | Q42: 0 | R42: 0 | S42: 0 | T42: 0 | U42: 2 | V42: 7 | W42: 28 | X42: 13 | Y42: 2 | Z42: 1 | AA42: 1 | AB42: 1 | AC42: 0 | AD42: 44.2 | AE42: 49.4 | AF42: 55 | AG42: 100 | AH42: 55 | AI42: 100 | AJ42: 46 | AK42: 83.64 | AL42: 42.9 | AM42: 6.1 | AN42: 37
A43: 0715 | B43: 57 | C43: 3 | D43: 49 | E43: 0 | F43: 5 | G43: 0 | H43: 0 | I43: 0 | J43: 0 | K43: 0 | L43: 0 | N43: 0715 | O43: 0 | P43: 0 | Q43: 0 | R43: 2 | S43: 0 | T43: 0 | U43: 3 | V43: 20 | W43: 14 | X43: 13 | Y43: 2 | Z43: 1 | AA43: 1 | AB43: 0 | AC43: 1 | AD43: 42 | AE43: 48.7 | AF43: 55 | AG43: 96.49 | AH43: 55 | AI43: 96.49 | AJ43: 32 | AK43: 56.14 | AL43: 41.3 | AM43: 8.9 | AN43: 78.5
A44: 0730 | B44: 66 | C44: 0 | D44: 59 | E44: 0 | F44: 7 | G44: 0 | H44: 0 | I44: 0 | J44: 0 | K44: 0 | L44: 0 | N44: 0730 | O44: 0 | P44: 0 | Q44: 0 | R44: 0 | S44: 0 | T44: 1 | U44: 3 | V44: 9 | W44: 28 | X44: 16 | Y44: 6 | Z44: 3 | AA44: 0 | AB44: 0 | AC44: 0 | AD44: 43.9 | AE44: 48.8 | AF44: 66 | AG44: 100 | AH44: 65 | AI44: 98.48 | AJ44: 53 | AK44: 80.3 | AL44: 44 | AM44: 5.5 | AN44: 30.3
...

Sheet Westbound Chart
A1: TSP Class Profile All Days 15 Mins
A3: ='Westbound Data'!A3 -> Report Id - CustomList-237 | F3: WEEK 1
A4: ='Westbound Data'!A4 -> Site Name - TSP15103-02
A5: ='Westbound Data'!A5 -> Description - FOREST ROAD [30M]
A6: ='Westbound Data'!A6 -> Direction - West
A43: Average Speed
A44: Virtual Week Total Vehicle Flow
A45: 85th Percentile speed
A46: ='Westbound Data'!A9 -> 22 September 2022 | C46: Total Vehicle Flow
A83: ='Westbound Data'!A116 -> 23 September 2022
A120: ='Westbound Data'!A223 -> 24 September 2022
A157: ='Westbound Data'!A330 -> 25 September 2022
A194: ='Westbound Data'!A437 -> 26 September 2022
A231: ='Westbound Data'!A544 -> 27 September 2022
A268: ='Westbound Data'!A651 -> 28 September 2022

Sheet ARX Classifications
A1: Automatic Traffic Counts Classification Scheme
A3: Length | B3: Axles & Groups | D3: Vehicle Type | E3: ARX Classification
A4: Type | B4: Axles | C4: Groups | D4: Description | E4: Class | G4: Parameters | H4: Dominant Vechicle
A5: Short up to 5.5m | B5: Light Vehicles
B6: 2 | C6: 1 or 2 | D6: Very Short | E6: MC | F6: 1 | G6: d(1) < 1.7 and axles = 2
D7: Bicycle or Motorcycle
B8: 2 | C8: 1 or 2 | D8: Short | E8: SV | F8: 2 | G8: d(1) > 1.7m. d(1) < = 3.2m and axles = 2
D9: Saloon, Hatchback, Estate, 4WD, Pick-Up, Light Van, Bicycle, Motorcycle, etc.
A10: Medium 5.5m to 14.5m | B10: 3, 4 or 5 | C10: 3 | D10: Short - Towing | E10: SVT | F10: 3 | G10: groups = 3, d(1) > 2.1m. d(1) < = 3.2m. d(2) > = 2.1m and axles = 3,4,5
D11: Trailer, Caravan, Boat, etc.
B12: Heavy Vehicles
B13: 2 | C13: 2 | D13: Two Axle Truck or Bus | E13: TB2 | F13: 4 | G13: d(1) > 3.2m and axles = 2
B14: 3 | C14: 2 | D14: Three Axle Truck or Bus | E14: TB3 | F14: 5 | G14: axles = 3 and groups = 2
B15: > 3 | C15: 2 | D15: Four Axle Truck | E15: T4 | F15: 6 | G15: d(1) > 3.2m. axles = 3 and groups = 3
A16: Long 11.5m to 19.0m | B16: 3 | C16: 3 | D16: Three Axle Articulated | E16: ART3 | F16: 7 | G16: d(1) > 3.2m. Axles = 3 and groups = 3
D17: Three axle articulated vehicle or rigid vehicle and trailer
B18: 4 | C18: > 2 | D18: Four Axle Articulated | E18: ART4 | F18: 8 | G18: d(2) < 2.1m or d(1) < 2.1m or d(1) > 3.2m axles = 5 and groups < 2
D19: Four axle articulated vehicle or rigid vehicle and trailer
B20: 5 | C20: > 2 | D20: Five Axle Articulated | E20: ART5 | F20: 9 | G20: axles = 6 and groups > 2 or axles 6 and groups = 3
D21: Five axle articulated vehicle or rigid vehicle and trailer
B22: > = 6 | C22: > 2 | D22: Six Axle Articulated | E22: ART6 | F22: 10 | G22: axles = 6 and groups >2 or axles > 6 and groups = 3
D23: Six (or more) axle articulated vehicle or rigid vehicle and trailer
B24: Ungrouped classes
D25: Unclassifiable Vehicle | F25: 13
D26: Unclassifiable Axle Event | F26: 0

Sheet Graph
B3: 27 September 2022
B5: Time | C5: Total | D5: Total
C6: Ebd | D6: Wbd
B8: 0000 | C8: 0 | D8: 0
B9: 0015 | C9: 2 | D9: 3
B10: 0030 | C10: 1 | D10: 0
B11: 0045 | C11: 0 | D11: 0
B12: 0100 | C12: 1 | D12: 0
B13: 0115 | C13: 0 | D13: 0
B14: 0130 | C14: 0 | D14: 0
B15: 0145 | C15: 0 | D15: 0
B16: 0200 | C16: 1 | D16: 1
B17: 0215 | C17: 0 | D17: 0
B18: 0230 | C18: 0 | D18: 0
B19: 0245 | C19: 0 | D19: 0
... B107: 00-00 | C107: 3143 | D107: 3311
