Workbook

Sheet Summary
D1: Completed by Thea Flindall
D2: Plot Commentary for Crest Nicholson
D5: Based upon drawing 3149-A-1005-NM-F SITE LAYOUT
C10: Product Code | D10: Descriptipn | E10: Quantity | F10: Called Off | G10: Remaining
C11: S7-UCB-3 | D11: Solo 3 7kW Universal BE Unit | E11: =SUMIF('Pod Commentary'!B:B,Summary!C11,'Pod Commentary'!R:R) -> 126 | F11: =SUMIF('Pod Commentary'!B:B,Summary!C11,'Pod Commentary'!AB:AB) -> 0 | G11: =E11-F11 -> 126
C12: S7-UPB-3 | D12: Solo 3 7kW Universal Commercial BE Unit | E12: =SUMIF('Pod Commentary'!B:B,Summary!C12,'Pod Commentary'!S:S) -> 6 | F12: =SUMIF('Pod Commentary'!B:B,Summary!C12,'Pod Commentary'!AB:AB) -> 0 | G12: =E12-F12 -> 6
C13: S7-UPB-3-RO | D13: Solo 3 7kW Universal Commercial BE Unit w/ Router | E13: =SUMIF('Pod Commentary'!B:B,Summary!C13,'Pod Commentary'!T:T) -> 3 | F13: =SUMIF('Pod Commentary'!B:B,Summary!C13,'Pod Commentary'!AB:AB) -> 0 | G13: =E13-F13 -> 3
C14: S22-UC-3 | D14: Solo 3 22kW Universal BE Unit | E14: =SUMIF('Pod Commentary'!B:B,Summary!C14,'Pod Commentary'!AC:AC) -> 0 | F14: =SUMIF('Pod Commentary'!B:B,Summary!C14,'Pod Commentary'!AB:AB) -> 0 | G14: =E14-F14 -> 0
C15: S22-UP-3 | D15: Solo 3 22kW Universal Commercial BE Unit | E15: =SUMIF('Pod Commentary'!B:B,Summary!C15,'Pod Commentary'!AD:AD) -> 0 | F15: =SUMIF('Pod Commentary'!B:B,Summary!C15,'Pod Commentary'!AB:AB) -> 0 | G15: =E15-F15 -> 0
C16: S22-UP-3-RO | D16: Solo 3 22kW Universal Commercial BE Unit w/ Router | E16: =SUMIF('Pod Commentary'!B:B,Summary!C16,'Pod Commentary'!AE:AE) -> 0 | F16: =SUMIF('Pod Commentary'!B:B,Summary!C16,'Pod Commentary'!AB:AB) -> 0 | G16: =E16-F16 -> 0
C17: T7-S-06 | D17: Twin 7kW Universal Socket Unit | E17: =SUMIF('Pod Commentary'!B:B,Summary!C17,'Pod Commentary'!U:U) -> 0 | F17: =SUMIF('Pod Commentary'!B:B,Summary!C17,'Pod Commentary'!AB:AB) -> 0 | G17: =E17-F17 -> 0
C18: T7-S-06-RO | D18: Twin 7kW Universal Socket Unit w/ Router | E18: =SUMIF('Pod Commentary'!B:B,Summary!C18,'Pod Commentary'!V:V) -> 0 | F18: =SUMIF('Pod Commentary'!B:B,Summary!C18,'Pod Commentary'!AB:AB) -> 0 | G18: =E18-F18 -> 0
C19: PP-A-210051-1 | D19: Single Sided Free Standing Mount | E19: =SUMIF('Pod Commentary'!E:E,"Single",'Pod Commentary'!W:W) -> 61 | F19: =SUMIF('Pod Commentary'!E:E,"Single",'Pod Commentary'!AB:AB) -> 0 | G19: =E19-F19 -> 61
C20: PP-A-210220-1 | D20: Double Sided Free Standing Mount | E20: =SUMIF('Pod Commentary'!E:E,"Double",'Pod Commentary'!X:X) -> 0 | F20: =SUMIF('Pod Commentary'!E:E,"Double",'Pod Commentary'!AB:AB) -> 0 | G20: =E20-F20 -> 0
C21: PP-A-160021-1 | D21: Solo Unit Lock | E21: =SUMIF('Pod Commentary'!K:K,"Yes",'Pod Commentary'!Z:Z) -> 126 | F21: =SUMIF('Pod Commentary'!K:K,"Yes",'Pod Commentary'!AB:AB) -> 0 | G21: =E21-F21 -> 126
C22: PP-M-130110-7 | D22: Twin Guard Rail | E22: =SUMIF('Pod Commentary'!L:L,"Yes",'Pod Commentary'!AA:AA) -> 0 | F22: =SUMIF('Pod Commentary'!L:L,"Yes",'Pod Commentary'!AB:AB) -> 0 | G22: =E22-F22 -> 0
C23: PN-0010-3 | D23: 3-Year Smart Reporting Licence | E23: =SUMIF('Pod Commentary'!J:J,"Yes",'Pod Commentary'!Y:Y) -> 9 | F23: =SUMIF('Pod Commentary'!J:J,"Yes",'Pod Commentary'!AB:AB) -> 0 | G23: =E23-F23 -> 9

Sheet Pod Commentary
A1: Plot no. | B1: Product Code | C1: EVCP Provision | D1: Mounting Location | E1: Free Standing Mount | F1: Power Supply | G1: Load Management System | H1: Feeder Pillar | I1: HA or Private | J1: Smart Reporting | K1: Key Lock | L1: Guard Rail | M1: Demise Impact - Duct works etc | N1: Notes | O1: Called Off? | P1: Called Off Date | R1: S7-UCB-3 | S1: S7-UPB-3 | T1: S7-UPB-3-RO | U1: T7-S-06 | V1: T7-S-06-RO | W1: Single | X1: Double | Y1: Payment Software | Z1: Key Lock | AA1: Guard Rail | AB1: Call Off | AC1: S22-UC-3 | AD1: S22-UP-3 | AE1: S22-UP-3-RO
A2: 1 | B2: S7-UPB-3 | C2: Active | D2: Remote (Freestanding) | E2: Single | F2: New Metered Supply | G2: - | H2: FP1 | J2: {=IFERROR(_xlfn.IFS('Pod Commentary'!B2='Data Validation'!$B$3,"No",'Pod Commentary'!B2='Data Validation'!$B$4,"Yes",'Pod Commentary'!B2='Data Validation'!$B$5,"Yes",'Pod Commentary'!B2='Data Validation'!$B$6,"Yes",'Pod Commentary'!B2='Data Validation'!$B$7,"Yes",'Pod Commentary'!B2='Data Validation'!$B$8,"No",'Pod Commentary'!B2='Data Validation'!$B$9,"Yes",'Pod Commentary'!B2='Data Validation'!$B$10,"Yes",'Pod Commentary'!B2='Data Validation'!$B$11,"-"),"-")} -> Yes | K2: {=IFERROR(_xlfn.IFS(D2="Garage","No",B2='Data Validation'!$B$3,"Yes",'Pod Commentary'!B2='Data Validation'!$B$4,"No",'Pod Commentary'!B2='Data Validation'!$B$5,"No",'Pod Commentary'!B2='Data Validation'!$B$6,"No",'Pod Commentary'!B2='Data Validation'!$B$7,"No",'Pod Commentary'!B2='Data Validation'!$B$8,"Yes",'Pod Commentary'!B2='Data Validation'!$B$9,"No",'Pod Commentary'!B2='Data Validation'!$B$10,"No",'Pod Commentary'!B2='Data Validation'!$B$11,"No"),"-")} -> No | L2: {=IFERROR(_xlfn.IFS(B2='Data Validation'!$B$6,"Yes",B2='Data Validation'!$B$7,"Yes"),"-")} -> - | M2: Yes | N2: Ducting from feeder pillar power supply to charger location | R2: =IFERROR(IF($B2=$R$1,"1","-")*1,"-") -> - | S2: =IFERROR(IF($B2=$S$1,"1","-")*1,"-") -> 1 | T2: =IFERROR(IF($B2=$T$1,"1","-")*1,"-") -> - | U2: =IFERROR(IF($B2=$U$1,"1","-")*1,"-") -> - | V2: =IFERROR(IF($B2=$V$1,"1","-")*1,"-") -> - | W2: =IFERROR(IF(E2=$W$1,"1","-")*1,"-") -> 1 | X2: =IFERROR(IF(E2=$X$1,"1","-")*1,"-") -> - | Y2: {=IFERROR(_xlfn.IFS(B2=$U$1,"2",B2=$V$1,"2",J2="Yes","1")*1,"-")} -> 1 | Z2: =IFERROR(IF(K2="Yes","1","-")*1,"-") -> - | AA2: =IFERROR(IF(L2="Yes","1","-")*1,"-") -> - | AB2: =IFERROR(IF(O2="Yes","1","-")*1,"-") -> - | AC2: =IFERROR(IF($B2=$AC$1,"1","-")*1,"-") -> - | AD2: =IFERROR(IF($B2=$AD$1,"1","-")*1,"-") -> - | AE2: =IFERROR(IF($B2=$AE$1,"1","-")*1,"-") -> -
A3: 2 | B3: S7-UPB-3 | C3: Active | D3: Remote (Freestanding) | E3: Single | F3: New Metered Supply | G3: - | H3: FP1 | J3: {=IFERROR(_xlfn.IFS('Pod Commentary'!B3='Data Validation'!$B$3,"No",'Pod Commentary'!B3='Data Validation'!$B$4,"Yes",'Pod Commentary'!B3='Data Validation'!$B$5,"Yes",'Pod Commentary'!B3='Data Validation'!$B$6,"Yes",'Pod Commentary'!B3='Data Validation'!$B$7,"Yes",'Pod Commentary'!B3='Data Validation'!$B$8,"No",'Pod Commentary'!B3='Data Validation'!$B$9,"Yes",'Pod Commentary'!B3='Data Validation'!$B$10,"Yes",'Pod Commentary'!B3='Data Validation'!$B$11,"-"),"-")} -> Yes | K3: {=IFERROR(_xlfn.IFS(D3="Garage","No",B3='Data Validation'!$B$3,"Yes",'Pod Commentary'!B3='Data Validation'!$B$4,"No",'Pod Commentary'!B3='Data Validation'!$B$5,"No",'Pod Commentary'!B3='Data Validation'!$B$6,"No",'Pod Commentary'!B3='Data Validation'!$B$7,"No",'Pod Commentary'!B3='Data Validation'!$B$8,"Yes",'Pod Commentary'!B3='Data Validation'!$B$9,"No",'Pod Commentary'!B3='Data Validation'!$B$10,"No",'Pod Commentary'!B3='Data Validation'!$B$11,"No"),"-")} -> No | L3: {=IFERROR(_xlfn.IFS(B3='Data Validation'!$B$6,"Yes",B3='Data Validation'!$B$7,"Yes"),"-")} -> - | M3: Yes | N3: Ducting from feeder pillar power supply to charger location | R3: =IFERROR(IF($B3=$R$1,"1","-")*1,"-") -> - | S3: =IFERROR(IF($B3=$S$1,"1","-")*1,"-") -> 1 | T3: =IFERROR(IF($B3=$T$1,"1","-")*1,"-") -> - | U3: =IFERROR(IF($B3=$U$1,"1","-")*1,"-") -> - | V3: =IFERROR(IF($B3=$V$1,"1","-")*1,"-") -> - | W3: =IFERROR(IF(E3=$W$1,"1","-")*1,"-") -> 1 | X3: =IFERROR(IF(E3=$X$1,"1","-")*1,"-") -> - | Y3: {=IFERROR(_xlfn.IFS(B3=$U$1,"2",B3=$V$1,"2",J3="Yes","1")*1,"-")} -> 1 | Z3: =IFERROR(IF(K3="Yes","1","-")*1,"-") -> - | AA3: =IFERROR(IF(L3="Yes","1","-")*1,"-") -> - | AB3: =IFERROR(IF(O3="Yes","1","-")*1,"-") -> - | AC3: =IFERROR(IF($B3=$AC$1,"1","-")*1,"-") -> - | AD3: =IFERROR(IF($B3=$AD$1,"1","-")*1,"-") -> - | AE3: =IFERROR(IF($B3=$AE$1,"1","-")*1,"-") -> -
A4: 3 | B4: S7-UPB-3-RO | C4: Active | D4: Remote (Freestanding) | E4: Single | F4: New Metered Supply | G4: - | H4: FP1 | J4: {=IFERROR(_xlfn.IFS('Pod Commentary'!B4='Data Validation'!$B$3,"No",'Pod Commentary'!B4='Data Validation'!$B$4,"Yes",'Pod Commentary'!B4='Data Validation'!$B$5,"Yes",'Pod Commentary'!B4='Data Validation'!$B$6,"Yes",'Pod Commentary'!B4='Data Validation'!$B$7,"Yes",'Pod Commentary'!B4='Data Validation'!$B$8,"No",'Pod Commentary'!B4='Data Validation'!$B$9,"Yes",'Pod Commentary'!B4='Data Validation'!$B$10,"Yes",'Pod Commentary'!B4='Data Validation'!$B$11,"-"),"-")} -> Yes | K4: {=IFERROR(_xlfn.IFS(D4="Garage","No",B4='Data Validation'!$B$3,"Yes",'Pod Commentary'!B4='Data Validation'!$B$4,"No",'Pod Commentary'!B4='Data Validation'!$B$5,"No",'Pod Commentary'!B4='Data Validation'!$B$6,"No",'Pod Commentary'!B4='Data Validation'!$B$7,"No",'Pod Commentary'!B4='Data Validation'!$B$8,"Yes",'Pod Commentary'!B4='Data Validation'!$B$9,"No",'Pod Commentary'!B4='Data Validation'!$B$10,"No",'Pod Commentary'!B4='Data Validation'!$B$11,"No"),"-")} -> No | L4: {=IFERROR(_xlfn.IFS(B4='Data Validation'!$B$6,"Yes",B4='Data Validation'!$B$7,"Yes"),"-")} -> - | M4: Yes | N4: Ducting from feeder pillar power supply to charger location | R4: =IFERROR(IF($B4=$R$1,"1","-")*1,"-") -> - | S4: =IFERROR(IF($B4=$S$1,"1","-")*1,"-") -> - | T4: =IFERROR(IF($B4=$T$1,"1","-")*1,"-") -> 1 | U4: =IFERROR(IF($B4=$U$1,"1","-")*1,"-") -> - | V4: =IFERROR(IF($B4=$V$1,"1","-")*1,"-") -> - | W4: =IFERROR(IF(E4=$W$1,"1","-")*1,"-") -> 1 | X4: =IFERROR(IF(E4=$X$1,"1","-")*1,"-") -> - | Y4: {=IFERROR(_xlfn.IFS(B4=$U$1,"2",B4=$V$1,"2",J4="Yes","1")*1,"-")} -> 1 | Z4: =IFERROR(IF(K4="Yes","1","-")*1,"-") -> - | AA4: =IFERROR(IF(L4="Yes","1","-")*1,"-") -> - | AB4: =IFERROR(IF(O4="Yes","1","-")*1,"-") -> - | AC4: =IFERROR(IF($B4=$AC$1,"1","-")*1,"-") -> - | AD4: =IFERROR(IF($B4=$AD$1,"1","-")*1,"-") -> - | AE4: =IFERROR(IF($B4=$AE$1,"1","-")*1,"-") -> -
A5: 4 | B5: S7-UPB-3 | C5: Active | D5: Remote (Freestanding) | E5: Single | F5: New Metered Supply | G5: - | H5: FP1 | J5: {=IFERROR(_xlfn.IFS('Pod Commentary'!B5='Data Validation'!$B$3,"No",'Pod Commentary'!B5='Data Validation'!$B$4,"Yes",'Pod Commentary'!B5='Data Validation'!$B$5,"Yes",'Pod Commentary'!B5='Data Validation'!$B$6,"Yes",'Pod Commentary'!B5='Data Validation'!$B$7,"Yes",'Pod Commentary'!B5='Data Validation'!$B$8,"No",'Pod Commentary'!B5='Data Validation'!$B$9,"Yes",'Pod Commentary'!B5='Data Validation'!$B$10,"Yes",'Pod Commentary'!B5='Data Validation'!$B$11,"-"),"-")} -> Yes | K5: {=IFERROR(_xlfn.IFS(D5="Garage","No",B5='Data Validation'!$B$3,"Yes",'Pod Commentary'!B5='Data Validation'!$B$4,"No",'Pod Commentary'!B5='Data Validation'!$B$5,"No",'Pod Commentary'!B5='Data Validation'!$B$6,"No",'Pod Commentary'!B5='Data Validation'!$B$7,"No",'Pod Commentary'!B5='Data Validation'!$B$8,"Yes",'Pod Commentary'!B5='Data Validation'!$B$9,"No",'Pod Commentary'!B5='Data Validation'!$B$10,"No",'Pod Commentary'!B5='Data Validation'!$B$11,"No"),"-")} -> No | L5: {=IFERROR(_xlfn.IFS(B5='Data Validation'!$B$6,"Yes",B5='Data Validation'!$B$7,"Yes"),"-")} -> - | M5: Yes | N5: Ducting from feeder pillar power supply to charger location | R5: =IFERROR(IF($B5=$R$1,"1","-")*1,"-") -> - | S5: =IFERROR(IF($B5=$S$1,"1","-")*1,"-") -> 1 | T5: =IFERROR(IF($B5=$T$1,"1","-")*1,"-") -> - | U5: =IFERROR(IF($B5=$U$1,"1","-")*1,"-") -> - | V5: =IFERROR(IF($B5=$V$1,"1","-")*1,"-") -> - | W5: =IFERROR(IF(E5=$W$1,"1","-")*1,"-") -> 1 | X5: =IFERROR(IF(E5=$X$1,"1","-")*1,"-") -> - | Y5: {=IFERROR(_xlfn.IFS(B5=$U$1,"2",B5=$V$1,"2",J5="Yes","1")*1,"-")} -> 1 | Z5: =IFERROR(IF(K5="Yes","1","-")*1,"-") -> - | AA5: =IFERROR(IF(L5="Yes","1","-")*1,"-") -> - | AB5: =IFERROR(IF(O5="Yes","1","-")*1,"-") -> - | AC5: =IFERROR(IF($B5=$AC$1,"1","-")*1,"-") -> - | AD5: =IFERROR(IF($B5=$AD$1,"1","-")*1,"-") -> - | AE5: =IFERROR(IF($B5=$AE$1,"1","-")*1,"-") -> -
A6: 5 | B6: S7-UPB-3 | C6: Active | D6: Remote (Freestanding) | E6: Single | F6: New Metered Supply | G6: - | H6: FP1 | J6: {=IFERROR(_xlfn.IFS('Pod Commentary'!B6='Data Validation'!$B$3,"No",'Pod Commentary'!B6='Data Validation'!$B$4,"Yes",'Pod Commentary'!B6='Data Validation'!$B$5,"Yes",'Pod Commentary'!B6='Data Validation'!$B$6,"Yes",'Pod Commentary'!B6='Data Validation'!$B$7,"Yes",'Pod Commentary'!B6='Data Validation'!$B$8,"No",'Pod Commentary'!B6='Data Validation'!$B$9,"Yes",'Pod Commentary'!B6='Data Validation'!$B$10,"Yes",'Pod Commentary'!B6='Data Validation'!$B$11,"-"),"-")} -> Yes | K6: {=IFERROR(_xlfn.IFS(D6="Garage","No",B6='Data Validation'!$B$3,"Yes",'Pod Commentary'!B6='Data Validation'!$B$4,"No",'Pod Commentary'!B6='Data Validation'!$B$5,"No",'Pod Commentary'!B6='Data Validation'!$B$6,"No",'Pod Commentary'!B6='Data Validation'!$B$7,"No",'Pod Commentary'!B6='Data Validation'!$B$8,"Yes",'Pod Commentary'!B6='Data Validation'!$B$9,"No",'Pod Commentary'!B6='Data Validation'!$B$10,"No",'Pod Commentary'!B6='Data Validation'!$B$11,"No"),"-")} -> No | L6: {=IFERROR(_xlfn.IFS(B6='Data Validation'!$B$6,"Yes",B6='Data Validation'!$B$7,"Yes"),"-")} -> - | M6: Yes | N6: Ducting from feeder pillar power supply to charger location | R6: =IFERROR(IF($B6=$R$1,"1","-")*1,"-") -> - | S6: =IFERROR(IF($B6=$S$1,"1","-")*1,"-") -> 1 | T6: =IFERROR(IF($B6=$T$1,"1","-")*1,"-") -> - | U6: =IFERROR(IF($B6=$U$1,"1","-")*1,"-") -> - | V6: =IFERROR(IF($B6=$V$1,"1","-")*1,"-") -> - | W6: =IFERROR(IF(E6=$W$1,"1","-")*1,"-") -> 1 | X6: =IFERROR(IF(E6=$X$1,"1","-")*1,"-") -> - | Y6: {=IFERROR(_xlfn.IFS(B6=$U$1,"2",B6=$V$1,"2",J6="Yes","1")*1,"-")} -> 1 | Z6: =IFERROR(IF(K6="Yes","1","-")*1,"-") -> - | AA6: =IFERROR(IF(L6="Yes","1","-")*1,"-") -> - | AB6: =IFERROR(IF(O6="Yes","1","-")*1,"-") -> - | AC6: =IFERROR(IF($B6=$AC$1,"1","-")*1,"-") -> - | AD6: =IFERROR(IF($B6=$AD$1,"1","-")*1,"-") -> - | AE6: =IFERROR(IF($B6=$AE$1,"1","-")*1,"-") -> -
A7: 6 | B7: S7-UPB-3-RO | C7: Active | D7: Remote (Freestanding) | E7: Single | F7: New Metered Supply | G7: - | H7: FP1 | J7: {=IFERROR(_xlfn.IFS('Pod Commentary'!B7='Data Validation'!$B$3,"No",'Pod Commentary'!B7='Data Validation'!$B$4,"Yes",'Pod Commentary'!B7='Data Validation'!$B$5,"Yes",'Pod Commentary'!B7='Data Validation'!$B$6,"Yes",'Pod Commentary'!B7='Data Validation'!$B$7,"Yes",'Pod Commentary'!B7='Data Validation'!$B$8,"No",'Pod Commentary'!B7='Data Validation'!$B$9,"Yes",'Pod Commentary'!B7='Data Validation'!$B$10,"Yes",'Pod Commentary'!B7='Data Validation'!$B$11,"-"),"-")} -> Yes | K7: {=IFERROR(_xlfn.IFS(D7="Garage","No",B7='Data Validation'!$B$3,"Yes",'Pod Commentary'!B7='Data Validation'!$B$4,"No",'Pod Commentary'!B7='Data Validation'!$B$5,"No",'Pod Commentary'!B7='Data Validation'!$B$6,"No",'Pod Commentary'!B7='Data Validation'!$B$7,"No",'Pod Commentary'!B7='Data Validation'!$B$8,"Yes",'Pod Commentary'!B7='Data Validation'!$B$9,"No",'Pod Commentary'!B7='Data Validation'!$B$10,"No",'Pod Commentary'!B7='Data Validation'!$B$11,"No"),"-")} -> No | L7: {=IFERROR(_xlfn.IFS(B7='Data Validation'!$B$6,"Yes",B7='Data Validation'!$B$7,"Yes"),"-")} -> - | M7: Yes | N7: Ducting from feeder pillar power supply to charger location | R7: =IFERROR(IF($B7=$R$1,"1","-")*1,"-") -> - | S7: =IFERROR(IF($B7=$S$1,"1","-")*1,"-") -> - | T7: =IFERROR(IF($B7=$T$1,"1","-")*1,"-") -> 1 | U7: =IFERROR(IF($B7=$U$1,"1","-")*1,"-") -> - | V7: =IFERROR(IF($B7=$V$1,"1","-")*1,"-") -> - | W7: =IFERROR(IF(E7=$W$1,"1","-")*1,"-") -> 1 | X7: =IFERROR(IF(E7=$X$1,"1","-")*1,"-") -> - | Y7: {=IFERROR(_xlfn.IFS(B7=$U$1,"2",B7=$V$1,"2",J7="Yes","1")*1,"-")} -> 1 | Z7: =IFERROR(IF(K7="Yes","1","-")*1,"-") -> - | AA7: =IFERROR(IF(L7="Yes","1","-")*1,"-") -> - | AB7: =IFERROR(IF(O7="Yes","1","-")*1,"-") -> - | AC7: =IFERROR(IF($B7=$AC$1,"1","-")*1,"-") -> - | AD7: =IFERROR(IF($B7=$AD$1,"1","-")*1,"-") -> - | AE7: =IFERROR(IF($B7=$AE$1,"1","-")*1,"-") -> -
A8: 7 | B8: S7-UPB-3 | C8: Active | D8: Remote (Freestanding) | E8: Single | F8: New Metered Supply | G8: - | H8: FP1 | J8: {=IFERROR(_xlfn.IFS('Pod Commentary'!B8='Data Validation'!$B$3,"No",'Pod Commentary'!B8='Data Validation'!$B$4,"Yes",'Pod Commentary'!B8='Data Validation'!$B$5,"Yes",'Pod Commentary'!B8='Data Validation'!$B$6,"Yes",'Pod Commentary'!B8='Data Validation'!$B$7,"Yes",'Pod Commentary'!B8='Data Validation'!$B$8,"No",'Pod Commentary'!B8='Data Validation'!$B$9,"Yes",'Pod Commentary'!B8='Data Validation'!$B$10,"Yes",'Pod Commentary'!B8='Data Validation'!$B$11,"-"),"-")} -> Yes | K8: {=IFERROR(_xlfn.IFS(D8="Garage","No",B8='Data Validation'!$B$3,"Yes",'Pod Commentary'!B8='Data Validation'!$B$4,"No",'Pod Commentary'!B8='Data Validation'!$B$5,"No",'Pod Commentary'!B8='Data Validation'!$B$6,"No",'Pod Commentary'!B8='Data Validation'!$B$7,"No",'Pod Commentary'!B8='Data Validation'!$B$8,"Yes",'Pod Commentary'!B8='Data Validation'!$B$9,"No",'Pod Commentary'!B8='Data Validation'!$B$10,"No",'Pod Commentary'!B8='Data Validation'!$B$11,"No"),"-")} -> No | L8: {=IFERROR(_xlfn.IFS(B8='Data Validation'!$B$6,"Yes",B8='Data Validation'!$B$7,"Yes"),"-")} -> - | M8: Yes | N8: Ducting from feeder pillar power supply to charger location | R8: =IFERROR(IF($B8=$R$1,"1","-")*1,"-") -> - | S8: =IFERROR(IF($B8=$S$1,"1","-")*1,"-") -> 1 | T8: =IFERROR(IF($B8=$T$1,"1","-")*1,"-") -> - | U8: =IFERROR(IF($B8=$U$1,"1","-")*1,"-") -> - | V8: =IFERROR(IF($B8=$V$1,"1","-")*1,"-") -> - | W8: =IFERROR(IF(E8=$W$1,"1","-")*1,"-") -> 1 | X8: =IFERROR(IF(E8=$X$1,"1","-")*1,"-") -> - | Y8: {=IFERROR(_xlfn.IFS(B8=$U$1,"2",B8=$V$1,"2",J8="Yes","1")*1,"-")} -> 1 | Z8: =IFERROR(IF(K8="Yes","1","-")*1,"-") -> - | AA8: =IFERROR(IF(L8="Yes","1","-")*1,"-") -> - | AB8: =IFERROR(IF(O8="Yes","1","-")*1,"-") -> - | AC8: =IFERROR(IF($B8=$AC$1,"1","-")*1,"-") -> - | AD8: =IFERROR(IF($B8=$AD$1,"1","-")*1,"-") -> - | AE8: =IFERROR(IF($B8=$AE$1,"1","-")*1,"-") -> -
A9: 8 | B9: S7-UPB-3-RO | C9: Active | D9: Remote (Freestanding) | E9: Single | F9: New Metered Supply | G9: - | H9: FP1 | J9: {=IFERROR(_xlfn.IFS('Pod Commentary'!B9='Data Validation'!$B$3,"No",'Pod Commentary'!B9='Data Validation'!$B$4,"Yes",'Pod Commentary'!B9='Data Validation'!$B$5,"Yes",'Pod Commentary'!B9='Data Validation'!$B$6,"Yes",'Pod Commentary'!B9='Data Validation'!$B$7,"Yes",'Pod Commentary'!B9='Data Validation'!$B$8,"No",'Pod Commentary'!B9='Data Validation'!$B$9,"Yes",'Pod Commentary'!B9='Data Validation'!$B$10,"Yes",'Pod Commentary'!B9='Data Validation'!$B$11,"-"),"-")} -> Yes | K9: {=IFERROR(_xlfn.IFS(D9="Garage","No",B9='Data Validation'!$B$3,"Yes",'Pod Commentary'!B9='Data Validation'!$B$4,"No",'Pod Commentary'!B9='Data Validation'!$B$5,"No",'Pod Commentary'!B9='Data Validation'!$B$6,"No",'Pod Commentary'!B9='Data Validation'!$B$7,"No",'Pod Commentary'!B9='Data Validation'!$B$8,"Yes",'Pod Commentary'!B9='Data Validation'!$B$9,"No",'Pod Commentary'!B9='Data Validation'!$B$10,"No",'Pod Commentary'!B9='Data Validation'!$B$11,"No"),"-")} -> No | L9: {=IFERROR(_xlfn.IFS(B9='Data Validation'!$B$6,"Yes",B9='Data Validation'!$B$7,"Yes"),"-")} -> - | M9: Yes | N9: Ducting from feeder pillar power supply to charger location | R9: =IFERROR(IF($B9=$R$1,"1","-")*1,"-") -> - | S9: =IFERROR(IF($B9=$S$1,"1","-")*1,"-") -> - | T9: =IFERROR(IF($B9=$T$1,"1","-")*1,"-") -> 1 | U9: =IFERROR(IF($B9=$U$1,"1","-")*1,"-") -> - | V9: =IFERROR(IF($B9=$V$1,"1","-")*1,"-") -> - | W9: =IFERROR(IF(E9=$W$1,"1","-")*1,"-") -> 1 | X9: =IFERROR(IF(E9=$X$1,"1","-")*1,"-") -> - | Y9: {=IFERROR(_xlfn.IFS(B9=$U$1,"2",B9=$V$1,"2",J9="Yes","1")*1,"-")} -> 1 | Z9: =IFERROR(IF(K9="Yes","1","-")*1,"-") -> - | AA9: =IFERROR(IF(L9="Yes","1","-")*1,"-") -> - | AB9: =IFERROR(IF(O9="Yes","1","-")*1,"-") -> - | AC9: =IFERROR(IF($B9=$AC$1,"1","-")*1,"-") -> - | AD9: =IFERROR(IF($B9=$AD$1,"1","-")*1,"-") -> - | AE9: =IFERROR(IF($B9=$AE$1,"1","-")*1,"-") -> -
A10: 9 | B10: S7-UPB-3 | C10: Active | D10: Remote (Freestanding) | E10: Single | F10: New Metered Supply | G10: - | H10: FP1 | J10: {=IFERROR(_xlfn.IFS('Pod Commentary'!B10='Data Validation'!$B$3,"No",'Pod Commentary'!B10='Data Validation'!$B$4,"Yes",'Pod Commentary'!B10='Data Validation'!$B$5,"Yes",'Pod Commentary'!B10='Data Validation'!$B$6,"Yes",'Pod Commentary'!B10='Data Validation'!$B$7,"Yes",'Pod Commentary'!B10='Data Validation'!$B$8,"No",'Pod Commentary'!B10='Data Validation'!$B$9,"Yes",'Pod Commentary'!B10='Data Validation'!$B$10,"Yes",'Pod Commentary'!B10='Data Validation'!$B$11,"-"),"-")} -> Yes | K10: {=IFERROR(_xlfn.IFS(D10="Garage","No",B10='Data Validation'!$B$3,"Yes",'Pod Commentary'!B10='Data Validation'!$B$4,"No",'Pod Commentary'!B10='Data Validation'!$B$5,"No",'Pod Commentary'!B10='Data Validation'!$B$6,"No",'Pod Commentary'!B10='Data Validation'!$B$7,"No",'Pod Commentary'!B10='Data Validation'!$B$8,"Yes",'Pod Commentary'!B10='Data Validation'!$B$9,"No",'Pod Commentary'!B10='Data Validation'!$B$10,"No",'Pod Commentary'!B10='Data Validation'!$B$11,"No"),"-")} -> No | L10: {=IFERROR(_xlfn.IFS(B10='Data Validation'!$B$6,"Yes",B10='Data Validation'!$B$7,"Yes"),"-")} -> - | M10: Yes | N10: Ducting from feeder pillar power supply to charger location | R10: =IFERROR(IF($B10=$R$1,"1","-")*1,"-") -> - | S10: =IFERROR(IF($B10=$S$1,"1","-")*1,"-") -> 1 | T10: =IFERROR(IF($B10=$T$1,"1","-")*1,"-") -> - | U10: =IFERROR(IF($B10=$U$1,"1","-")*1,"-") -> - | V10: =IFERROR(IF($B10=$V$1,"1","-")*1,"-") -> - | W10: =IFERROR(IF(E10=$W$1,"1","-")*1,"-") -> 1 | X10: =IFERROR(IF(E10=$X$1,"1","-")*1,"-") -> - | Y10: {=IFERROR(_xlfn.IFS(B10=$U$1,"2",B10=$V$1,"2",J10="Yes","1")*1,"-")} -> 1 | Z10: =IFERROR(IF(K10="Yes","1","-")*1,"-") -> - | AA10: =IFERROR(IF(L10="Yes","1","-")*1,"-") -> - | AB10: =IFERROR(IF(O10="Yes","1","-")*1,"-") -> - | AC10: =IFERROR(IF($B10=$AC$1,"1","-")*1,"-") -> - | AD10: =IFERROR(IF($B10=$AD$1,"1","-")*1,"-") -> - | AE10: =IFERROR(IF($B10=$AE$1,"1","-")*1,"-") -> -
A11: 10 | B11: S7-UCB-3 | C11: Active | D11: Remote (Freestanding) | E11: Single | F11: Domestic | G11: - | H11: - | J11: {=IFERROR(_xlfn.IFS('Pod Commentary'!B11='Data Validation'!$B$3,"No",'Pod Commentary'!B11='Data Validation'!$B$4,"Yes",'Pod Commentary'!B11='Data Validation'!$B$5,"Yes",'Pod Commentary'!B11='Data Validation'!$B$6,"Yes",'Pod Commentary'!B11='Data Validation'!$B$7,"Yes",'Pod Commentary'!B11='Data Validation'!$B$8,"No",'Pod Commentary'!B11='Data Validation'!$B$9,"Yes",'Pod Commentary'!B11='Data Validation'!$B$10,"Yes",'Pod Commentary'!B11='Data Validation'!$B$11,"-"),"-")} -> No | K11: {=IFERROR(_xlfn.IFS(D11="Garage","No",B11='Data Validation'!$B$3,"Yes",'Pod Commentary'!B11='Data Validation'!$B$4,"No",'Pod Commentary'!B11='Data Validation'!$B$5,"No",'Pod Commentary'!B11='Data Validation'!$B$6,"No",'Pod Commentary'!B11='Data Validation'!$B$7,"No",'Pod Commentary'!B11='Data Validation'!$B$8,"Yes",'Pod Commentary'!B11='Data Validation'!$B$9,"No",'Pod Commentary'!B11='Data Validation'!$B$10,"No",'Pod Commentary'!B11='Data Validation'!$B$11,"No"),"-")} -> Yes | L11: {=IFERROR(_xlfn.IFS(B11='Data Validation'!$B$6,"Yes",B11='Data Validation'!$B$7,"Yes"),"-")} -> - | M11: Yes | N11: Ducting from dwelling's power supply to charger location | R11: =IFERROR(IF($B11=$R$1,"1","-")*1,"-") -> 1 | S11: =IFERROR(IF($B11=$S$1,"1","-")*1,"-") -> - | T11: =IFERROR(IF($B11=$T$1,"1","-")*1,"-") -> - | U11: =IFERROR(IF($B11=$U$1,"1","-")*1,"-") -> - | V11: =IFERROR(IF($B11=$V$1,"1","-")*1,"-") -> - | W11: =IFERROR(IF(E11=$W$1,"1","-")*1,"-") -> 1 | X11: =IFERROR(IF(E11=$X$1,"1","-")*1,"-") -> - | Y11: {=IFERROR(_xlfn.IFS(B11=$U$1,"2",B11=$V$1,"2",J11="Yes","1")*1,"-")} -> - | Z11: =IFERROR(IF(K11="Yes","1","-")*1,"-") -> 1 | AA11: =IFERROR(IF(L11="Yes","1","-")*1,"-") -> - | AB11: =IFERROR(IF(O11="Yes","1","-")*1,"-") -> - | AC11: =IFERROR(IF($B11=$AC$1,"1","-")*1,"-") -> - | AD11: =IFERROR(IF($B11=$AD$1,"1","-")*1,"-") -> - | AE11: =IFERROR(IF($B11=$AE$1,"1","-")*1,"-") -> -
A12: 11 | B12: S7-UCB-3 | C12: Active | D12: Remote (Wall Mounted) | E12: - | F12: Domestic | G12: - | H12: - | J12: {=IFERROR(_xlfn.IFS('Pod Commentary'!B12='Data Validation'!$B$3,"No",'Pod Commentary'!B12='Data Validation'!$B$4,"Yes",'Pod Commentary'!B12='Data Validation'!$B$5,"Yes",'Pod Commentary'!B12='Data Validation'!$B$6,"Yes",'Pod Commentary'!B12='Data Validation'!$B$7,"Yes",'Pod Commentary'!B12='Data Validation'!$B$8,"No",'Pod Commentary'!B12='Data Validation'!$B$9,"Yes",'Pod Commentary'!B12='Data Validation'!$B$10,"Yes",'Pod Commentary'!B12='Data Validation'!$B$11,"-"),"-")} -> No | K12: {=IFERROR(_xlfn.IFS(D12="Garage","No",B12='Data Validation'!$B$3,"Yes",'Pod Commentary'!B12='Data Validation'!$B$4,"No",'Pod Commentary'!B12='Data Validation'!$B$5,"No",'Pod Commentary'!B12='Data Validation'!$B$6,"No",'Pod Commentary'!B12='Data Validation'!$B$7,"No",'Pod Commentary'!B12='Data Validation'!$B$8,"Yes",'Pod Commentary'!B12='Data Validation'!$B$9,"No",'Pod Commentary'!B12='Data Validation'!$B$10,"No",'Pod Commentary'!B12='Data Validation'!$B$11,"No"),"-")} -> Yes | L12: {=IFERROR(_xlfn.IFS(B12='Data Validation'!$B$6,"Yes",B12='Data Validation'!$B$7,"Yes"),"-")} -> - | M12: Yes | N12: Ducting from dwelling's power supply to charger location | R12: =IFERROR(IF($B12=$R$1,"1","-")*1,"-") -> 1 | S12: =IFERROR(IF($B12=$S$1,"1","-")*1,"-") -> - | T12: =IFERROR(IF($B12=$T$1,"1","-")*1,"-") -> - | U12: =IFERROR(IF($B12=$U$1,"1","-")*1,"-") -> - | V12: =IFERROR(IF($B12=$V$1,"1","-")*1,"-") -> - | W12: =IFERROR(IF(E12=$W$1,"1","-")*1,"-") -> - | X12: =IFERROR(IF(E12=$X$1,"1","-")*1,"-") -> - | Y12: {=IFERROR(_xlfn.IFS(B12=$U$1,"2",B12=$V$1,"2",J12="Yes","1")*1,"-")} -> - | Z12: =IFERROR(IF(K12="Yes","1","-")*1,"-") -> 1 | AA12: =IFERROR(IF(L12="Yes","1","-")*1,"-") -> - | AB12: =IFERROR(IF(O12="Yes","1","-")*1,"-") -> - | AC12: =IFERROR(IF($B12=$AC$1,"1","-")*1,"-") -> - | AD12: =IFERROR(IF($B12=$AD$1,"1","-")*1,"-") -> - | AE12: =IFERROR(IF($B12=$AE$1,"1","-")*1,"-") -> -
A13: 12 | B13: S7-UCB-3 | C13: Active | D13: On Dwelling | E13: - | F13: Domestic | G13: - | H13: - | J13: {=IFERROR(_xlfn.IFS('Pod Commentary'!B13='Data Validation'!$B$3,"No",'Pod Commentary'!B13='Data Validation'!$B$4,"Yes",'Pod Commentary'!B13='Data Validation'!$B$5,"Yes",'Pod Commentary'!B13='Data Validation'!$B$6,"Yes",'Pod Commentary'!B13='Data Validation'!$B$7,"Yes",'Pod Commentary'!B13='Data Validation'!$B$8,"No",'Pod Commentary'!B13='Data Validation'!$B$9,"Yes",'Pod Commentary'!B13='Data Validation'!$B$10,"Yes",'Pod Commentary'!B13='Data Validation'!$B$11,"-"),"-")} -> No | K13: {=IFERROR(_xlfn.IFS(D13="Garage","No",B13='Data Validation'!$B$3,"Yes",'Pod Commentary'!B13='Data Validation'!$B$4,"No",'Pod Commentary'!B13='Data Validation'!$B$5,"No",'Pod Commentary'!B13='Data Validation'!$B$6,"No",'Pod Commentary'!B13='Data Validation'!$B$7,"No",'Pod Commentary'!B13='Data Validation'!$B$8,"Yes",'Pod Commentary'!B13='Data Validation'!$B$9,"No",'Pod Commentary'!B13='Data Validation'!$B$10,"No",'Pod Commentary'!B13='Data Validation'!$B$11,"No"),"-")} -> Yes | L13: {=IFERROR(_xlfn.IFS(B13='Data Validation'!$B$6,"Yes",B13='Data Validation'!$B$7,"Yes"),"-")} -> - | R13: =IFERROR(IF($B13=$R$1,"1","-")*1,"-") -> 1 | S13: =IFERROR(IF($B13=$S$1,"1","-")*1,"-") -> - | T13: =IFERROR(IF($B13=$T$1,"1","-")*1,"-") -> - | U13: =IFERROR(IF($B13=$U$1,"1","-")*1,"-") -> - | V13: =IFERROR(IF($B13=$V$1,"1","-")*1,"-") -> - | W13: =IFERROR(IF(E13=$W$1,"1","-")*1,"-") -> - | X13: =IFERROR(IF(E13=$X$1,"1","-")*1,"-") -> - | Y13: {=IFERROR(_xlfn.IFS(B13=$U$1,"2",B13=$V$1,"2",J13="Yes","1")*1,"-")} -> - | Z13: =IFERROR(IF(K13="Yes","1","-")*1,"-") -> 1 | AA13: =IFERROR(IF(L13="Yes","1","-")*1,"-") -> - | AB13: =IFERROR(IF(O13="Yes","1","-")*1,"-") -> - | AC13: =IFERROR(IF($B13=$AC$1,"1","-")*1,"-") -> - | AD13: =IFERROR(IF($B13=$AD$1,"1","-")*1,"-") -> - | AE13: =IFERROR(IF($B13=$AE$1,"1","-")*1,"-") -> -
A14: 13 | B14: S7-UCB-3 | C14: Active | D14: On Dwelling | E14: - | F14: Domestic | G14: - | H14: - | J14: {=IFERROR(_xlfn.IFS('Pod Commentary'!B14='Data Validation'!$B$3,"No",'Pod Commentary'!B14='Data Validation'!$B$4,"Yes",'Pod Commentary'!B14='Data Validation'!$B$5,"Yes",'Pod Commentary'!B14='Data Validation'!$B$6,"Yes",'Pod Commentary'!B14='Data Validation'!$B$7,"Yes",'Pod Commentary'!B14='Data Validation'!$B$8,"No",'Pod Commentary'!B14='Data Validation'!$B$9,"Yes",'Pod Commentary'!B14='Data Validation'!$B$10,"Yes",'Pod Commentary'!B14='Data Validation'!$B$11,"-"),"-")} -> No | K14: {=IFERROR(_xlfn.IFS(D14="Garage","No",B14='Data Validation'!$B$3,"Yes",'Pod Commentary'!B14='Data Validation'!$B$4,"No",'Pod Commentary'!B14='Data Validation'!$B$5,"No",'Pod Commentary'!B14='Data Validation'!$B$6,"No",'Pod Commentary'!B14='Data Validation'!$B$7,"No",'Pod Commentary'!B14='Data Validation'!$B$8,"Yes",'Pod Commentary'!B14='Data Validation'!$B$9,"No",'Pod Commentary'!B14='Data Validation'!$B$10,"No",'Pod Commentary'!B14='Data Validation'!$B$11,"No"),"-")} -> Yes | L14: {=IFERROR(_xlfn.IFS(B14='Data Validation'!$B$6,"Yes",B14='Data Validation'!$B$7,"Yes"),"-")} -> - | R14: =IFERROR(IF($B14=$R$1,"1","-")*1,"-") -> 1 | S14: =IFERROR(IF($B14=$S$1,"1","-")*1,"-") -> - | T14: =IFERROR(IF($B14=$T$1,"1","-")*1,"-") -> - | U14: =IFERROR(IF($B14=$U$1,"1","-")*1,"-") -> - | V14: =IFERROR(IF($B14=$V$1,"1","-")*1,"-") -> - | W14: =IFERROR(IF(E14=$W$1,"1","-")*1,"-") -> - | X14: =IFERROR(IF(E14=$X$1,"1","-")*1,"-") -> - | Y14: {=IFERROR(_xlfn.IFS(B14=$U$1,"2",B14=$V$1,"2",J14="Yes","1")*1,"-")} -> - | Z14: =IFERROR(IF(K14="Yes","1","-")*1,"-") -> 1 | AA14: =IFERROR(IF(L14="Yes","1","-")*1,"-") -> - | AB14: =IFERROR(IF(O14="Yes","1","-")*1,"-") -> - | AC14: =IFERROR(IF($B14=$AC$1,"1","-")*1,"-") -> - | AD14: =IFERROR(IF($B14=$AD$1,"1","-")*1,"-") -> - | AE14: =IFERROR(IF($B14=$AE$1,"1","-")*1,"-") -> -
A15: 14 | B15: S7-UCB-3 | C15: Active | D15: On Dwelling | E15: - | F15: Domestic | G15: - | H15: - | J15: {=IFERROR(_xlfn.IFS('Pod Commentary'!B15='Data Validation'!$B$3,"No",'Pod Commentary'!B15='Data Validation'!$B$4,"Yes",'Pod Commentary'!B15='Data Validation'!$B$5,"Yes",'Pod Commentary'!B15='Data Validation'!$B$6,"Yes",'Pod Commentary'!B15='Data Validation'!$B$7,"Yes",'Pod Commentary'!B15='Data Validation'!$B$8,"No",'Pod Commentary'!B15='Data Validation'!$B$9,"Yes",'Pod Commentary'!B15='Data Validation'!$B$10,"Yes",'Pod Commentary'!B15='Data Validation'!$B$11,"-"),"-")} -> No | K15: {=IFERROR(_xlfn.IFS(D15="Garage","No",B15='Data Validation'!$B$3,"Yes",'Pod Commentary'!B15='Data Validation'!$B$4,"No",'Pod Commentary'!B15='Data Validation'!$B$5,"No",'Pod Commentary'!B15='Data Validation'!$B$6,"No",'Pod Commentary'!B15='Data Validation'!$B$7,"No",'Pod Commentary'!B15='Data Validation'!$B$8,"Yes",'Pod Commentary'!B15='Data Validation'!$B$9,"No",'Pod Commentary'!B15='Data Validation'!$B$10,"No",'Pod Commentary'!B15='Data Validation'!$B$11,"No"),"-")} -> Yes | L15: {=IFERROR(_xlfn.IFS(B15='Data Validation'!$B$6,"Yes",B15='Data Validation'!$B$7,"Yes"),"-")} -> - | R15: =IFERROR(IF($B15=$R$1,"1","-")*1,"-") -> 1 | S15: =IFERROR(IF($B15=$S$1,"1","-")*1,"-") -> - | T15: =IFERROR(IF($B15=$T$1,"1","-")*1,"-") -> - | U15: =IFERROR(IF($B15=$U$1,"1","-")*1,"-") -> - | V15: =IFERROR(IF($B15=$V$1,"1","-")*1,"-") -> - | W15: =IFERROR(IF(E15=$W$1,"1","-")*1,"-") -> - | X15: =IFERROR(IF(E15=$X$1,"1","-")*1,"-") -> - | Y15: {=IFERROR(_xlfn.IFS(B15=$U$1,"2",B15=$V$1,"2",J15="Yes","1")*1,"-")} -> - | Z15: =IFERROR(IF(K15="Yes","1","-")*1,"-") -> 1 | AA15: =IFERROR(IF(L15="Yes","1","-")*1,"-") -> - | AB15: =IFERROR(IF(O15="Yes","1","-")*1,"-") -> - | AC15: =IFERROR(IF($B15=$AC$1,"1","-")*1,"-") -> - | AD15: =IFERROR(IF($B15=$AD$1,"1","-")*1,"-") -> - | AE15: =IFERROR(IF($B15=$AE$1,"1","-")*1,"-") -> -
A16: 15 | B16: S7-UCB-3 | C16: Active | D16: On Dwelling | E16: - | F16: Domestic | G16: - | H16: - | J16: {=IFERROR(_xlfn.IFS('Pod Commentary'!B16='Data Validation'!$B$3,"No",'Pod Commentary'!B16='Data Validation'!$B$4,"Yes",'Pod Commentary'!B16='Data Validation'!$B$5,"Yes",'Pod Commentary'!B16='Data Validation'!$B$6,"Yes",'Pod Commentary'!B16='Data Validation'!$B$7,"Yes",'Pod Commentary'!B16='Data Validation'!$B$8,"No",'Pod Commentary'!B16='Data Validation'!$B$9,"Yes",'Pod Commentary'!B16='Data Validation'!$B$10,"Yes",'Pod Commentary'!B16='Data Validation'!$B$11,"-"),"-")} -> No | K16: {=IFERROR(_xlfn.IFS(D16="Garage","No",B16='Data Validation'!$B$3,"Yes",'Pod Commentary'!B16='Data Validation'!$B$4,"No",'Pod Commentary'!B16='Data Validation'!$B$5,"No",'Pod Commentary'!B16='Data Validation'!$B$6,"No",'Pod Commentary'!B16='Data Validation'!$B$7,"No",'Pod Commentary'!B16='Data Validation'!$B$8,"Yes",'Pod Commentary'!B16='Data Validation'!$B$9,"No",'Pod Commentary'!B16='Data Validation'!$B$10,"No",'Pod Commentary'!B16='Data Validation'!$B$11,"No"),"-")} -> Yes | L16: {=IFERROR(_xlfn.IFS(B16='Data Validation'!$B$6,"Yes",B16='Data Validation'!$B$7,"Yes"),"-")} -> - | R16: =IFERROR(IF($B16=$R$1,"1","-")*1,"-") -> 1 | S16: =IFERROR(IF($B16=$S$1,"1","-")*1,"-") -> - | T16: =IFERROR(IF($B16=$T$1,"1","-")*1,"-") -> - | U16: =IFERROR(IF($B16=$U$1,"1","-")*1,"-") -> - | V16: =IFERROR(IF($B16=$V$1,"1","-")*1,"-") -> - | W16: =IFERROR(IF(E16=$W$1,"1","-")*1,"-") -> - | X16: =IFERROR(IF(E16=$X$1,"1","-")*1,"-") -> - | Y16: {=IFERROR(_xlfn.IFS(B16=$U$1,"2",B16=$V$1,"2",J16="Yes","1")*1,"-")} -> - | Z16: =IFERROR(IF(K16="Yes","1","-")*1,"-") -> 1 | AA16: =IFERROR(IF(L16="Yes","1","-")*1,"-") -> - | AB16: =IFERROR(IF(O16="Yes","1","-")*1,"-") -> - | AC16: =IFERROR(IF($B16=$AC$1,"1","-")*1,"-") -> - | AD16: =IFERROR(IF($B16=$AD$1,"1","-")*1,"-") -> - | AE16: =IFERROR(IF($B16=$AE$1,"1","-")*1,"-") -> -
A17: 16 | B17: S7-UCB-3 | C17: Active | D17: Remote (Freestanding) | E17: Single | F17: Domestic | G17: - | H17: - | J17: {=IFERROR(_xlfn.IFS('Pod Commentary'!B17='Data Validation'!$B$3,"No",'Pod Commentary'!B17='Data Validation'!$B$4,"Yes",'Pod Commentary'!B17='Data Validation'!$B$5,"Yes",'Pod Commentary'!B17='Data Validation'!$B$6,"Yes",'Pod Commentary'!B17='Data Validation'!$B$7,"Yes",'Pod Commentary'!B17='Data Validation'!$B$8,"No",'Pod Commentary'!B17='Data Validation'!$B$9,"Yes",'Pod Commentary'!B17='Data Validation'!$B$10,"Yes",'Pod Commentary'!B17='Data Validation'!$B$11,"-"),"-")} -> No | K17: {=IFERROR(_xlfn.IFS(D17="Garage","No",B17='Data Validation'!$B$3,"Yes",'Pod Commentary'!B17='Data Validation'!$B$4,"No",'Pod Commentary'!B17='Data Validation'!$B$5,"No",'Pod Commentary'!B17='Data Validation'!$B$6,"No",'Pod Commentary'!B17='Data Validation'!$B$7,"No",'Pod Commentary'!B17='Data Validation'!$B$8,"Yes",'Pod Commentary'!B17='Data Validation'!$B$9,"No",'Pod Commentary'!B17='Data Validation'!$B$10,"No",'Pod Commentary'!B17='Data Validation'!$B$11,"No"),"-")} -> Yes | L17: {=IFERROR(_xlfn.IFS(B17='Data Validation'!$B$6,"Yes",B17='Data Validation'!$B$7,"Yes"),"-")} -> - | M17: Yes | N17: Ducting from dwelling's power supply to charger location | R17: =IFERROR(IF($B17=$R$1,"1","-")*1,"-") -> 1 | S17: =IFERROR(IF($B17=$S$1,"1","-")*1,"-") -> - | T17: =IFERROR(IF($B17=$T$1,"1","-")*1,"-") -> - | U17: =IFERROR(IF($B17=$U$1,"1","-")*1,"-") -> - | V17: =IFERROR(IF($B17=$V$1,"1","-")*1,"-") -> - | W17: =IFERROR(IF(E17=$W$1,"1","-")*1,"-") -> 1 | X17: =IFERROR(IF(E17=$X$1,"1","-")*1,"-") -> - | Y17: {=IFERROR(_xlfn.IFS(B17=$U$1,"2",B17=$V$1,"2",J17="Yes","1")*1,"-")} -> - | Z17: =IFERROR(IF(K17="Yes","1","-")*1,"-") -> 1 | AA17: =IFERROR(IF(L17="Yes","1","-")*1,"-") -> - | AB17: =IFERROR(IF(O17="Yes","1","-")*1,"-") -> - | AC17: =IFERROR(IF($B17=$AC$1,"1","-")*1,"-") -> - | AD17: =IFERROR(IF($B17=$AD$1,"1","-")*1,"-") -> - | AE17: =IFERROR(IF($B17=$AE$1,"1","-")*1,"-") -> -
A18: 17 | B18: S7-UCB-3 | C18: Active | D18: Remote (Freestanding) | E18: Single | F18: Domestic | G18: - | H18: - | J18: {=IFERROR(_xlfn.IFS('Pod Commentary'!B18='Data Validation'!$B$3,"No",'Pod Commentary'!B18='Data Validation'!$B$4,"Yes",'Pod Commentary'!B18='Data Validation'!$B$5,"Yes",'Pod Commentary'!B18='Data Validation'!$B$6,"Yes",'Pod Commentary'!B18='Data Validation'!$B$7,"Yes",'Pod Commentary'!B18='Data Validation'!$B$8,"No",'Pod Commentary'!B18='Data Validation'!$B$9,"Yes",'Pod Commentary'!B18='Data Validation'!$B$10,"Yes",'Pod Commentary'!B18='Data Validation'!$B$11,"-"),"-")} -> No | K18: {=IFERROR(_xlfn.IFS(D18="Garage","No",B18='Data Validation'!$B$3,"Yes",'Pod Commentary'!B18='Data Validation'!$B$4,"No",'Pod Commentary'!B18='Data Validation'!$B$5,"No",'Pod Commentary'!B18='Data Validation'!$B$6,"No",'Pod Commentary'!B18='Data Validation'!$B$7,"No",'Pod Commentary'!B18='Data Validation'!$B$8,"Yes",'Pod Commentary'!B18='Data Validation'!$B$9,"No",'Pod Commentary'!B18='Data Validation'!$B$10,"No",'Pod Commentary'!B18='Data Validation'!$B$11,"No"),"-")} -> Yes | L18: {=IFERROR(_xlfn.IFS(B18='Data Validation'!$B$6,"Yes",B18='Data Validation'!$B$7,"Yes"),"-")} -> - | M18: Yes | N18: Ducting from dwelling's power supply to charger location | R18: =IFERROR(IF($B18=$R$1,"1","-")*1,"-") -> 1 | S18: =IFERROR(IF($B18=$S$1,"1","-")*1,"-") -> - | T18: =IFERROR(IF($B18=$T$1,"1","-")*1,"-") -> - | U18: =IFERROR(IF($B18=$U$1,"1","-")*1,"-") -> - | V18: =IFERROR(IF($B18=$V$1,"1","-")*1,"-") -> - | W18: =IFERROR(IF(E18=$W$1,"1","-")*1,"-") -> 1 | X18: =IFERROR(IF(E18=$X$1,"1","-")*1,"-") -> - | Y18: {=IFERROR(_xlfn.IFS(B18=$U$1,"2",B18=$V$1,"2",J18="Yes","1")*1,"-")} -> - | Z18: =IFERROR(IF(K18="Yes","1","-")*1,"-") -> 1 | AA18: =IFERROR(IF(L18="Yes","1","-")*1,"-") -> - | AB18: =IFERROR(IF(O18="Yes","1","-")*1,"-") -> - | AC18: =IFERROR(IF($B18=$AC$1,"1","-")*1,"-") -> - | AD18: =IFERROR(IF($B18=$AD$1,"1","-")*1,"-") -> - | AE18: =IFERROR(IF($B18=$AE$1,"1","-")*1,"-") -> -
A19: 18 | B19: S7-UCB-3 | C19: Active | D19: Remote (Freestanding) | E19: Single | F19: Domestic | G19: - | H19: - | J19: {=IFERROR(_xlfn.IFS('Pod Commentary'!B19='Data Validation'!$B$3,"No",'Pod Commentary'!B19='Data Validation'!$B$4,"Yes",'Pod Commentary'!B19='Data Validation'!$B$5,"Yes",'Pod Commentary'!B19='Data Validation'!$B$6,"Yes",'Pod Commentary'!B19='Data Validation'!$B$7,"Yes",'Pod Commentary'!B19='Data Validation'!$B$8,"No",'Pod Commentary'!B19='Data Validation'!$B$9,"Yes",'Pod Commentary'!B19='Data Validation'!$B$10,"Yes",'Pod Commentary'!B19='Data Validation'!$B$11,"-"),"-")} -> No | K19: {=IFERROR(_xlfn.IFS(D19="Garage","No",B19='Data Validation'!$B$3,"Yes",'Pod Commentary'!B19='Data Validation'!$B$4,"No",'Pod Commentary'!B19='Data Validation'!$B$5,"No",'Pod Commentary'!B19='Data Validation'!$B$6,"No",'Pod Commentary'!B19='Data Validation'!$B$7,"No",'Pod Commentary'!B19='Data Validation'!$B$8,"Yes",'Pod Commentary'!B19='Data Validation'!$B$9,"No",'Pod Commentary'!B19='Data Validation'!$B$10,"No",'Pod Commentary'!B19='Data Validation'!$B$11,"No"),"-")} -> Yes | L19: {=IFERROR(_xlfn.IFS(B19='Data Validation'!$B$6,"Yes",B19='Data Validation'!$B$7,"Yes"),"-")} -> - | M19: Yes | N19: Ducting from dwelling's power supply to charger location | R19: =IFERROR(IF($B19=$R$1,"1","-")*1,"-") -> 1 | S19: =IFERROR(IF($B19=$S$1,"1","-")*1,"-") -> - | T19: =IFERROR(IF($B19=$T$1,"1","-")*1,"-") -> - | U19: =IFERROR(IF($B19=$U$1,"1","-")*1,"-") -> - | V19: =IFERROR(IF($B19=$V$1,"1","-")*1,"-") -> - | W19: =IFERROR(IF(E19=$W$1,"1","-")*1,"-") -> 1 | X19: =IFERROR(IF(E19=$X$1,"1","-")*1,"-") -> - | Y19: {=IFERROR(_xlfn.IFS(B19=$U$1,"2",B19=$V$1,"2",J19="Yes","1")*1,"-")} -> - | Z19: =IFERROR(IF(K19="Yes","1","-")*1,"-") -> 1 | AA19: =IFERROR(IF(L19="Yes","1","-")*1,"-") -> - | AB19: =IFERROR(IF(O19="Yes","1","-")*1,"-") -> - | AC19: =IFERROR(IF($B19=$AC$1,"1","-")*1,"-") -> - | AD19: =IFERROR(IF($B19=$AD$1,"1","-")*1,"-") -> - | AE19: =IFERROR(IF($B19=$AE$1,"1","-")*1,"-") -> -
A20: 19 | B20: S7-UCB-3 | C20: Active | D20: Remote (Freestanding) | E20: Single | F20: Domestic | G20: - | H20: - | J20: {=IFERROR(_xlfn.IFS('Pod Commentary'!B20='Data Validation'!$B$3,"No",'Pod Commentary'!B20='Data Validation'!$B$4,"Yes",'Pod Commentary'!B20='Data Validation'!$B$5,"Yes",'Pod Commentary'!B20='Data Validation'!$B$6,"Yes",'Pod Commentary'!B20='Data Validation'!$B$7,"Yes",'Pod Commentary'!B20='Data Validation'!$B$8,"No",'Pod Commentary'!B20='Data Validation'!$B$9,"Yes",'Pod Commentary'!B20='Data Validation'!$B$10,"Yes",'Pod Commentary'!B20='Data Validation'!$B$11,"-"),"-")} -> No | K20: {=IFERROR(_xlfn.IFS(D20="Garage","No",B20='Data Validation'!$B$3,"Yes",'Pod Commentary'!B20='Data Validation'!$B$4,"No",'Pod Commentary'!B20='Data Validation'!$B$5,"No",'Pod Commentary'!B20='Data Validation'!$B$6,"No",'Pod Commentary'!B20='Data Validation'!$B$7,"No",'Pod Commentary'!B20='Data Validation'!$B$8,"Yes",'Pod Commentary'!B20='Data Validation'!$B$9,"No",'Pod Commentary'!B20='Data Validation'!$B$10,"No",'Pod Commentary'!B20='Data Validation'!$B$11,"No"),"-")} -> Yes | L20: {=IFERROR(_xlfn.IFS(B20='Data Validation'!$B$6,"Yes",B20='Data Validation'!$B$7,"Yes"),"-")} -> - | M20: Yes | N20: Ducting from dwelling's power supply to charger location | R20: =IFERROR(IF($B20=$R$1,"1","-")*1,"-") -> 1 | S20: =IFERROR(IF($B20=$S$1,"1","-")*1,"-") -> - | T20: =IFERROR(IF($B20=$T$1,"1","-")*1,"-") -> - | U20: =IFERROR(IF($B20=$U$1,"1","-")*1,"-") -> - | V20: =IFERROR(IF($B20=$V$1,"1","-")*1,"-") -> - | W20: =IFERROR(IF(E20=$W$1,"1","-")*1,"-") -> 1 | X20: =IFERROR(IF(E20=$X$1,"1","-")*1,"-") -> - | Y20: {=IFERROR(_xlfn.IFS(B20=$U$1,"2",B20=$V$1,"2",J20="Yes","1")*1,"-")} -> - | Z20: =IFERROR(IF(K20="Yes","1","-")*1,"-") -> 1 | AA20: =IFERROR(IF(L20="Yes","1","-")*1,"-") -> - | AB20: =IFERROR(IF(O20="Yes","1","-")*1,"-") -> - | AC20: =IFERROR(IF($B20=$AC$1,"1","-")*1,"-") -> - | AD20: =IFERROR(IF($B20=$AD$1,"1","-")*1,"-") -> - | AE20: =IFERROR(IF($B20=$AE$1,"1","-")*1,"-") -> -
A21: 20 | B21: S7-UCB-3 | C21: Active | D21: Remote (Freestanding) | E21: Single | F21: Domestic | G21: - | H21: - | J21: {=IFERROR(_xlfn.IFS('Pod Commentary'!B21='Data Validation'!$B$3,"No",'Pod Commentary'!B21='Data Validation'!$B$4,"Yes",'Pod Commentary'!B21='Data Validation'!$B$5,"Yes",'Pod Commentary'!B21='Data Validation'!$B$6,"Yes",'Pod Commentary'!B21='Data Validation'!$B$7,"Yes",'Pod Commentary'!B21='Data Validation'!$B$8,"No",'Pod Commentary'!B21='Data Validation'!$B$9,"Yes",'Pod Commentary'!B21='Data Validation'!$B$10,"Yes",'Pod Commentary'!B21='Data Validation'!$B$11,"-"),"-")} -> No | K21: {=IFERROR(_xlfn.IFS(D21="Garage","No",B21='Data Validation'!$B$3,"Yes",'Pod Commentary'!B21='Data Validation'!$B$4,"No",'Pod Commentary'!B21='Data Validation'!$B$5,"No",'Pod Commentary'!B21='Data Validation'!$B$6,"No",'Pod Commentary'!B21='Data Validation'!$B$7,"No",'Pod Commentary'!B21='Data Validation'!$B$8,"Yes",'Pod Commentary'!B21='Data Validation'!$B$9,"No",'Pod Commentary'!B21='Data Validation'!$B$10,"No",'Pod Commentary'!B21='Data Validation'!$B$11,"No"),"-")} -> Yes | L21: {=IFERROR(_xlfn.IFS(B21='Data Validation'!$B$6,"Yes",B21='Data Validation'!$B$7,"Yes"),"-")} -> - | M21: Yes | N21: Ducting from dwelling's power supply to charger location | R21: =IFERROR(IF($B21=$R$1,"1","-")*1,"-") -> 1 | S21: =IFERROR(IF($B21=$S$1,"1","-")*1,"-") -> - | T21: =IFERROR(IF($B21=$T$1,"1","-")*1,"-") -> - | U21: =IFERROR(IF($B21=$U$1,"1","-")*1,"-") -> - | V21: =IFERROR(IF($B21=$V$1,"1","-")*1,"-") -> - | W21: =IFERROR(IF(E21=$W$1,"1","-")*1,"-") -> 1 | X21: =IFERROR(IF(E21=$X$1,"1","-")*1,"-") -> - | Y21: {=IFERROR(_xlfn.IFS(B21=$U$1,"2",B21=$V$1,"2",J21="Yes","1")*1,"-")} -> - | Z21: =IFERROR(IF(K21="Yes","1","-")*1,"-") -> 1 | AA21: =IFERROR(IF(L21="Yes","1","-")*1,"-") -> - | AB21: =IFERROR(IF(O21="Yes","1","-")*1,"-") -> - | AC21: =IFERROR(IF($B21=$AC$1,"1","-")*1,"-") -> - | AD21: =IFERROR(IF($B21=$AD$1,"1","-")*1,"-") -> - | AE21: =IFERROR(IF($B21=$AE$1,"1","-")*1,"-") -> -
A22: 21 | B22: S7-UCB-3 | C22: Active | D22: Remote (Wall Mounted) | E22: - | F22: Domestic | G22: - | H22: - | J22: {=IFERROR(_xlfn.IFS('Pod Commentary'!B22='Data Validation'!$B$3,"No",'Pod Commentary'!B22='Data Validation'!$B$4,"Yes",'Pod Commentary'!B22='Data Validation'!$B$5,"Yes",'Pod Commentary'!B22='Data Validation'!$B$6,"Yes",'Pod Commentary'!B22='Data Validation'!$B$7,"Yes",'Pod Commentary'!B22='Data Validation'!$B$8,"No",'Pod Commentary'!B22='Data Validation'!$B$9,"Yes",'Pod Commentary'!B22='Data Validation'!$B$10,"Yes",'Pod Commentary'!B22='Data Validation'!$B$11,"-"),"-")} -> No | K22: {=IFERROR(_xlfn.IFS(D22="Garage","No",B22='Data Validation'!$B$3,"Yes",'Pod Commentary'!B22='Data Validation'!$B$4,"No",'Pod Commentary'!B22='Data Validation'!$B$5,"No",'Pod Commentary'!B22='Data Validation'!$B$6,"No",'Pod Commentary'!B22='Data Validation'!$B$7,"No",'Pod Commentary'!B22='Data Validation'!$B$8,"Yes",'Pod Commentary'!B22='Data Validation'!$B$9,"No",'Pod Commentary'!B22='Data Validation'!$B$10,"No",'Pod Commentary'!B22='Data Validation'!$B$11,"No"),"-")} -> Yes | L22: {=IFERROR(_xlfn.IFS(B22='Data Validation'!$B$6,"Yes",B22='Data Validation'!$B$7,"Yes"),"-")} -> - | M22: Yes | N22: Ducting from dwelling's power supply to charger location | R22: =IFERROR(IF($B22=$R$1,"1","-")*1,"-") -> 1 | S22: =IFERROR(IF($B22=$S$1,"1","-")*1,"-") -> - | T22: =IFERROR(IF($B22=$T$1,"1","-")*1,"-") -> - | U22: =IFERROR(IF($B22=$U$1,"1","-")*1,"-") -> - | V22: =IFERROR(IF($B22=$V$1,"1","-")*1,"-") -> - | W22: =IFERROR(IF(E22=$W$1,"1","-")*1,"-") -> - | X22: =IFERROR(IF(E22=$X$1,"1","-")*1,"-") -> - | Y22: {=IFERROR(_xlfn.IFS(B22=$U$1,"2",B22=$V$1,"2",J22="Yes","1")*1,"-")} -> - | Z22: =IFERROR(IF(K22="Yes","1","-")*1,"-") -> 1 | AA22: =IFERROR(IF(L22="Yes","1","-")*1,"-") -> - | AB22: =IFERROR(IF(O22="Yes","1","-")*1,"-") -> - | AC22: =IFERROR(IF($B22=$AC$1,"1","-")*1,"-") -> - | AD22: =IFERROR(IF($B22=$AD$1,"1","-")*1,"-") -> - | AE22: =IFERROR(IF($B22=$AE$1,"1","-")*1,"-") -> -
A23: 22 | B23: S7-UCB-3 | C23: Active | D23: Remote (Wall Mounted) | E23: - | F23: Domestic | G23: - | H23: - | J23: {=IFERROR(_xlfn.IFS('Pod Commentary'!B23='Data Validation'!$B$3,"No",'Pod Commentary'!B23='Data Validation'!$B$4,"Yes",'Pod Commentary'!B23='Data Validation'!$B$5,"Yes",'Pod Commentary'!B23='Data Validation'!$B$6,"Yes",'Pod Commentary'!B23='Data Validation'!$B$7,"Yes",'Pod Commentary'!B23='Data Validation'!$B$8,"No",'Pod Commentary'!B23='Data Validation'!$B$9,"Yes",'Pod Commentary'!B23='Data Validation'!$B$10,"Yes",'Pod Commentary'!B23='Data Validation'!$B$11,"-"),"-")} -> No | K23: {=IFERROR(_xlfn.IFS(D23="Garage","No",B23='Data Validation'!$B$3,"Yes",'Pod Commentary'!B23='Data Validation'!$B$4,"No",'Pod Commentary'!B23='Data Validation'!$B$5,"No",'Pod Commentary'!B23='Data Validation'!$B$6,"No",'Pod Commentary'!B23='Data Validation'!$B$7,"No",'Pod Commentary'!B23='Data Validation'!$B$8,"Yes",'Pod Commentary'!B23='Data Validation'!$B$9,"No",'Pod Commentary'!B23='Data Validation'!$B$10,"No",'Pod Commentary'!B23='Data Validation'!$B$11,"No"),"-")} -> Yes | L23: {=IFERROR(_xlfn.IFS(B23='Data Validation'!$B$6,"Yes",B23='Data Validation'!$B$7,"Yes"),"-")} -> - | M23: Yes | N23: Ducting from dwelling's power supply to charger location | R23: =IFERROR(IF($B23=$R$1,"1","-")*1,"-") -> 1 | S23: =IFERROR(IF($B23=$S$1,"1","-")*1,"-") -> - | T23: =IFERROR(IF($B23=$T$1,"1","-")*1,"-") -> - | U23: =IFERROR(IF($B23=$U$1,"1","-")*1,"-") -> - | V23: =IFERROR(IF($B23=$V$1,"1","-")*1,"-") -> - | W23: =IFERROR(IF(E23=$W$1,"1","-")*1,"-") -> - | X23: =IFERROR(IF(E23=$X$1,"1","-")*1,"-") -> - | Y23: {=IFERROR(_xlfn.IFS(B23=$U$1,"2",B23=$V$1,"2",J23="Yes","1")*1,"-")} -> - | Z23: =IFERROR(IF(K23="Yes","1","-")*1,"-") -> 1 | AA23: =IFERROR(IF(L23="Yes","1","-")*1,"-") -> - | AB23: =IFERROR(IF(O23="Yes","1","-")*1,"-") -> - | AC23: =IFERROR(IF($B23=$AC$1,"1","-")*1,"-") -> - | AD23: =IFERROR(IF($B23=$AD$1,"1","-")*1,"-") -> - | AE23: =IFERROR(IF($B23=$AE$1,"1","-")*1,"-") -> -
A24: 23 | B24: S7-UCB-3 | C24: Active | D24: On Dwelling | E24: - | F24: Domestic | G24: - | H24: - | J24: {=IFERROR(_xlfn.IFS('Pod Commentary'!B24='Data Validation'!$B$3,"No",'Pod Commentary'!B24='Data Validation'!$B$4,"Yes",'Pod Commentary'!B24='Data Validation'!$B$5,"Yes",'Pod Commentary'!B24='Data Validation'!$B$6,"Yes",'Pod Commentary'!B24='Data Validation'!$B$7,"Yes",'Pod Commentary'!B24='Data Validation'!$B$8,"No",'Pod Commentary'!B24='Data Validation'!$B$9,"Yes",'Pod Commentary'!B24='Data Validation'!$B$10,"Yes",'Pod Commentary'!B24='Data Validation'!$B$11,"-"),"-")} -> No | K24: {=IFERROR(_xlfn.IFS(D24="Garage","No",B24='Data Validation'!$B$3,"Yes",'Pod Commentary'!B24='Data Validation'!$B$4,"No",'Pod Commentary'!B24='Data Validation'!$B$5,"No",'Pod Commentary'!B24='Data Validation'!$B$6,"No",'Pod Commentary'!B24='Data Validation'!$B$7,"No",'Pod Commentary'!B24='Data Validation'!$B$8,"Yes",'Pod Commentary'!B24='Data Validation'!$B$9,"No",'Pod Commentary'!B24='Data Validation'!$B$10,"No",'Pod Commentary'!B24='Data Validation'!$B$11,"No"),"-")} -> Yes | L24: {=IFERROR(_xlfn.IFS(B24='Data Validation'!$B$6,"Yes",B24='Data Validation'!$B$7,"Yes"),"-")} -> - | R24: =IFERROR(IF($B24=$R$1,"1","-")*1,"-") -> 1 | S24: =IFERROR(IF($B24=$S$1,"1","-")*1,"-") -> - | T24: =IFERROR(IF($B24=$T$1,"1","-")*1,"-") -> - | U24: =IFERROR(IF($B24=$U$1,"1","-")*1,"-") -> - | V24: =IFERROR(IF($B24=$V$1,"1","-")*1,"-") -> - | W24: =IFERROR(IF(E24=$W$1,"1","-")*1,"-") -> - | X24: =IFERROR(IF(E24=$X$1,"1","-")*1,"-") -> - | Y24: {=IFERROR(_xlfn.IFS(B24=$U$1,"2",B24=$V$1,"2",J24="Yes","1")*1,"-")} -> - | Z24: =IFERROR(IF(K24="Yes","1","-")*1,"-") -> 1 | AA24: =IFERROR(IF(L24="Yes","1","-")*1,"-") -> - | AB24: =IFERROR(IF(O24="Yes","1","-")*1,"-") -> - | AC24: =IFERROR(IF($B24=$AC$1,"1","-")*1,"-") -> - | AD24: =IFERROR(IF($B24=$AD$1,"1","-")*1,"-") -> - | AE24: =IFERROR(IF($B24=$AE$1,"1","-")*1,"-") -> -
A25: 24 | B25: S7-UCB-3 | C25: Active | D25: On Dwelling | E25: - | F25: Domestic | G25: - | H25: - | J25: {=IFERROR(_xlfn.IFS('Pod Commentary'!B25='Data Validation'!$B$3,"No",'Pod Commentary'!B25='Data Validation'!$B$4,"Yes",'Pod Commentary'!B25='Data Validation'!$B$5,"Yes",'Pod Commentary'!B25='Data Validation'!$B$6,"Yes",'Pod Commentary'!B25='Data Validation'!$B$7,"Yes",'Pod Commentary'!B25='Data Validation'!$B$8,"No",'Pod Commentary'!B25='Data Validation'!$B$9,"Yes",'Pod Commentary'!B25='Data Validation'!$B$10,"Yes",'Pod Commentary'!B25='Data Validation'!$B$11,"-"),"-")} -> No | K25: {=IFERROR(_xlfn.IFS(D25="Garage","No",B25='Data Validation'!$B$3,"Yes",'Pod Commentary'!B25='Data Validation'!$B$4,"No",'Pod Commentary'!B25='Data Validation'!$B$5,"No",'Pod Commentary'!B25='Data Validation'!$B$6,"No",'Pod Commentary'!B25='Data Validation'!$B$7,"No",'Pod Commentary'!B25='Data Validation'!$B$8,"Yes",'Pod Commentary'!B25='Data Validation'!$B$9,"No",'Pod Commentary'!B25='Data Validation'!$B$10,"No",'Pod Commentary'!B25='Data Validation'!$B$11,"No"),"-")} -> Yes | L25: {=IFERROR(_xlfn.IFS(B25='Data Validation'!$B$6,"Yes",B25='Data Validation'!$B$7,"Yes"),"-")} -> - | R25: =IFERROR(IF($B25=$R$1,"1","-")*1,"-") -> 1 | S25: =IFERROR(IF($B25=$S$1,"1","-")*1,"-") -> - | T25: =IFERROR(IF($B25=$T$1,"1","-")*1,"-") -> - | U25: =IFERROR(IF($B25=$U$1,"1","-")*1,"-") -> - | V25: =IFERROR(IF($B25=$V$1,"1","-")*1,"-") -> - | W25: =IFERROR(IF(E25=$W$1,"1","-")*1,"-") -> - | X25: =IFERROR(IF(E25=$X$1,"1","-")*1,"-") -> - | Y25: {=IFERROR(_xlfn.IFS(B25=$U$1,"2",B25=$V$1,"2",J25="Yes","1")*1,"-")} -> - | Z25: =IFERROR(IF(K25="Yes","1","-")*1,"-") -> 1 | AA25: =IFERROR(IF(L25="Yes","1","-")*1,"-") -> - | AB25: =IFERROR(IF(O25="Yes","1","-")*1,"-") -> - | AC25: =IFERROR(IF($B25=$AC$1,"1","-")*1,"-") -> - | AD25: =IFERROR(IF($B25=$AD$1,"1","-")*1,"-") -> - | AE25: =IFERROR(IF($B25=$AE$1,"1","-")*1,"-") -> -
A26: 25 | B26: S7-UCB-3 | C26: Active | D26: On Dwelling | E26: - | F26: Domestic | G26: - | H26: - | J26: {=IFERROR(_xlfn.IFS('Pod Commentary'!B26='Data Validation'!$B$3,"No",'Pod Commentary'!B26='Data Validation'!$B$4,"Yes",'Pod Commentary'!B26='Data Validation'!$B$5,"Yes",'Pod Commentary'!B26='Data Validation'!$B$6,"Yes",'Pod Commentary'!B26='Data Validation'!$B$7,"Yes",'Pod Commentary'!B26='Data Validation'!$B$8,"No",'Pod Commentary'!B26='Data Validation'!$B$9,"Yes",'Pod Commentary'!B26='Data Validation'!$B$10,"Yes",'Pod Commentary'!B26='Data Validation'!$B$11,"-"),"-")} -> No | K26: {=IFERROR(_xlfn.IFS(D26="Garage","No",B26='Data Validation'!$B$3,"Yes",'Pod Commentary'!B26='Data Validation'!$B$4,"No",'Pod Commentary'!B26='Data Validation'!$B$5,"No",'Pod Commentary'!B26='Data Validation'!$B$6,"No",'Pod Commentary'!B26='Data Validation'!$B$7,"No",'Pod Commentary'!B26='Data Validation'!$B$8,"Yes",'Pod Commentary'!B26='Data Validation'!$B$9,"No",'Pod Commentary'!B26='Data Validation'!$B$10,"No",'Pod Commentary'!B26='Data Validation'!$B$11,"No"),"-")} -> Yes | L26: {=IFERROR(_xlfn.IFS(B26='Data Validation'!$B$6,"Yes",B26='Data Validation'!$B$7,"Yes"),"-")} -> - | R26: =IFERROR(IF($B26=$R$1,"1","-")*1,"-") -> 1 | S26: =IFERROR(IF($B26=$S$1,"1","-")*1,"-") -> - | T26: =IFERROR(IF($B26=$T$1,"1","-")*1,"-") -> - | U26: =IFERROR(IF($B26=$U$1,"1","-")*1,"-") -> - | V26: =IFERROR(IF($B26=$V$1,"1","-")*1,"-") -> - | W26: =IFERROR(IF(E26=$W$1,"1","-")*1,"-") -> - | X26: =IFERROR(IF(E26=$X$1,"1","-")*1,"-") -> - | Y26: {=IFERROR(_xlfn.IFS(B26=$U$1,"2",B26=$V$1,"2",J26="Yes","1")*1,"-")} -> - | Z26: =IFERROR(IF(K26="Yes","1","-")*1,"-") -> 1 | AA26: =IFERROR(IF(L26="Yes","1","-")*1,"-") -> - | AB26: =IFERROR(IF(O26="Yes","1","-")*1,"-") -> - | AC26: =IFERROR(IF($B26=$AC$1,"1","-")*1,"-") -> - | AD26: =IFERROR(IF($B26=$AD$1,"1","-")*1,"-") -> - | AE26: =IFERROR(IF($B26=$AE$1,"1","-")*1,"-") -> -
A27: 26 | B27: S7-UCB-3 | C27: Active | D27: Remote (Freestanding) | E27: Single | F27: Domestic | G27: - | H27: - | J27: {=IFERROR(_xlfn.IFS('Pod Commentary'!B27='Data Validation'!$B$3,"No",'Pod Commentary'!B27='Data Validation'!$B$4,"Yes",'Pod Commentary'!B27='Data Validation'!$B$5,"Yes",'Pod Commentary'!B27='Data Validation'!$B$6,"Yes",'Pod Commentary'!B27='Data Validation'!$B$7,"Yes",'Pod Commentary'!B27='Data Validation'!$B$8,"No",'Pod Commentary'!B27='Data Validation'!$B$9,"Yes",'Pod Commentary'!B27='Data Validation'!$B$10,"Yes",'Pod Commentary'!B27='Data Validation'!$B$11,"-"),"-")} -> No | K27: {=IFERROR(_xlfn.IFS(D27="Garage","No",B27='Data Validation'!$B$3,"Yes",'Pod Commentary'!B27='Data Validation'!$B$4,"No",'Pod Commentary'!B27='Data Validation'!$B$5,"No",'Pod Commentary'!B27='Data Validation'!$B$6,"No",'Pod Commentary'!B27='Data Validation'!$B$7,"No",'Pod Commentary'!B27='Data Validation'!$B$8,"Yes",'Pod Commentary'!B27='Data Validation'!$B$9,"No",'Pod Commentary'!B27='Data Validation'!$B$10,"No",'Pod Commentary'!B27='Data Validation'!$B$11,"No"),"-")} -> Yes | L27: {=IFERROR(_xlfn.IFS(B27='Data Validation'!$B$6,"Yes",B27='Data Validation'!$B$7,"Yes"),"-")} -> - | M27: Yes | N27: Ducting from dwelling's power supply to charger location | R27: =IFERROR(IF($B27=$R$1,"1","-")*1,"-") -> 1 | S27: =IFERROR(IF($B27=$S$1,"1","-")*1,"-") -> - | T27: =IFERROR(IF($B27=$T$1,"1","-")*1,"-") -> - | U27: =IFERROR(IF($B27=$U$1,"1","-")*1,"-") -> - | V27: =IFERROR(IF($B27=$V$1,"1","-")*1,"-") -> - | W27: =IFERROR(IF(E27=$W$1,"1","-")*1,"-") -> 1 | X27: =IFERROR(IF(E27=$X$1,"1","-")*1,"-") -> - | Y27: {=IFERROR(_xlfn.IFS(B27=$U$1,"2",B27=$V$1,"2",J27="Yes","1")*1,"-")} -> - | Z27: =IFERROR(IF(K27="Yes","1","-")*1,"-") -> 1 | AA27: =IFERROR(IF(L27="Yes","1","-")*1,"-") -> - | AB27: =IFERROR(IF(O27="Yes","1","-")*1,"-") -> - | AC27: =IFERROR(IF($B27=$AC$1,"1","-")*1,"-") -> - | AD27: =IFERROR(IF($B27=$AD$1,"1","-")*1,"-") -> - | AE27: =IFERROR(IF($B27=$AE$1,"1","-")*1,"-") -> -
A28: 27 | B28: S7-UCB-3 | C28: Active | D28: Remote (Freestanding) | E28: Single | F28: Domestic | G28: - | H28: - | J28: {=IFERROR(_xlfn.IFS('Pod Commentary'!B28='Data Validation'!$B$3,"No",'Pod Commentary'!B28='Data Validation'!$B$4,"Yes",'Pod Commentary'!B28='Data Validation'!$B$5,"Yes",'Pod Commentary'!B28='Data Validation'!$B$6,"Yes",'Pod Commentary'!B28='Data Validation'!$B$7,"Yes",'Pod Commentary'!B28='Data Validation'!$B$8,"No",'Pod Commentary'!B28='Data Validation'!$B$9,"Yes",'Pod Commentary'!B28='Data Validation'!$B$10,"Yes",'Pod Commentary'!B28='Data Validation'!$B$11,"-"),"-")} -> No | K28: {=IFERROR(_xlfn.IFS(D28="Garage","No",B28='Data Validation'!$B$3,"Yes",'Pod Commentary'!B28='Data Validation'!$B$4,"No",'Pod Commentary'!B28='Data Validation'!$B$5,"No",'Pod Commentary'!B28='Data Validation'!$B$6,"No",'Pod Commentary'!B28='Data Validation'!$B$7,"No",'Pod Commentary'!B28='Data Validation'!$B$8,"Yes",'Pod Commentary'!B28='Data Validation'!$B$9,"No",'Pod Commentary'!B28='Data Validation'!$B$10,"No",'Pod Commentary'!B28='Data Validation'!$B$11,"No"),"-")} -> Yes | L28: {=IFERROR(_xlfn.IFS(B28='Data Validation'!$B$6,"Yes",B28='Data Validation'!$B$7,"Yes"),"-")} -> - | M28: Yes | N28: Ducting from dwelling's power supply to charger location | R28: =IFERROR(IF($B28=$R$1,"1","-")*1,"-") -> 1 | S28: =IFERROR(IF($B28=$S$1,"1","-")*1,"-") -> - | T28: =IFERROR(IF($B28=$T$1,"1","-")*1,"-") -> - | U28: =IFERROR(IF($B28=$U$1,"1","-")*1,"-") -> - | V28: =IFERROR(IF($B28=$V$1,"1","-")*1,"-") -> - | W28: =IFERROR(IF(E28=$W$1,"1","-")*1,"-") -> 1 | X28: =IFERROR(IF(E28=$X$1,"1","-")*1,"-") -> - | Y28: {=IFERROR(_xlfn.IFS(B28=$U$1,"2",B28=$V$1,"2",J28="Yes","1")*1,"-")} -> - | Z28: =IFERROR(IF(K28="Yes","1","-")*1,"-") -> 1 | AA28: =IFERROR(IF(L28="Yes","1","-")*1,"-") -> - | AB28: =IFERROR(IF(O28="Yes","1","-")*1,"-") -> - | AC28: =IFERROR(IF($B28=$AC$1,"1","-")*1,"-") -> - | AD28: =IFERROR(IF($B28=$AD$1,"1","-")*1,"-") -> - | AE28: =IFERROR(IF($B28=$AE$1,"1","-")*1,"-") -> -
A29: 28 | B29: S7-UCB-3 | C29: Active | D29: Remote (Freestanding) | E29: Single | F29: Domestic | G29: - | H29: - | J29: {=IFERROR(_xlfn.IFS('Pod Commentary'!B29='Data Validation'!$B$3,"No",'Pod Commentary'!B29='Data Validation'!$B$4,"Yes",'Pod Commentary'!B29='Data Validation'!$B$5,"Yes",'Pod Commentary'!B29='Data Validation'!$B$6,"Yes",'Pod Commentary'!B29='Data Validation'!$B$7,"Yes",'Pod Commentary'!B29='Data Validation'!$B$8,"No",'Pod Commentary'!B29='Data Validation'!$B$9,"Yes",'Pod Commentary'!B29='Data Validation'!$B$10,"Yes",'Pod Commentary'!B29='Data Validation'!$B$11,"-"),"-")} -> No | K29: {=IFERROR(_xlfn.IFS(D29="Garage","No",B29='Data Validation'!$B$3,"Yes",'Pod Commentary'!B29='Data Validation'!$B$4,"No",'Pod Commentary'!B29='Data Validation'!$B$5,"No",'Pod Commentary'!B29='Data Validation'!$B$6,"No",'Pod Commentary'!B29='Data Validation'!$B$7,"No",'Pod Commentary'!B29='Data Validation'!$B$8,"Yes",'Pod Commentary'!B29='Data Validation'!$B$9,"No",'Pod Commentary'!B29='Data Validation'!$B$10,"No",'Pod Commentary'!B29='Data Validation'!$B$11,"No"),"-")} -> Yes | L29: {=IFERROR(_xlfn.IFS(B29='Data Validation'!$B$6,"Yes",B29='Data Validation'!$B$7,"Yes"),"-")} -> - | M29: Yes | N29: Ducting from dwelling's power supply to charger location | R29: =IFERROR(IF($B29=$R$1,"1","-")*1,"-") -> 1 | S29: =IFERROR(IF($B29=$S$1,"1","-")*1,"-") -> - | T29: =IFERROR(IF($B29=$T$1,"1","-")*1,"-") -> - | U29: =IFERROR(IF($B29=$U$1,"1","-")*1,"-") -> - | V29: =IFERROR(IF($B29=$V$1,"1","-")*1,"-") -> - | W29: =IFERROR(IF(E29=$W$1,"1","-")*1,"-") -> 1 | X29: =IFERROR(IF(E29=$X$1,"1","-")*1,"-") -> - | Y29: {=IFERROR(_xlfn.IFS(B29=$U$1,"2",B29=$V$1,"2",J29="Yes","1")*1,"-")} -> - | Z29: =IFERROR(IF(K29="Yes","1","-")*1,"-") -> 1 | AA29: =IFERROR(IF(L29="Yes","1","-")*1,"-") -> - | AB29: =IFERROR(IF(O29="Yes","1","-")*1,"-") -> - | AC29: =IFERROR(IF($B29=$AC$1,"1","-")*1,"-") -> - | AD29: =IFERROR(IF($B29=$AD$1,"1","-")*1,"-") -> - | AE29: =IFERROR(IF($B29=$AE$1,"1","-")*1,"-") -> -
A30: 29 | B30: S7-UCB-3 | C30: Active | D30: Remote (Freestanding) | E30: Single | F30: Domestic | G30: - | H30: - | J30: {=IFERROR(_xlfn.IFS('Pod Commentary'!B30='Data Validation'!$B$3,"No",'Pod Commentary'!B30='Data Validation'!$B$4,"Yes",'Pod Commentary'!B30='Data Validation'!$B$5,"Yes",'Pod Commentary'!B30='Data Validation'!$B$6,"Yes",'Pod Commentary'!B30='Data Validation'!$B$7,"Yes",'Pod Commentary'!B30='Data Validation'!$B$8,"No",'Pod Commentary'!B30='Data Validation'!$B$9,"Yes",'Pod Commentary'!B30='Data Validation'!$B$10,"Yes",'Pod Commentary'!B30='Data Validation'!$B$11,"-"),"-")} -> No | K30: {=IFERROR(_xlfn.IFS(D30="Garage","No",B30='Data Validation'!$B$3,"Yes",'Pod Commentary'!B30='Data Validation'!$B$4,"No",'Pod Commentary'!B30='Data Validation'!$B$5,"No",'Pod Commentary'!B30='Data Validation'!$B$6,"No",'Pod Commentary'!B30='Data Validation'!$B$7,"No",'Pod Commentary'!B30='Data Validation'!$B$8,"Yes",'Pod Commentary'!B30='Data Validation'!$B$9,"No",'Pod Commentary'!B30='Data Validation'!$B$10,"No",'Pod Commentary'!B30='Data Validation'!$B$11,"No"),"-")} -> Yes | L30: {=IFERROR(_xlfn.IFS(B30='Data Validation'!$B$6,"Yes",B30='Data Validation'!$B$7,"Yes"),"-")} -> - | M30: Yes | N30: Ducting from dwelling's power supply to charger location | R30: =IFERROR(IF($B30=$R$1,"1","-")*1,"-") -> 1 | S30: =IFERROR(IF($B30=$S$1,"1","-")*1,"-") -> - | T30: =IFERROR(IF($B30=$T$1,"1","-")*1,"-") -> - | U30: =IFERROR(IF($B30=$U$1,"1","-")*1,"-") -> - | V30: =IFERROR(IF($B30=$V$1,"1","-")*1,"-") -> - | W30: =IFERROR(IF(E30=$W$1,"1","-")*1,"-") -> 1 | X30: =IFERROR(IF(E30=$X$1,"1","-")*1,"-") -> - | Y30: {=IFERROR(_xlfn.IFS(B30=$U$1,"2",B30=$V$1,"2",J30="Yes","1")*1,"-")} -> - | Z30: =IFERROR(IF(K30="Yes","1","-")*1,"-") -> 1 | AA30: =IFERROR(IF(L30="Yes","1","-")*1,"-") -> - | AB30: =IFERROR(IF(O30="Yes","1","-")*1,"-") -> - | AC30: =IFERROR(IF($B30=$AC$1,"1","-")*1,"-") -> - | AD30: =IFERROR(IF($B30=$AD$1,"1","-")*1,"-") -> - | AE30: =IFERROR(IF($B30=$AE$1,"1","-")*1,"-") -> -
A31: 30 | B31: S7-UCB-3 | C31: Active | D31: Remote (Freestanding) | E31: Single | F31: Domestic | G31: - | H31: - | J31: {=IFERROR(_xlfn.IFS('Pod Commentary'!B31='Data Validation'!$B$3,"No",'Pod Commentary'!B31='Data Validation'!$B$4,"Yes",'Pod Commentary'!B31='Data Validation'!$B$5,"Yes",'Pod Commentary'!B31='Data Validation'!$B$6,"Yes",'Pod Commentary'!B31='Data Validation'!$B$7,"Yes",'Pod Commentary'!B31='Data Validation'!$B$8,"No",'Pod Commentary'!B31='Data Validation'!$B$9,"Yes",'Pod Commentary'!B31='Data Validation'!$B$10,"Yes",'Pod Commentary'!B31='Data Validation'!$B$11,"-"),"-")} -> No | K31: {=IFERROR(_xlfn.IFS(D31="Garage","No",B31='Data Validation'!$B$3,"Yes",'Pod Commentary'!B31='Data Validation'!$B$4,"No",'Pod Commentary'!B31='Data Validation'!$B$5,"No",'Pod Commentary'!B31='Data Validation'!$B$6,"No",'Pod Commentary'!B31='Data Validation'!$B$7,"No",'Pod Commentary'!B31='Data Validation'!$B$8,"Yes",'Pod Commentary'!B31='Data Validation'!$B$9,"No",'Pod Commentary'!B31='Data Validation'!$B$10,"No",'Pod Commentary'!B31='Data Validation'!$B$11,"No"),"-")} -> Yes | L31: {=IFERROR(_xlfn.IFS(B31='Data Validation'!$B$6,"Yes",B31='Data Validation'!$B$7,"Yes"),"-")} -> - | M31: Yes | N31: Ducting from dwelling's power supply to charger location | R31: =IFERROR(IF($B31=$R$1,"1","-")*1,"-") -> 1 | S31: =IFERROR(IF($B31=$S$1,"1","-")*1,"-") -> - | T31: =IFERROR(IF($B31=$T$1,"1","-")*1,"-") -> - | U31: =IFERROR(IF($B31=$U$1,"1","-")*1,"-") -> - | V31: =IFERROR(IF($B31=$V$1,"1","-")*1,"-") -> - | W31: =IFERROR(IF(E31=$W$1,"1","-")*1,"-") -> 1 | X31: =IFERROR(IF(E31=$X$1,"1","-")*1,"-") -> - | Y31: {=IFERROR(_xlfn.IFS(B31=$U$1,"2",B31=$V$1,"2",J31="Yes","1")*1,"-")} -> - | Z31: =IFERROR(IF(K31="Yes","1","-")*1,"-") -> 1 | AA31: =IFERROR(IF(L31="Yes","1","-")*1,"-") -> - | AB31: =IFERROR(IF(O31="Yes","1","-")*1,"-") -> - | AC31: =IFERROR(IF($B31=$AC$1,"1","-")*1,"-") -> - | AD31: =IFERROR(IF($B31=$AD$1,"1","-")*1,"-") -> - | AE31: =IFERROR(IF($B31=$AE$1,"1","-")*1,"-") -> -
A32: 31 | B32: S7-UCB-3 | C32: Active | D32: Remote (Freestanding) | E32: Single | F32: Domestic | G32: - | H32: - | J32: {=IFERROR(_xlfn.IFS('Pod Commentary'!B32='Data Validation'!$B$3,"No",'Pod Commentary'!B32='Data Validation'!$B$4,"Yes",'Pod Commentary'!B32='Data Validation'!$B$5,"Yes",'Pod Commentary'!B32='Data Validation'!$B$6,"Yes",'Pod Commentary'!B32='Data Validation'!$B$7,"Yes",'Pod Commentary'!B32='Data Validation'!$B$8,"No",'Pod Commentary'!B32='Data Validation'!$B$9,"Yes",'Pod Commentary'!B32='Data Validation'!$B$10,"Yes",'Pod Commentary'!B32='Data Validation'!$B$11,"-"),"-")} -> No | K32: {=IFERROR(_xlfn.IFS(D32="Garage","No",B32='Data Validation'!$B$3,"Yes",'Pod Commentary'!B32='Data Validation'!$B$4,"No",'Pod Commentary'!B32='Data Validation'!$B$5,"No",'Pod Commentary'!B32='Data Validation'!$B$6,"No",'Pod Commentary'!B32='Data Validation'!$B$7,"No",'Pod Commentary'!B32='Data Validation'!$B$8,"Yes",'Pod Commentary'!B32='Data Validation'!$B$9,"No",'Pod Commentary'!B32='Data Validation'!$B$10,"No",'Pod Commentary'!B32='Data Validation'!$B$11,"No"),"-")} -> Yes | L32: {=IFERROR(_xlfn.IFS(B32='Data Validation'!$B$6,"Yes",B32='Data Validation'!$B$7,"Yes"),"-")} -> - | M32: Yes | N32: Ducting from dwelling's power supply to charger location | R32: =IFERROR(IF($B32=$R$1,"1","-")*1,"-") -> 1 | S32: =IFERROR(IF($B32=$S$1,"1","-")*1,"-") -> - | T32: =IFERROR(IF($B32=$T$1,"1","-")*1,"-") -> - | U32: =IFERROR(IF($B32=$U$1,"1","-")*1,"-") -> - | V32: =IFERROR(IF($B32=$V$1,"1","-")*1,"-") -> - | W32: =IFERROR(IF(E32=$W$1,"1","-")*1,"-") -> 1 | X32: =IFERROR(IF(E32=$X$1,"1","-")*1,"-") -> - | Y32: {=IFERROR(_xlfn.IFS(B32=$U$1,"2",B32=$V$1,"2",J32="Yes","1")*1,"-")} -> - | Z32: =IFERROR(IF(K32="Yes","1","-")*1,"-") -> 1 | AA32: =IFERROR(IF(L32="Yes","1","-")*1,"-") -> - | AB32: =IFERROR(IF(O32="Yes","1","-")*1,"-") -> - | AC32: =IFERROR(IF($B32=$AC$1,"1","-")*1,"-") -> - | AD32: =IFERROR(IF($B32=$AD$1,"1","-")*1,"-") -> - | AE32: =IFERROR(IF($B32=$AE$1,"1","-")*1,"-") -> -
A33: 32 | B33: S7-UCB-3 | C33: Active | D33: Remote (Freestanding) | E33: Single | F33: Domestic | G33: - | H33: - | J33: {=IFERROR(_xlfn.IFS('Pod Commentary'!B33='Data Validation'!$B$3,"No",'Pod Commentary'!B33='Data Validation'!$B$4,"Yes",'Pod Commentary'!B33='Data Validation'!$B$5,"Yes",'Pod Commentary'!B33='Data Validation'!$B$6,"Yes",'Pod Commentary'!B33='Data Validation'!$B$7,"Yes",'Pod Commentary'!B33='Data Validation'!$B$8,"No",'Pod Commentary'!B33='Data Validation'!$B$9,"Yes",'Pod Commentary'!B33='Data Validation'!$B$10,"Yes",'Pod Commentary'!B33='Data Validation'!$B$11,"-"),"-")} -> No | K33: {=IFERROR(_xlfn.IFS(D33="Garage","No",B33='Data Validation'!$B$3,"Yes",'Pod Commentary'!B33='Data Validation'!$B$4,"No",'Pod Commentary'!B33='Data Validation'!$B$5,"No",'Pod Commentary'!B33='Data Validation'!$B$6,"No",'Pod Commentary'!B33='Data Validation'!$B$7,"No",'Pod Commentary'!B33='Data Validation'!$B$8,"Yes",'Pod Commentary'!B33='Data Validation'!$B$9,"No",'Pod Commentary'!B33='Data Validation'!$B$10,"No",'Pod Commentary'!B33='Data Validation'!$B$11,"No"),"-")} -> Yes | L33: {=IFERROR(_xlfn.IFS(B33='Data Validation'!$B$6,"Yes",B33='Data Validation'!$B$7,"Yes"),"-")} -> - | M33: Yes | N33: Ducting from dwelling's power supply to charger location | R33: =IFERROR(IF($B33=$R$1,"1","-")*1,"-") -> 1 | S33: =IFERROR(IF($B33=$S$1,"1","-")*1,"-") -> - | T33: =IFERROR(IF($B33=$T$1,"1","-")*1,"-") -> - | U33: =IFERROR(IF($B33=$U$1,"1","-")*1,"-") -> - | V33: =IFERROR(IF($B33=$V$1,"1","-")*1,"-") -> - | W33: =IFERROR(IF(E33=$W$1,"1","-")*1,"-") -> 1 | X33: =IFERROR(IF(E33=$X$1,"1","-")*1,"-") -> - | Y33: {=IFERROR(_xlfn.IFS(B33=$U$1,"2",B33=$V$1,"2",J33="Yes","1")*1,"-")} -> - | Z33: =IFERROR(IF(K33="Yes","1","-")*1,"-") -> 1 | AA33: =IFERROR(IF(L33="Yes","1","-")*1,"-") -> - | AB33: =IFERROR(IF(O33="Yes","1","-")*1,"-") -> - | AC33: =IFERROR(IF($B33=$AC$1,"1","-")*1,"-") -> - | AD33: =IFERROR(IF($B33=$AD$1,"1","-")*1,"-") -> - | AE33: =IFERROR(IF($B33=$AE$1,"1","-")*1,"-") -> -
A34: 33 | B34: S7-UCB-3 | C34: Active | D34: Remote (Freestanding) | E34: Single | F34: Domestic | G34: - | H34: - | J34: {=IFERROR(_xlfn.IFS('Pod Commentary'!B34='Data Validation'!$B$3,"No",'Pod Commentary'!B34='Data Validation'!$B$4,"Yes",'Pod Commentary'!B34='Data Validation'!$B$5,"Yes",'Pod Commentary'!B34='Data Validation'!$B$6,"Yes",'Pod Commentary'!B34='Data Validation'!$B$7,"Yes",'Pod Commentary'!B34='Data Validation'!$B$8,"No",'Pod Commentary'!B34='Data Validation'!$B$9,"Yes",'Pod Commentary'!B34='Data Validation'!$B$10,"Yes",'Pod Commentary'!B34='Data Validation'!$B$11,"-"),"-")} -> No | K34: {=IFERROR(_xlfn.IFS(D34="Garage","No",B34='Data Validation'!$B$3,"Yes",'Pod Commentary'!B34='Data Validation'!$B$4,"No",'Pod Commentary'!B34='Data Validation'!$B$5,"No",'Pod Commentary'!B34='Data Validation'!$B$6,"No",'Pod Commentary'!B34='Data Validation'!$B$7,"No",'Pod Commentary'!B34='Data Validation'!$B$8,"Yes",'Pod Commentary'!B34='Data Validation'!$B$9,"No",'Pod Commentary'!B34='Data Validation'!$B$10,"No",'Pod Commentary'!B34='Data Validation'!$B$11,"No"),"-")} -> Yes | L34: {=IFERROR(_xlfn.IFS(B34='Data Validation'!$B$6,"Yes",B34='Data Validation'!$B$7,"Yes"),"-")} -> - | M34: Yes | N34: Ducting from dwelling's power supply to charger location | R34: =IFERROR(IF($B34=$R$1,"1","-")*1,"-") -> 1 | S34: =IFERROR(IF($B34=$S$1,"1","-")*1,"-") -> - | T34: =IFERROR(IF($B34=$T$1,"1","-")*1,"-") -> - | U34: =IFERROR(IF($B34=$U$1,"1","-")*1,"-") -> - | V34: =IFERROR(IF($B34=$V$1,"1","-")*1,"-") -> - | W34: =IFERROR(IF(E34=$W$1,"1","-")*1,"-") -> 1 | X34: =IFERROR(IF(E34=$X$1,"1","-")*1,"-") -> - | Y34: {=IFERROR(_xlfn.IFS(B34=$U$1,"2",B34=$V$1,"2",J34="Yes","1")*1,"-")} -> - | Z34: =IFERROR(IF(K34="Yes","1","-")*1,"-") -> 1 | AA34: =IFERROR(IF(L34="Yes","1","-")*1,"-") -> - | AB34: =IFERROR(IF(O34="Yes","1","-")*1,"-") -> - | AC34: =IFERROR(IF($B34=$AC$1,"1","-")*1,"-") -> - | AD34: =IFERROR(IF($B34=$AD$1,"1","-")*1,"-") -> - | AE34: =IFERROR(IF($B34=$AE$1,"1","-")*1,"-") -> -
A35: 34 | B35: S7-UCB-3 | C35: Active | D35: Remote (Freestanding) | E35: Single | F35: Domestic | G35: - | H35: - | J35: {=IFERROR(_xlfn.IFS('Pod Commentary'!B35='Data Validation'!$B$3,"No",'Pod Commentary'!B35='Data Validation'!$B$4,"Yes",'Pod Commentary'!B35='Data Validation'!$B$5,"Yes",'Pod Commentary'!B35='Data Validation'!$B$6,"Yes",'Pod Commentary'!B35='Data Validation'!$B$7,"Yes",'Pod Commentary'!B35='Data Validation'!$B$8,"No",'Pod Commentary'!B35='Data Validation'!$B$9,"Yes",'Pod Commentary'!B35='Data Validation'!$B$10,"Yes",'Pod Commentary'!B35='Data Validation'!$B$11,"-"),"-")} -> No | K35: {=IFERROR(_xlfn.IFS(D35="Garage","No",B35='Data Validation'!$B$3,"Yes",'Pod Commentary'!B35='Data Validation'!$B$4,"No",'Pod Commentary'!B35='Data Validation'!$B$5,"No",'Pod Commentary'!B35='Data Validation'!$B$6,"No",'Pod Commentary'!B35='Data Validation'!$B$7,"No",'Pod Commentary'!B35='Data Validation'!$B$8,"Yes",'Pod Commentary'!B35='Data Validation'!$B$9,"No",'Pod Commentary'!B35='Data Validation'!$B$10,"No",'Pod Commentary'!B35='Data Validation'!$B$11,"No"),"-")} -> Yes | L35: {=IFERROR(_xlfn.IFS(B35='Data Validation'!$B$6,"Yes",B35='Data Validation'!$B$7,"Yes"),"-")} -> - | M35: Yes | N35: Ducting from dwelling's power supply to charger location | R35: =IFERROR(IF($B35=$R$1,"1","-")*1,"-") -> 1 | S35: =IFERROR(IF($B35=$S$1,"1","-")*1,"-") -> - | T35: =IFERROR(IF($B35=$T$1,"1","-")*1,"-") -> - | U35: =IFERROR(IF($B35=$U$1,"1","-")*1,"-") -> - | V35: =IFERROR(IF($B35=$V$1,"1","-")*1,"-") -> - | W35: =IFERROR(IF(E35=$W$1,"1","-")*1,"-") -> 1 | X35: =IFERROR(IF(E35=$X$1,"1","-")*1,"-") -> - | Y35: {=IFERROR(_xlfn.IFS(B35=$U$1,"2",B35=$V$1,"2",J35="Yes","1")*1,"-")} -> - | Z35: =IFERROR(IF(K35="Yes","1","-")*1,"-") -> 1 | AA35: =IFERROR(IF(L35="Yes","1","-")*1,"-") -> - | AB35: =IFERROR(IF(O35="Yes","1","-")*1,"-") -> - | AC35: =IFERROR(IF($B35=$AC$1,"1","-")*1,"-") -> - | AD35: =IFERROR(IF($B35=$AD$1,"1","-")*1,"-") -> - | AE35: =IFERROR(IF($B35=$AE$1,"1","-")*1,"-") -> -
A36: 35 | B36: S7-UCB-3 | C36: Active | D36: On Dwelling | E36: - | F36: Domestic | G36: - | H36: - | J36: {=IFERROR(_xlfn.IFS('Pod Commentary'!B36='Data Validation'!$B$3,"No",'Pod Commentary'!B36='Data Validation'!$B$4,"Yes",'Pod Commentary'!B36='Data Validation'!$B$5,"Yes",'Pod Commentary'!B36='Data Validation'!$B$6,"Yes",'Pod Commentary'!B36='Data Validation'!$B$7,"Yes",'Pod Commentary'!B36='Data Validation'!$B$8,"No",'Pod Commentary'!B36='Data Validation'!$B$9,"Yes",'Pod Commentary'!B36='Data Validation'!$B$10,"Yes",'Pod Commentary'!B36='Data Validation'!$B$11,"-"),"-")} -> No | K36: {=IFERROR(_xlfn.IFS(D36="Garage","No",B36='Data Validation'!$B$3,"Yes",'Pod Commentary'!B36='Data Validation'!$B$4,"No",'Pod Commentary'!B36='Data Validation'!$B$5,"No",'Pod Commentary'!B36='Data Validation'!$B$6,"No",'Pod Commentary'!B36='Data Validation'!$B$7,"No",'Pod Commentary'!B36='Data Validation'!$B$8,"Yes",'Pod Commentary'!B36='Data Validation'!$B$9,"No",'Pod Commentary'!B36='Data Validation'!$B$10,"No",'Pod Commentary'!B36='Data Validation'!$B$11,"No"),"-")} -> Yes | L36: {=IFERROR(_xlfn.IFS(B36='Data Validation'!$B$6,"Yes",B36='Data Validation'!$B$7,"Yes"),"-")} -> - | R36: =IFERROR(IF($B36=$R$1,"1","-")*1,"-") -> 1 | S36: =IFERROR(IF($B36=$S$1,"1","-")*1,"-") -> - | T36: =IFERROR(IF($B36=$T$1,"1","-")*1,"-") -> - | U36: =IFERROR(IF($B36=$U$1,"1","-")*1,"-") -> - | V36: =IFERROR(IF($B36=$V$1,"1","-")*1,"-") -> - | W36: =IFERROR(IF(E36=$W$1,"1","-")*1,"-") -> - | X36: =IFERROR(IF(E36=$X$1,"1","-")*1,"-") -> - | Y36: {=IFERROR(_xlfn.IFS(B36=$U$1,"2",B36=$V$1,"2",J36="Yes","1")*1,"-")} -> - | Z36: =IFERROR(IF(K36="Yes","1","-")*1,"-") -> 1 | AA36: =IFERROR(IF(L36="Yes","1","-")*1,"-") -> - | AB36: =IFERROR(IF(O36="Yes","1","-")*1,"-") -> - | AC36: =IFERROR(IF($B36=$AC$1,"1","-")*1,"-") -> - | AD36: =IFERROR(IF($B36=$AD$1,"1","-")*1,"-") -> - | AE36: =IFERROR(IF($B36=$AE$1,"1","-")*1,"-") -> -
A37: 36 | B37: S7-UCB-3 | C37: Active | D37: On Dwelling | E37: - | F37: Domestic | G37: - | H37: - | J37: {=IFERROR(_xlfn.IFS('Pod Commentary'!B37='Data Validation'!$B$3,"No",'Pod Commentary'!B37='Data Validation'!$B$4,"Yes",'Pod Commentary'!B37='Data Validation'!$B$5,"Yes",'Pod Commentary'!B37='Data Validation'!$B$6,"Yes",'Pod Commentary'!B37='Data Validation'!$B$7,"Yes",'Pod Commentary'!B37='Data Validation'!$B$8,"No",'Pod Commentary'!B37='Data Validation'!$B$9,"Yes",'Pod Commentary'!B37='Data Validation'!$B$10,"Yes",'Pod Commentary'!B37='Data Validation'!$B$11,"-"),"-")} -> No | K37: {=IFERROR(_xlfn.IFS(D37="Garage","No",B37='Data Validation'!$B$3,"Yes",'Pod Commentary'!B37='Data Validation'!$B$4,"No",'Pod Commentary'!B37='Data Validation'!$B$5,"No",'Pod Commentary'!B37='Data Validation'!$B$6,"No",'Pod Commentary'!B37='Data Validation'!$B$7,"No",'Pod Commentary'!B37='Data Validation'!$B$8,"Yes",'Pod Commentary'!B37='Data Validation'!$B$9,"No",'Pod Commentary'!B37='Data Validation'!$B$10,"No",'Pod Commentary'!B37='Data Validation'!$B$11,"No"),"-")} -> Yes | L37: {=IFERROR(_xlfn.IFS(B37='Data Validation'!$B$6,"Yes",B37='Data Validation'!$B$7,"Yes"),"-")} -> - | R37: =IFERROR(IF($B37=$R$1,"1","-")*1,"-") -> 1 | S37: =IFERROR(IF($B37=$S$1,"1","-")*1,"-") -> - | T37: =IFERROR(IF($B37=$T$1,"1","-")*1,"-") -> - | U37: =IFERROR(IF($B37=$U$1,"1","-")*1,"-") -> - | V37: =IFERROR(IF($B37=$V$1,"1","-")*1,"-") -> - | W37: =IFERROR(IF(E37=$W$1,"1","-")*1,"-") -> - | X37: =IFERROR(IF(E37=$X$1,"1","-")*1,"-") -> - | Y37: {=IFERROR(_xlfn.IFS(B37=$U$1,"2",B37=$V$1,"2",J37="Yes","1")*1,"-")} -> - | Z37: =IFERROR(IF(K37="Yes","1","-")*1,"-") -> 1 | AA37: =IFERROR(IF(L37="Yes","1","-")*1,"-") -> - | AB37: =IFERROR(IF(O37="Yes","1","-")*1,"-") -> - | AC37: =IFERROR(IF($B37=$AC$1,"1","-")*1,"-") -> - | AD37: =IFERROR(IF($B37=$AD$1,"1","-")*1,"-") -> - | AE37: =IFERROR(IF($B37=$AE$1,"1","-")*1,"-") -> -
A38: 37 | B38: S7-UCB-3 | C38: Active | D38: On Dwelling | E38: - | F38: Domestic | G38: - | H38: - | J38: {=IFERROR(_xlfn.IFS('Pod Commentary'!B38='Data Validation'!$B$3,"No",'Pod Commentary'!B38='Data Validation'!$B$4,"Yes",'Pod Commentary'!B38='Data Validation'!$B$5,"Yes",'Pod Commentary'!B38='Data Validation'!$B$6,"Yes",'Pod Commentary'!B38='Data Validation'!$B$7,"Yes",'Pod Commentary'!B38='Data Validation'!$B$8,"No",'Pod Commentary'!B38='Data Validation'!$B$9,"Yes",'Pod Commentary'!B38='Data Validation'!$B$10,"Yes",'Pod Commentary'!B38='Data Validation'!$B$11,"-"),"-")} -> No | K38: {=IFERROR(_xlfn.IFS(D38="Garage","No",B38='Data Validation'!$B$3,"Yes",'Pod Commentary'!B38='Data Validation'!$B$4,"No",'Pod Commentary'!B38='Data Validation'!$B$5,"No",'Pod Commentary'!B38='Data Validation'!$B$6,"No",'Pod Commentary'!B38='Data Validation'!$B$7,"No",'Pod Commentary'!B38='Data Validation'!$B$8,"Yes",'Pod Commentary'!B38='Data Validation'!$B$9,"No",'Pod Commentary'!B38='Data Validation'!$B$10,"No",'Pod Commentary'!B38='Data Validation'!$B$11,"No"),"-")} -> Yes | L38: {=IFERROR(_xlfn.IFS(B38='Data Validation'!$B$6,"Yes",B38='Data Validation'!$B$7,"Yes"),"-")} -> - | R38: =IFERROR(IF($B38=$R$1,"1","-")*1,"-") -> 1 | S38: =IFERROR(IF($B38=$S$1,"1","-")*1,"-") -> - | T38: =IFERROR(IF($B38=$T$1,"1","-")*1,"-") -> - | U38: =IFERROR(IF($B38=$U$1,"1","-")*1,"-") -> - | V38: =IFERROR(IF($B38=$V$1,"1","-")*1,"-") -> - | W38: =IFERROR(IF(E38=$W$1,"1","-")*1,"-") -> - | X38: =IFERROR(IF(E38=$X$1,"1","-")*1,"-") -> - | Y38: {=IFERROR(_xlfn.IFS(B38=$U$1,"2",B38=$V$1,"2",J38="Yes","1")*1,"-")} -> - | Z38: =IFERROR(IF(K38="Yes","1","-")*1,"-") -> 1 | AA38: =IFERROR(IF(L38="Yes","1","-")*1,"-") -> - | AB38: =IFERROR(IF(O38="Yes","1","-")*1,"-") -> - | AC38: =IFERROR(IF($B38=$AC$1,"1","-")*1,"-") -> - | AD38: =IFERROR(IF($B38=$AD$1,"1","-")*1,"-") -> - | AE38: =IFERROR(IF($B38=$AE$1,"1","-")*1,"-") -> -
A39: 38 | B39: S7-UCB-3 | C39: Active | D39: On Dwelling | E39: - | F39: Domestic | G39: - | H39: - | J39: {=IFERROR(_xlfn.IFS('Pod Commentary'!B39='Data Validation'!$B$3,"No",'Pod Commentary'!B39='Data Validation'!$B$4,"Yes",'Pod Commentary'!B39='Data Validation'!$B$5,"Yes",'Pod Commentary'!B39='Data Validation'!$B$6,"Yes",'Pod Commentary'!B39='Data Validation'!$B$7,"Yes",'Pod Commentary'!B39='Data Validation'!$B$8,"No",'Pod Commentary'!B39='Data Validation'!$B$9,"Yes",'Pod Commentary'!B39='Data Validation'!$B$10,"Yes",'Pod Commentary'!B39='Data Validation'!$B$11,"-"),"-")} -> No | K39: {=IFERROR(_xlfn.IFS(D39="Garage","No",B39='Data Validation'!$B$3,"Yes",'Pod Commentary'!B39='Data Validation'!$B$4,"No",'Pod Commentary'!B39='Data Validation'!$B$5,"No",'Pod Commentary'!B39='Data Validation'!$B$6,"No",'Pod Commentary'!B39='Data Validation'!$B$7,"No",'Pod Commentary'!B39='Data Validation'!$B$8,"Yes",'Pod Commentary'!B39='Data Validation'!$B$9,"No",'Pod Commentary'!B39='Data Validation'!$B$10,"No",'Pod Commentary'!B39='Data Validation'!$B$11,"No"),"-")} -> Yes | L39: {=IFERROR(_xlfn.IFS(B39='Data Validation'!$B$6,"Yes",B39='Data Validation'!$B$7,"Yes"),"-")} -> - | R39: =IFERROR(IF($B39=$R$1,"1","-")*1,"-") -> 1 | S39: =IFERROR(IF($B39=$S$1,"1","-")*1,"-") -> - | T39: =IFERROR(IF($B39=$T$1,"1","-")*1,"-") -> - | U39: =IFERROR(IF($B39=$U$1,"1","-")*1,"-") -> - | V39: =IFERROR(IF($B39=$V$1,"1","-")*1,"-") -> - | W39: =IFERROR(IF(E39=$W$1,"1","-")*1,"-") -> - | X39: =IFERROR(IF(E39=$X$1,"1","-")*1,"-") -> - | Y39: {=IFERROR(_xlfn.IFS(B39=$U$1,"2",B39=$V$1,"2",J39="Yes","1")*1,"-")} -> - | Z39: =IFERROR(IF(K39="Yes","1","-")*1,"-") -> 1 | AA39: =IFERROR(IF(L39="Yes","1","-")*1,"-") -> - | AB39: =IFERROR(IF(O39="Yes","1","-")*1,"-") -> - | AC39: =IFERROR(IF($B39=$AC$1,"1","-")*1,"-") -> - | AD39: =IFERROR(IF($B39=$AD$1,"1","-")*1,"-") -> - | AE39: =IFERROR(IF($B39=$AE$1,"1","-")*1,"-") -> -
A40: 39 | B40: S7-UCB-3 | C40: Active | D40: Remote (Freestanding) | E40: Single | F40: Domestic | G40: - | H40: - | J40: {=IFERROR(_xlfn.IFS('Pod Commentary'!B40='Data Validation'!$B$3,"No",'Pod Commentary'!B40='Data Validation'!$B$4,"Yes",'Pod Commentary'!B40='Data Validation'!$B$5,"Yes",'Pod Commentary'!B40='Data Validation'!$B$6,"Yes",'Pod Commentary'!B40='Data Validation'!$B$7,"Yes",'Pod Commentary'!B40='Data Validation'!$B$8,"No",'Pod Commentary'!B40='Data Validation'!$B$9,"Yes",'Pod Commentary'!B40='Data Validation'!$B$10,"Yes",'Pod Commentary'!B40='Data Validation'!$B$11,"-"),"-")} -> No | K40: {=IFERROR(_xlfn.IFS(D40="Garage","No",B40='Data Validation'!$B$3,"Yes",'Pod Commentary'!B40='Data Validation'!$B$4,"No",'Pod Commentary'!B40='Data Validation'!$B$5,"No",'Pod Commentary'!B40='Data Validation'!$B$6,"No",'Pod Commentary'!B40='Data Validation'!$B$7,"No",'Pod Commentary'!B40='Data Validation'!$B$8,"Yes",'Pod Commentary'!B40='Data Validation'!$B$9,"No",'Pod Commentary'!B40='Data Validation'!$B$10,"No",'Pod Commentary'!B40='Data Validation'!$B$11,"No"),"-")} -> Yes | L40: {=IFERROR(_xlfn.IFS(B40='Data Validation'!$B$6,"Yes",B40='Data Validation'!$B$7,"Yes"),"-")} -> - | M40: Yes | N40: Ducting from dwelling's power supply to charger location | R40: =IFERROR(IF($B40=$R$1,"1","-")*1,"-") -> 1 | S40: =IFERROR(IF($B40=$S$1,"1","-")*1,"-") -> - | T40: =IFERROR(IF($B40=$T$1,"1","-")*1,"-") -> - | U40: =IFERROR(IF($B40=$U$1,"1","-")*1,"-") -> - | V40: =IFERROR(IF($B40=$V$1,"1","-")*1,"-") -> - | W40: =IFERROR(IF(E40=$W$1,"1","-")*1,"-") -> 1 | X40: =IFERROR(IF(E40=$X$1,"1","-")*1,"-") -> - | Y40: {=IFERROR(_xlfn.IFS(B40=$U$1,"2",B40=$V$1,"2",J40="Yes","1")*1,"-")} -> - | Z40: =IFERROR(IF(K40="Yes","1","-")*1,"-") -> 1 | AA40: =IFERROR(IF(L40="Yes","1","-")*1,"-") -> - | AB40: =IFERROR(IF(O40="Yes","1","-")*1,"-") -> - | AC40: =IFERROR(IF($B40=$AC$1,"1","-")*1,"-") -> - | AD40: =IFERROR(IF($B40=$AD$1,"1","-")*1,"-") -> - | AE40: =IFERROR(IF($B40=$AE$1,"1","-")*1,"-") -> -
A41: 40 | B41: S7-UCB-3 | C41: Active | D41: Remote (Freestanding) | E41: Single | F41: Domestic | G41: - | H41: - | J41: {=IFERROR(_xlfn.IFS('Pod Commentary'!B41='Data Validation'!$B$3,"No",'Pod Commentary'!B41='Data Validation'!$B$4,"Yes",'Pod Commentary'!B41='Data Validation'!$B$5,"Yes",'Pod Commentary'!B41='Data Validation'!$B$6,"Yes",'Pod Commentary'!B41='Data Validation'!$B$7,"Yes",'Pod Commentary'!B41='Data Validation'!$B$8,"No",'Pod Commentary'!B41='Data Validation'!$B$9,"Yes",'Pod Commentary'!B41='Data Validation'!$B$10,"Yes",'Pod Commentary'!B41='Data Validation'!$B$11,"-"),"-")} -> No | K41: {=IFERROR(_xlfn.IFS(D41="Garage","No",B41='Data Validation'!$B$3,"Yes",'Pod Commentary'!B41='Data Validation'!$B$4,"No",'Pod Commentary'!B41='Data Validation'!$B$5,"No",'Pod Commentary'!B41='Data Validation'!$B$6,"No",'Pod Commentary'!B41='Data Validation'!$B$7,"No",'Pod Commentary'!B41='Data Validation'!$B$8,"Yes",'Pod Commentary'!B41='Data Validation'!$B$9,"No",'Pod Commentary'!B41='Data Validation'!$B$10,"No",'Pod Commentary'!B41='Data Validation'!$B$11,"No"),"-")} -> Yes | L41: {=IFERROR(_xlfn.IFS(B41='Data Validation'!$B$6,"Yes",B41='Data Validation'!$B$7,"Yes"),"-")} -> - | M41: Yes | N41: Ducting from dwelling's power supply to charger location | R41: =IFERROR(IF($B41=$R$1,"1","-")*1,"-") -> 1 | S41: =IFERROR(IF($B41=$S$1,"1","-")*1,"-") -> - | T41: =IFERROR(IF($B41=$T$1,"1","-")*1,"-") -> - | U41: =IFERROR(IF($B41=$U$1,"1","-")*1,"-") -> - | V41: =IFERROR(IF($B41=$V$1,"1","-")*1,"-") -> - | W41: =IFERROR(IF(E41=$W$1,"1","-")*1,"-") -> 1 | X41: =IFERROR(IF(E41=$X$1,"1","-")*1,"-") -> - | Y41: {=IFERROR(_xlfn.IFS(B41=$U$1,"2",B41=$V$1,"2",J41="Yes","1")*1,"-")} -> - | Z41: =IFERROR(IF(K41="Yes","1","-")*1,"-") -> 1 | AA41: =IFERROR(IF(L41="Yes","1","-")*1,"-") -> - | AB41: =IFERROR(IF(O41="Yes","1","-")*1,"-") -> - | AC41: =IFERROR(IF($B41=$AC$1,"1","-")*1,"-") -> - | AD41: =IFERROR(IF($B41=$AD$1,"1","-")*1,"-") -> - | AE41: =IFERROR(IF($B41=$AE$1,"1","-")*1,"-") -> -
A42: 41 | B42: S7-UCB-3 | C42: Active | D42: Remote (Freestanding) | E42: Single | F42: Domestic | G42: - | H42: - | J42: {=IFERROR(_xlfn.IFS('Pod Commentary'!B42='Data Validation'!$B$3,"No",'Pod Commentary'!B42='Data Validation'!$B$4,"Yes",'Pod Commentary'!B42='Data Validation'!$B$5,"Yes",'Pod Commentary'!B42='Data Validation'!$B$6,"Yes",'Pod Commentary'!B42='Data Validation'!$B$7,"Yes",'Pod Commentary'!B42='Data Validation'!$B$8,"No",'Pod Commentary'!B42='Data Validation'!$B$9,"Yes",'Pod Commentary'!B42='Data Validation'!$B$10,"Yes",'Pod Commentary'!B42='Data Validation'!$B$11,"-"),"-")} -> No | K42: {=IFERROR(_xlfn.IFS(D42="Garage","No",B42='Data Validation'!$B$3,"Yes",'Pod Commentary'!B42='Data Validation'!$B$4,"No",'Pod Commentary'!B42='Data Validation'!$B$5,"No",'Pod Commentary'!B42='Data Validation'!$B$6,"No",'Pod Commentary'!B42='Data Validation'!$B$7,"No",'Pod Commentary'!B42='Data Validation'!$B$8,"Yes",'Pod Commentary'!B42='Data Validation'!$B$9,"No",'Pod Commentary'!B42='Data Validation'!$B$10,"No",'Pod Commentary'!B42='Data Validation'!$B$11,"No"),"-")} -> Yes | L42: {=IFERROR(_xlfn.IFS(B42='Data Validation'!$B$6,"Yes",B42='Data Validation'!$B$7,"Yes"),"-")} -> - | M42: Yes | N42: Ducting from dwelling's power supply to charger location | R42: =IFERROR(IF($B42=$R$1,"1","-")*1,"-") -> 1 | S42: =IFERROR(IF($B42=$S$1,"1","-")*1,"-") -> - | T42: =IFERROR(IF($B42=$T$1,"1","-")*1,"-") -> - | U42: =IFERROR(IF($B42=$U$1,"1","-")*1,"-") -> - | V42: =IFERROR(IF($B42=$V$1,"1","-")*1,"-") -> - | W42: =IFERROR(IF(E42=$W$1,"1","-")*1,"-") -> 1 | X42: =IFERROR(IF(E42=$X$1,"1","-")*1,"-") -> - | Y42: {=IFERROR(_xlfn.IFS(B42=$U$1,"2",B42=$V$1,"2",J42="Yes","1")*1,"-")} -> - | Z42: =IFERROR(IF(K42="Yes","1","-")*1,"-") -> 1 | AA42: =IFERROR(IF(L42="Yes","1","-")*1,"-") -> - | AB42: =IFERROR(IF(O42="Yes","1","-")*1,"-") -> - | AC42: =IFERROR(IF($B42=$AC$1,"1","-")*1,"-") -> - | AD42: =IFERROR(IF($B42=$AD$1,"1","-")*1,"-") -> - | AE42: =IFERROR(IF($B42=$AE$1,"1","-")*1,"-") -> -
A43: 42 | B43: S7-UCB-3 | C43: Active | D43: Remote (Freestanding) | E43: Single | F43: Domestic | G43: - | H43: - | J43: {=IFERROR(_xlfn.IFS('Pod Commentary'!B43='Data Validation'!$B$3,"No",'Pod Commentary'!B43='Data Validation'!$B$4,"Yes",'Pod Commentary'!B43='Data Validation'!$B$5,"Yes",'Pod Commentary'!B43='Data Validation'!$B$6,"Yes",'Pod Commentary'!B43='Data Validation'!$B$7,"Yes",'Pod Commentary'!B43='Data Validation'!$B$8,"No",'Pod Commentary'!B43='Data Validation'!$B$9,"Yes",'Pod Commentary'!B43='Data Validation'!$B$10,"Yes",'Pod Commentary'!B43='Data Validation'!$B$11,"-"),"-")} -> No | K43: {=IFERROR(_xlfn.IFS(D43="Garage","No",B43='Data Validation'!$B$3,"Yes",'Pod Commentary'!B43='Data Validation'!$B$4,"No",'Pod Commentary'!B43='Data Validation'!$B$5,"No",'Pod Commentary'!B43='Data Validation'!$B$6,"No",'Pod Commentary'!B43='Data Validation'!$B$7,"No",'Pod Commentary'!B43='Data Validation'!$B$8,"Yes",'Pod Commentary'!B43='Data Validation'!$B$9,"No",'Pod Commentary'!B43='Data Validation'!$B$10,"No",'Pod Commentary'!B43='Data Validation'!$B$11,"No"),"-")} -> Yes | L43: {=IFERROR(_xlfn.IFS(B43='Data Validation'!$B$6,"Yes",B43='Data Validation'!$B$7,"Yes"),"-")} -> - | M43: Yes | N43: Ducting from dwelling's power supply to charger location | R43: =IFERROR(IF($B43=$R$1,"1","-")*1,"-") -> 1 | S43: =IFERROR(IF($B43=$S$1,"1","-")*1,"-") -> - | T43: =IFERROR(IF($B43=$T$1,"1","-")*1,"-") -> - | U43: =IFERROR(IF($B43=$U$1,"1","-")*1,"-") -> - | V43: =IFERROR(IF($B43=$V$1,"1","-")*1,"-") -> - | W43: =IFERROR(IF(E43=$W$1,"1","-")*1,"-") -> 1 | X43: =IFERROR(IF(E43=$X$1,"1","-")*1,"-") -> - | Y43: {=IFERROR(_xlfn.IFS(B43=$U$1,"2",B43=$V$1,"2",J43="Yes","1")*1,"-")} -> - | Z43: =IFERROR(IF(K43="Yes","1","-")*1,"-") -> 1 | AA43: =IFERROR(IF(L43="Yes","1","-")*1,"-") -> - | AB43: =IFERROR(IF(O43="Yes","1","-")*1,"-") -> - | AC43: =IFERROR(IF($B43=$AC$1,"1","-")*1,"-") -> - | AD43: =IFERROR(IF($B43=$AD$1,"1","-")*1,"-") -> - | AE43: =IFERROR(IF($B43=$AE$1,"1","-")*1,"-") -> -
A44: 43 | B44: S7-UCB-3 | C44: Active | D44: Remote (Freestanding) | E44: Single | F44: Domestic | G44: - | H44: - | J44: {=IFERROR(_xlfn.IFS('Pod Commentary'!B44='Data Validation'!$B$3,"No",'Pod Commentary'!B44='Data Validation'!$B$4,"Yes",'Pod Commentary'!B44='Data Validation'!$B$5,"Yes",'Pod Commentary'!B44='Data Validation'!$B$6,"Yes",'Pod Commentary'!B44='Data Validation'!$B$7,"Yes",'Pod Commentary'!B44='Data Validation'!$B$8,"No",'Pod Commentary'!B44='Data Validation'!$B$9,"Yes",'Pod Commentary'!B44='Data Validation'!$B$10,"Yes",'Pod Commentary'!B44='Data Validation'!$B$11,"-"),"-")} -> No | K44: {=IFERROR(_xlfn.IFS(D44="Garage","No",B44='Data Validation'!$B$3,"Yes",'Pod Commentary'!B44='Data Validation'!$B$4,"No",'Pod Commentary'!B44='Data Validation'!$B$5,"No",'Pod Commentary'!B44='Data Validation'!$B$6,"No",'Pod Commentary'!B44='Data Validation'!$B$7,"No",'Pod Commentary'!B44='Data Validation'!$B$8,"Yes",'Pod Commentary'!B44='Data Validation'!$B$9,"No",'Pod Commentary'!B44='Data Validation'!$B$10,"No",'Pod Commentary'!B44='Data Validation'!$B$11,"No"),"-")} -> Yes | L44: {=IFERROR(_xlfn.IFS(B44='Data Validation'!$B$6,"Yes",B44='Data Validation'!$B$7,"Yes"),"-")} -> - | M44: Yes | N44: Ducting from dwelling's power supply to charger location | R44: =IFERROR(IF($B44=$R$1,"1","-")*1,"-") -> 1 | S44: =IFERROR(IF($B44=$S$1,"1","-")*1,"-") -> - | T44: =IFERROR(IF($B44=$T$1,"1","-")*1,"-") -> - | U44: =IFERROR(IF($B44=$U$1,"1","-")*1,"-") -> - | V44: =IFERROR(IF($B44=$V$1,"1","-")*1,"-") -> - | W44: =IFERROR(IF(E44=$W$1,"1","-")*1,"-") -> 1 | X44: =IFERROR(IF(E44=$X$1,"1","-")*1,"-") -> - | Y44: {=IFERROR(_xlfn.IFS(B44=$U$1,"2",B44=$V$1,"2",J44="Yes","1")*1,"-")} -> - | Z44: =IFERROR(IF(K44="Yes","1","-")*1,"-") -> 1 | AA44: =IFERROR(IF(L44="Yes","1","-")*1,"-") -> - | AB44: =IFERROR(IF(O44="Yes","1","-")*1,"-") -> - | AC44: =IFERROR(IF($B44=$AC$1,"1","-")*1,"-") -> - | AD44: =IFERROR(IF($B44=$AD$1,"1","-")*1,"-") -> - | AE44: =IFERROR(IF($B44=$AE$1,"1","-")*1,"-") -> -
A45: 44 | B45: S7-UCB-3 | C45: Active | D45: Remote (Freestanding) | E45: Single | F45: Domestic | G45: - | H45: - | J45: {=IFERROR(_xlfn.IFS('Pod Commentary'!B45='Data Validation'!$B$3,"No",'Pod Commentary'!B45='Data Validation'!$B$4,"Yes",'Pod Commentary'!B45='Data Validation'!$B$5,"Yes",'Pod Commentary'!B45='Data Validation'!$B$6,"Yes",'Pod Commentary'!B45='Data Validation'!$B$7,"Yes",'Pod Commentary'!B45='Data Validation'!$B$8,"No",'Pod Commentary'!B45='Data Validation'!$B$9,"Yes",'Pod Commentary'!B45='Data Validation'!$B$10,"Yes",'Pod Commentary'!B45='Data Validation'!$B$11,"-"),"-")} -> No | K45: {=IFERROR(_xlfn.IFS(D45="Garage","No",B45='Data Validation'!$B$3,"Yes",'Pod Commentary'!B45='Data Validation'!$B$4,"No",'Pod Commentary'!B45='Data Validation'!$B$5,"No",'Pod Commentary'!B45='Data Validation'!$B$6,"No",'Pod Commentary'!B45='Data Validation'!$B$7,"No",'Pod Commentary'!B45='Data Validation'!$B$8,"Yes",'Pod Commentary'!B45='Data Validation'!$B$9,"No",'Pod Commentary'!B45='Data Validation'!$B$10,"No",'Pod Commentary'!B45='Data Validation'!$B$11,"No"),"-")} -> Yes | L45: {=IFERROR(_xlfn.IFS(B45='Data Validation'!$B$6,"Yes",B45='Data Validation'!$B$7,"Yes"),"-")} -> - | M45: Yes | N45: Ducting from dwelling's power supply to charger location | R45: =IFERROR(IF($B45=$R$1,"1","-")*1,"-") -> 1 | S45: =IFERROR(IF($B45=$S$1,"1","-")*1,"-") -> - | T45: =IFERROR(IF($B45=$T$1,"1","-")*1,"-") -> - | U45: =IFERROR(IF($B45=$U$1,"1","-")*1,"-") -> - | V45: =IFERROR(IF($B45=$V$1,"1","-")*1,"-") -> - | W45: =IFERROR(IF(E45=$W$1,"1","-")*1,"-") -> 1 | X45: =IFERROR(IF(E45=$X$1,"1","-")*1,"-") -> - | Y45: {=IFERROR(_xlfn.IFS(B45=$U$1,"2",B45=$V$1,"2",J45="Yes","1")*1,"-")} -> - | Z45: =IFERROR(IF(K45="Yes","1","-")*1,"-") -> 1 | AA45: =IFERROR(IF(L45="Yes","1","-")*1,"-") -> - | AB45: =IFERROR(IF(O45="Yes","1","-")*1,"-") -> - | AC45: =IFERROR(IF($B45=$AC$1,"1","-")*1,"-") -> - | AD45: =IFERROR(IF($B45=$AD$1,"1","-")*1,"-") -> - | AE45: =IFERROR(IF($B45=$AE$1,"1","-")*1,"-") -> -
A46: 45 | B46: S7-UCB-3 | C46: Active | D46: Remote (Freestanding) | E46: Single | F46: Domestic | G46: - | H46: - | J46: {=IFERROR(_xlfn.IFS('Pod Commentary'!B46='Data Validation'!$B$3,"No",'Pod Commentary'!B46='Data Validation'!$B$4,"Yes",'Pod Commentary'!B46='Data Validation'!$B$5,"Yes",'Pod Commentary'!B46='Data Validation'!$B$6,"Yes",'Pod Commentary'!B46='Data Validation'!$B$7,"Yes",'Pod Commentary'!B46='Data Validation'!$B$8,"No",'Pod Commentary'!B46='Data Validation'!$B$9,"Yes",'Pod Commentary'!B46='Data Validation'!$B$10,"Yes",'Pod Commentary'!B46='Data Validation'!$B$11,"-"),"-")} -> No | K46: {=IFERROR(_xlfn.IFS(D46="Garage","No",B46='Data Validation'!$B$3,"Yes",'Pod Commentary'!B46='Data Validation'!$B$4,"No",'Pod Commentary'!B46='Data Validation'!$B$5,"No",'Pod Commentary'!B46='Data Validation'!$B$6,"No",'Pod Commentary'!B46='Data Validation'!$B$7,"No",'Pod Commentary'!B46='Data Validation'!$B$8,"Yes",'Pod Commentary'!B46='Data Validation'!$B$9,"No",'Pod Commentary'!B46='Data Validation'!$B$10,"No",'Pod Commentary'!B46='Data Validation'!$B$11,"No"),"-")} -> Yes | L46: {=IFERROR(_xlfn.IFS(B46='Data Validation'!$B$6,"Yes",B46='Data Validation'!$B$7,"Yes"),"-")} -> - | M46: Yes | N46: Ducting from dwelling's power supply to charger location | R46: =IFERROR(IF($B46=$R$1,"1","-")*1,"-") -> 1 | S46: =IFERROR(IF($B46=$S$1,"1","-")*1,"-") -> - | T46: =IFERROR(IF($B46=$T$1,"1","-")*1,"-") -> - | U46: =IFERROR(IF($B46=$U$1,"1","-")*1,"-") -> - | V46: =IFERROR(IF($B46=$V$1,"1","-")*1,"-") -> - | W46: =IFERROR(IF(E46=$W$1,"1","-")*1,"-") -> 1 | X46: =IFERROR(IF(E46=$X$1,"1","-")*1,"-") -> - | Y46: {=IFERROR(_xlfn.IFS(B46=$U$1,"2",B46=$V$1,"2",J46="Yes","1")*1,"-")} -> - | Z46: =IFERROR(IF(K46="Yes","1","-")*1,"-") -> 1 | AA46: =IFERROR(IF(L46="Yes","1","-")*1,"-") -> - | AB46: =IFERROR(IF(O46="Yes","1","-")*1,"-") -> - | AC46: =IFERROR(IF($B46=$AC$1,"1","-")*1,"-") -> - | AD46: =IFERROR(IF($B46=$AD$1,"1","-")*1,"-") -> - | AE46: =IFERROR(IF($B46=$AE$1,"1","-")*1,"-") -> -
A47: 46 | B47: S7-UCB-3 | C47: Active | D47: On Dwelling | E47: - | F47: Domestic | G47: - | H47: - | J47: {=IFERROR(_xlfn.IFS('Pod Commentary'!B47='Data Validation'!$B$3,"No",'Pod Commentary'!B47='Data Validation'!$B$4,"Yes",'Pod Commentary'!B47='Data Validation'!$B$5,"Yes",'Pod Commentary'!B47='Data Validation'!$B$6,"Yes",'Pod Commentary'!B47='Data Validation'!$B$7,"Yes",'Pod Commentary'!B47='Data Validation'!$B$8,"No",'Pod Commentary'!B47='Data Validation'!$B$9,"Yes",'Pod Commentary'!B47='Data Validation'!$B$10,"Yes",'Pod Commentary'!B47='Data Validation'!$B$11,"-"),"-")} -> No | K47: {=IFERROR(_xlfn.IFS(D47="Garage","No",B47='Data Validation'!$B$3,"Yes",'Pod Commentary'!B47='Data Validation'!$B$4,"No",'Pod Commentary'!B47='Data Validation'!$B$5,"No",'Pod Commentary'!B47='Data Validation'!$B$6,"No",'Pod Commentary'!B47='Data Validation'!$B$7,"No",'Pod Commentary'!B47='Data Validation'!$B$8,"Yes",'Pod Commentary'!B47='Data Validation'!$B$9,"No",'Pod Commentary'!B47='Data Validation'!$B$10,"No",'Pod Commentary'!B47='Data Validation'!$B$11,"No"),"-")} -> Yes | L47: {=IFERROR(_xlfn.IFS(B47='Data Validation'!$B$6,"Yes",B47='Data Validation'!$B$7,"Yes"),"-")} -> - | R47: =IFERROR(IF($B47=$R$1,"1","-")*1,"-") -> 1 | S47: =IFERROR(IF($B47=$S$1,"1","-")*1,"-") -> - | T47: =IFERROR(IF($B47=$T$1,"1","-")*1,"-") -> - | U47: =IFERROR(IF($B47=$U$1,"1","-")*1,"-") -> - | V47: =IFERROR(IF($B47=$V$1,"1","-")*1,"-") -> - | W47: =IFERROR(IF(E47=$W$1,"1","-")*1,"-") -> - | X47: =IFERROR(IF(E47=$X$1,"1","-")*1,"-") -> - | Y47: {=IFERROR(_xlfn.IFS(B47=$U$1,"2",B47=$V$1,"2",J47="Yes","1")*1,"-")} -> - | Z47: =IFERROR(IF(K47="Yes","1","-")*1,"-") -> 1 | AA47: =IFERROR(IF(L47="Yes","1","-")*1,"-") -> - | AB47: =IFERROR(IF(O47="Yes","1","-")*1,"-") -> - | AC47: =IFERROR(IF($B47=$AC$1,"1","-")*1,"-") -> - | AD47: =IFERROR(IF($B47=$AD$1,"1","-")*1,"-") -> - | AE47: =IFERROR(IF($B47=$AE$1,"1","-")*1,"-") -> -
A48: 47 | B48: S7-UCB-3 | C48: Active | D48: On Dwelling | E48: - | F48: Domestic | G48: - | H48: - | J48: {=IFERROR(_xlfn.IFS('Pod Commentary'!B48='Data Validation'!$B$3,"No",'Pod Commentary'!B48='Data Validation'!$B$4,"Yes",'Pod Commentary'!B48='Data Validation'!$B$5,"Yes",'Pod Commentary'!B48='Data Validation'!$B$6,"Yes",'Pod Commentary'!B48='Data Validation'!$B$7,"Yes",'Pod Commentary'!B48='Data Validation'!$B$8,"No",'Pod Commentary'!B48='Data Validation'!$B$9,"Yes",'Pod Commentary'!B48='Data Validation'!$B$10,"Yes",'Pod Commentary'!B48='Data Validation'!$B$11,"-"),"-")} -> No | K48: {=IFERROR(_xlfn.IFS(D48="Garage","No",B48='Data Validation'!$B$3,"Yes",'Pod Commentary'!B48='Data Validation'!$B$4,"No",'Pod Commentary'!B48='Data Validation'!$B$5,"No",'Pod Commentary'!B48='Data Validation'!$B$6,"No",'Pod Commentary'!B48='Data Validation'!$B$7,"No",'Pod Commentary'!B48='Data Validation'!$B$8,"Yes",'Pod Commentary'!B48='Data Validation'!$B$9,"No",'Pod Commentary'!B48='Data Validation'!$B$10,"No",'Pod Commentary'!B48='Data Validation'!$B$11,"No"),"-")} -> Yes | L48: {=IFERROR(_xlfn.IFS(B48='Data Validation'!$B$6,"Yes",B48='Data Validation'!$B$7,"Yes"),"-")} -> - | R48: =IFERROR(IF($B48=$R$1,"1","-")*1,"-") -> 1 | S48: =IFERROR(IF($B48=$S$1,"1","-")*1,"-") -> - | T48: =IFERROR(IF($B48=$T$1,"1","-")*1,"-") -> - | U48: =IFERROR(IF($B48=$U$1,"1","-")*1,"-") -> - | V48: =IFERROR(IF($B48=$V$1,"1","-")*1,"-") -> - | W48: =IFERROR(IF(E48=$W$1,"1","-")*1,"-") -> - | X48: =IFERROR(IF(E48=$X$1,"1","-")*1,"-") -> - | Y48: {=IFERROR(_xlfn.IFS(B48=$U$1,"2",B48=$V$1,"2",J48="Yes","1")*1,"-")} -> - | Z48: =IFERROR(IF(K48="Yes","1","-")*1,"-") -> 1 | AA48: =IFERROR(IF(L48="Yes","1","-")*1,"-") -> - | AB48: =IFERROR(IF(O48="Yes","1","-")*1,"-") -> - | AC48: =IFERROR(IF($B48=$AC$1,"1","-")*1,"-") -> - | AD48: =IFERROR(IF($B48=$AD$1,"1","-")*1,"-") -> - | AE48: =IFERROR(IF($B48=$AE$1,"1","-")*1,"-") -> -
A49: 48 | B49: S7-UCB-3 | C49: Active | D49: On Dwelling | E49: - | F49: Domestic | G49: - | H49: - | J49: {=IFERROR(_xlfn.IFS('Pod Commentary'!B49='Data Validation'!$B$3,"No",'Pod Commentary'!B49='Data Validation'!$B$4,"Yes",'Pod Commentary'!B49='Data Validation'!$B$5,"Yes",'Pod Commentary'!B49='Data Validation'!$B$6,"Yes",'Pod Commentary'!B49='Data Validation'!$B$7,"Yes",'Pod Commentary'!B49='Data Validation'!$B$8,"No",'Pod Commentary'!B49='Data Validation'!$B$9,"Yes",'Pod Commentary'!B49='Data Validation'!$B$10,"Yes",'Pod Commentary'!B49='Data Validation'!$B$11,"-"),"-")} -> No | K49: {=IFERROR(_xlfn.IFS(D49="Garage","No",B49='Data Validation'!$B$3,"Yes",'Pod Commentary'!B49='Data Validation'!$B$4,"No",'Pod Commentary'!B49='Data Validation'!$B$5,"No",'Pod Commentary'!B49='Data Validation'!$B$6,"No",'Pod Commentary'!B49='Data Validation'!$B$7,"No",'Pod Commentary'!B49='Data Validation'!$B$8,"Yes",'Pod Commentary'!B49='Data Validation'!$B$9,"No",'Pod Commentary'!B49='Data Validation'!$B$10,"No",'Pod Commentary'!B49='Data Validation'!$B$11,"No"),"-")} -> Yes | L49: {=IFERROR(_xlfn.IFS(B49='Data Validation'!$B$6,"Yes",B49='Data Validation'!$B$7,"Yes"),"-")} -> - | R49: =IFERROR(IF($B49=$R$1,"1","-")*1,"-") -> 1 | S49: =IFERROR(IF($B49=$S$1,"1","-")*1,"-") -> - | T49: =IFERROR(IF($B49=$T$1,"1","-")*1,"-") -> - | U49: =IFERROR(IF($B49=$U$1,"1","-")*1,"-") -> - | V49: =IFERROR(IF($B49=$V$1,"1","-")*1,"-") -> - | W49: =IFERROR(IF(E49=$W$1,"1","-")*1,"-") -> - | X49: =IFERROR(IF(E49=$X$1,"1","-")*1,"-") -> - | Y49: {=IFERROR(_xlfn.IFS(B49=$U$1,"2",B49=$V$1,"2",J49="Yes","1")*1,"-")} -> - | Z49: =IFERROR(IF(K49="Yes","1","-")*1,"-") -> 1 | AA49: =IFERROR(IF(L49="Yes","1","-")*1,"-") -> - | AB49: =IFERROR(IF(O49="Yes","1","-")*1,"-") -> - | AC49: =IFERROR(IF($B49=$AC$1,"1","-")*1,"-") -> - | AD49: =IFERROR(IF($B49=$AD$1,"1","-")*1,"-") -> - | AE49: =IFERROR(IF($B49=$AE$1,"1","-")*1,"-") -> -
A50: 49 | B50: S7-UCB-3 | C50: Active | D50: On Dwelling | E50: - | F50: Domestic | G50: - | H50: - | J50: {=IFERROR(_xlfn.IFS('Pod Commentary'!B50='Data Validation'!$B$3,"No",'Pod Commentary'!B50='Data Validation'!$B$4,"Yes",'Pod Commentary'!B50='Data Validation'!$B$5,"Yes",'Pod Commentary'!B50='Data Validation'!$B$6,"Yes",'Pod Commentary'!B50='Data Validation'!$B$7,"Yes",'Pod Commentary'!B50='Data Validation'!$B$8,"No",'Pod Commentary'!B50='Data Validation'!$B$9,"Yes",'Pod Commentary'!B50='Data Validation'!$B$10,"Yes",'Pod Commentary'!B50='Data Validation'!$B$11,"-"),"-")} -> No | K50: {=IFERROR(_xlfn.IFS(D50="Garage","No",B50='Data Validation'!$B$3,"Yes",'Pod Commentary'!B50='Data Validation'!$B$4,"No",'Pod Commentary'!B50='Data Validation'!$B$5,"No",'Pod Commentary'!B50='Data Validation'!$B$6,"No",'Pod Commentary'!B50='Data Validation'!$B$7,"No",'Pod Commentary'!B50='Data Validation'!$B$8,"Yes",'Pod Commentary'!B50='Data Validation'!$B$9,"No",'Pod Commentary'!B50='Data Validation'!$B$10,"No",'Pod Commentary'!B50='Data Validation'!$B$11,"No"),"-")} -> Yes | L50: {=IFERROR(_xlfn.IFS(B50='Data Validation'!$B$6,"Yes",B50='Data Validation'!$B$7,"Yes"),"-")} -> - | R50: =IFERROR(IF($B50=$R$1,"1","-")*1,"-") -> 1 | S50: =IFERROR(IF($B50=$S$1,"1","-")*1,"-") -> - | T50: =IFERROR(IF($B50=$T$1,"1","-")*1,"-") -> - | U50: =IFERROR(IF($B50=$U$1,"1","-")*1,"-") -> - | V50: =IFERROR(IF($B50=$V$1,"1","-")*1,"-") -> - | W50: =IFERROR(IF(E50=$W$1,"1","-")*1,"-") -> - | X50: =IFERROR(IF(E50=$X$1,"1","-")*1,"-") -> - | Y50: {=IFERROR(_xlfn.IFS(B50=$U$1,"2",B50=$V$1,"2",J50="Yes","1")*1,"-")} -> - | Z50: =IFERROR(IF(K50="Yes","1","-")*1,"-") -> 1 | AA50: =IFERROR(IF(L50="Yes","1","-")*1,"-") -> - | AB50: =IFERROR(IF(O50="Yes","1","-")*1,"-") -> - | AC50: =IFERROR(IF($B50=$AC$1,"1","-")*1,"-") -> - | AD50: =IFERROR(IF($B50=$AD$1,"1","-")*1,"-") -> - | AE50: =IFERROR(IF($B50=$AE$1,"1","-")*1,"-") -> -
A51: 50 | B51: S7-UCB-3 | C51: Active | D51: On Dwelling | E51: - | F51: Domestic | G51: - | H51: - | J51: {=IFERROR(_xlfn.IFS('Pod Commentary'!B51='Data Validation'!$B$3,"No",'Pod Commentary'!B51='Data Validation'!$B$4,"Yes",'Pod Commentary'!B51='Data Validation'!$B$5,"Yes",'Pod Commentary'!B51='Data Validation'!$B$6,"Yes",'Pod Commentary'!B51='Data Validation'!$B$7,"Yes",'Pod Commentary'!B51='Data Validation'!$B$8,"No",'Pod Commentary'!B51='Data Validation'!$B$9,"Yes",'Pod Commentary'!B51='Data Validation'!$B$10,"Yes",'Pod Commentary'!B51='Data Validation'!$B$11,"-"),"-")} -> No | K51: {=IFERROR(_xlfn.IFS(D51="Garage","No",B51='Data Validation'!$B$3,"Yes",'Pod Commentary'!B51='Data Validation'!$B$4,"No",'Pod Commentary'!B51='Data Validation'!$B$5,"No",'Pod Commentary'!B51='Data Validation'!$B$6,"No",'Pod Commentary'!B51='Data Validation'!$B$7,"No",'Pod Commentary'!B51='Data Validation'!$B$8,"Yes",'Pod Commentary'!B51='Data Validation'!$B$9,"No",'Pod Commentary'!B51='Data Validation'!$B$10,"No",'Pod Commentary'!B51='Data Validation'!$B$11,"No"),"-")} -> Yes | L51: {=IFERROR(_xlfn.IFS(B51='Data Validation'!$B$6,"Yes",B51='Data Validation'!$B$7,"Yes"),"-")} -> - | R51: =IFERROR(IF($B51=$R$1,"1","-")*1,"-") -> 1 | S51: =IFERROR(IF($B51=$S$1,"1","-")*1,"-") -> - | T51: =IFERROR(IF($B51=$T$1,"1","-")*1,"-") -> - | U51: =IFERROR(IF($B51=$U$1,"1","-")*1,"-") -> - | V51: =IFERROR(IF($B51=$V$1,"1","-")*1,"-") -> - | W51: =IFERROR(IF(E51=$W$1,"1","-")*1,"-") -> - | X51: =IFERROR(IF(E51=$X$1,"1","-")*1,"-") -> - | Y51: {=IFERROR(_xlfn.IFS(B51=$U$1,"2",B51=$V$1,"2",J51="Yes","1")*1,"-")} -> - | Z51: =IFERROR(IF(K51="Yes","1","-")*1,"-") -> 1 | AA51: =IFERROR(IF(L51="Yes","1","-")*1,"-") -> - | AB51: =IFERROR(IF(O51="Yes","1","-")*1,"-") -> - | AC51: =IFERROR(IF($B51=$AC$1,"1","-")*1,"-") -> - | AD51: =IFERROR(IF($B51=$AD$1,"1","-")*1,"-") -> - | AE51: =IFERROR(IF($B51=$AE$1,"1","-")*1,"-") -> -
A52: 51 | B52: S7-UCB-3 | C52: Active | D52: On Dwelling | E52: - | F52: Domestic | G52: - | H52: - | J52: {=IFERROR(_xlfn.IFS('Pod Commentary'!B52='Data Validation'!$B$3,"No",'Pod Commentary'!B52='Data Validation'!$B$4,"Yes",'Pod Commentary'!B52='Data Validation'!$B$5,"Yes",'Pod Commentary'!B52='Data Validation'!$B$6,"Yes",'Pod Commentary'!B52='Data Validation'!$B$7,"Yes",'Pod Commentary'!B52='Data Validation'!$B$8,"No",'Pod Commentary'!B52='Data Validation'!$B$9,"Yes",'Pod Commentary'!B52='Data Validation'!$B$10,"Yes",'Pod Commentary'!B52='Data Validation'!$B$11,"-"),"-")} -> No | K52: {=IFERROR(_xlfn.IFS(D52="Garage","No",B52='Data Validation'!$B$3,"Yes",'Pod Commentary'!B52='Data Validation'!$B$4,"No",'Pod Commentary'!B52='Data Validation'!$B$5,"No",'Pod Commentary'!B52='Data Validation'!$B$6,"No",'Pod Commentary'!B52='Data Validation'!$B$7,"No",'Pod Commentary'!B52='Data Validation'!$B$8,"Yes",'Pod Commentary'!B52='Data Validation'!$B$9,"No",'Pod Commentary'!B52='Data Validation'!$B$10,"No",'Pod Commentary'!B52='Data Validation'!$B$11,"No"),"-")} -> Yes | L52: {=IFERROR(_xlfn.IFS(B52='Data Validation'!$B$6,"Yes",B52='Data Validation'!$B$7,"Yes"),"-")} -> - | R52: =IFERROR(IF($B52=$R$1,"1","-")*1,"-") -> 1 | S52: =IFERROR(IF($B52=$S$1,"1","-")*1,"-") -> - | T52: =IFERROR(IF($B52=$T$1,"1","-")*1,"-") -> - | U52: =IFERROR(IF($B52=$U$1,"1","-")*1,"-") -> - | V52: =IFERROR(IF($B52=$V$1,"1","-")*1,"-") -> - | W52: =IFERROR(IF(E52=$W$1,"1","-")*1,"-") -> - | X52: =IFERROR(IF(E52=$X$1,"1","-")*1,"-") -> - | Y52: {=IFERROR(_xlfn.IFS(B52=$U$1,"2",B52=$V$1,"2",J52="Yes","1")*1,"-")} -> - | Z52: =IFERROR(IF(K52="Yes","1","-")*1,"-") -> 1 | AA52: =IFERROR(IF(L52="Yes","1","-")*1,"-") -> - | AB52: =IFERROR(IF(O52="Yes","1","-")*1,"-") -> - | AC52: =IFERROR(IF($B52=$AC$1,"1","-")*1,"-") -> - | AD52: =IFERROR(IF($B52=$AD$1,"1","-")*1,"-") -> - | AE52: =IFERROR(IF($B52=$AE$1,"1","-")*1,"-") -> -
A53: 52 | B53: S7-UCB-3 | C53: Active | D53: On Dwelling | E53: - | F53: Domestic | G53: - | H53: - | J53: {=IFERROR(_xlfn.IFS('Pod Commentary'!B53='Data Validation'!$B$3,"No",'Pod Commentary'!B53='Data Validation'!$B$4,"Yes",'Pod Commentary'!B53='Data Validation'!$B$5,"Yes",'Pod Commentary'!B53='Data Validation'!$B$6,"Yes",'Pod Commentary'!B53='Data Validation'!$B$7,"Yes",'Pod Commentary'!B53='Data Validation'!$B$8,"No",'Pod Commentary'!B53='Data Validation'!$B$9,"Yes",'Pod Commentary'!B53='Data Validation'!$B$10,"Yes",'Pod Commentary'!B53='Data Validation'!$B$11,"-"),"-")} -> No | K53: {=IFERROR(_xlfn.IFS(D53="Garage","No",B53='Data Validation'!$B$3,"Yes",'Pod Commentary'!B53='Data Validation'!$B$4,"No",'Pod Commentary'!B53='Data Validation'!$B$5,"No",'Pod Commentary'!B53='Data Validation'!$B$6,"No",'Pod Commentary'!B53='Data Validation'!$B$7,"No",'Pod Commentary'!B53='Data Validation'!$B$8,"Yes",'Pod Commentary'!B53='Data Validation'!$B$9,"No",'Pod Commentary'!B53='Data Validation'!$B$10,"No",'Pod Commentary'!B53='Data Validation'!$B$11,"No"),"-")} -> Yes | L53: {=IFERROR(_xlfn.IFS(B53='Data Validation'!$B$6,"Yes",B53='Data Validation'!$B$7,"Yes"),"-")} -> - | R53: =IFERROR(IF($B53=$R$1,"1","-")*1,"-") -> 1 | S53: =IFERROR(IF($B53=$S$1,"1","-")*1,"-") -> - | T53: =IFERROR(IF($B53=$T$1,"1","-")*1,"-") -> - | U53: =IFERROR(IF($B53=$U$1,"1","-")*1,"-") -> - | V53: =IFERROR(IF($B53=$V$1,"1","-")*1,"-") -> - | W53: =IFERROR(IF(E53=$W$1,"1","-")*1,"-") -> - | X53: =IFERROR(IF(E53=$X$1,"1","-")*1,"-") -> - | Y53: {=IFERROR(_xlfn.IFS(B53=$U$1,"2",B53=$V$1,"2",J53="Yes","1")*1,"-")} -> - | Z53: =IFERROR(IF(K53="Yes","1","-")*1,"-") -> 1 | AA53: =IFERROR(IF(L53="Yes","1","-")*1,"-") -> - | AB53: =IFERROR(IF(O53="Yes","1","-")*1,"-") -> - | AC53: =IFERROR(IF($B53=$AC$1,"1","-")*1,"-") -> - | AD53: =IFERROR(IF($B53=$AD$1,"1","-")*1,"-") -> - | AE53: =IFERROR(IF($B53=$AE$1,"1","-")*1,"-") -> -
A54: 53 | B54: S7-UCB-3 | C54: Active | D54: On Dwelling | E54: - | F54: Domestic | G54: - | H54: - | J54: {=IFERROR(_xlfn.IFS('Pod Commentary'!B54='Data Validation'!$B$3,"No",'Pod Commentary'!B54='Data Validation'!$B$4,"Yes",'Pod Commentary'!B54='Data Validation'!$B$5,"Yes",'Pod Commentary'!B54='Data Validation'!$B$6,"Yes",'Pod Commentary'!B54='Data Validation'!$B$7,"Yes",'Pod Commentary'!B54='Data Validation'!$B$8,"No",'Pod Commentary'!B54='Data Validation'!$B$9,"Yes",'Pod Commentary'!B54='Data Validation'!$B$10,"Yes",'Pod Commentary'!B54='Data Validation'!$B$11,"-"),"-")} -> No | K54: {=IFERROR(_xlfn.IFS(D54="Garage","No",B54='Data Validation'!$B$3,"Yes",'Pod Commentary'!B54='Data Validation'!$B$4,"No",'Pod Commentary'!B54='Data Validation'!$B$5,"No",'Pod Commentary'!B54='Data Validation'!$B$6,"No",'Pod Commentary'!B54='Data Validation'!$B$7,"No",'Pod Commentary'!B54='Data Validation'!$B$8,"Yes",'Pod Commentary'!B54='Data Validation'!$B$9,"No",'Pod Commentary'!B54='Data Validation'!$B$10,"No",'Pod Commentary'!B54='Data Validation'!$B$11,"No"),"-")} -> Yes | L54: {=IFERROR(_xlfn.IFS(B54='Data Validation'!$B$6,"Yes",B54='Data Validation'!$B$7,"Yes"),"-")} -> - | R54: =IFERROR(IF($B54=$R$1,"1","-")*1,"-") -> 1 | S54: =IFERROR(IF($B54=$S$1,"1","-")*1,"-") -> - | T54: =IFERROR(IF($B54=$T$1,"1","-")*1,"-") -> - | U54: =IFERROR(IF($B54=$U$1,"1","-")*1,"-") -> - | V54: =IFERROR(IF($B54=$V$1,"1","-")*1,"-") -> - | W54: =IFERROR(IF(E54=$W$1,"1","-")*1,"-") -> - | X54: =IFERROR(IF(E54=$X$1,"1","-")*1,"-") -> - | Y54: {=IFERROR(_xlfn.IFS(B54=$U$1,"2",B54=$V$1,"2",J54="Yes","1")*1,"-")} -> - | Z54: =IFERROR(IF(K54="Yes","1","-")*1,"-") -> 1 | AA54: =IFERROR(IF(L54="Yes","1","-")*1,"-") -> - | AB54: =IFERROR(IF(O54="Yes","1","-")*1,"-") -> - | AC54: =IFERROR(IF($B54=$AC$1,"1","-")*1,"-") -> - | AD54: =IFERROR(IF($B54=$AD$1,"1","-")*1,"-") -> - | AE54: =IFERROR(IF($B54=$AE$1,"1","-")*1,"-") -> -
A55: 54 | B55: S7-UCB-3 | C55: Active | D55: On Dwelling | E55: - | F55: Domestic | G55: - | H55: - | J55: {=IFERROR(_xlfn.IFS('Pod Commentary'!B55='Data Validation'!$B$3,"No",'Pod Commentary'!B55='Data Validation'!$B$4,"Yes",'Pod Commentary'!B55='Data Validation'!$B$5,"Yes",'Pod Commentary'!B55='Data Validation'!$B$6,"Yes",'Pod Commentary'!B55='Data Validation'!$B$7,"Yes",'Pod Commentary'!B55='Data Validation'!$B$8,"No",'Pod Commentary'!B55='Data Validation'!$B$9,"Yes",'Pod Commentary'!B55='Data Validation'!$B$10,"Yes",'Pod Commentary'!B55='Data Validation'!$B$11,"-"),"-")} -> No | K55: {=IFERROR(_xlfn.IFS(D55="Garage","No",B55='Data Validation'!$B$3,"Yes",'Pod Commentary'!B55='Data Validation'!$B$4,"No",'Pod Commentary'!B55='Data Validation'!$B$5,"No",'Pod Commentary'!B55='Data Validation'!$B$6,"No",'Pod Commentary'!B55='Data Validation'!$B$7,"No",'Pod Commentary'!B55='Data Validation'!$B$8,"Yes",'Pod Commentary'!B55='Data Validation'!$B$9,"No",'Pod Commentary'!B55='Data Validation'!$B$10,"No",'Pod Commentary'!B55='Data Validation'!$B$11,"No"),"-")} -> Yes | L55: {=IFERROR(_xlfn.IFS(B55='Data Validation'!$B$6,"Yes",B55='Data Validation'!$B$7,"Yes"),"-")} -> - | R55: =IFERROR(IF($B55=$R$1,"1","-")*1,"-") -> 1 | S55: =IFERROR(IF($B55=$S$1,"1","-")*1,"-") -> - | T55: =IFERROR(IF($B55=$T$1,"1","-")*1,"-") -> - | U55: =IFERROR(IF($B55=$U$1,"1","-")*1,"-") -> - | V55: =IFERROR(IF($B55=$V$1,"1","-")*1,"-") -> - | W55: =IFERROR(IF(E55=$W$1,"1","-")*1,"-") -> - | X55: =IFERROR(IF(E55=$X$1,"1","-")*1,"-") -> - | Y55: {=IFERROR(_xlfn.IFS(B55=$U$1,"2",B55=$V$1,"2",J55="Yes","1")*1,"-")} -> - | Z55: =IFERROR(IF(K55="Yes","1","-")*1,"-") -> 1 | AA55: =IFERROR(IF(L55="Yes","1","-")*1,"-") -> - | AB55: =IFERROR(IF(O55="Yes","1","-")*1,"-") -> - | AC55: =IFERROR(IF($B55=$AC$1,"1","-")*1,"-") -> - | AD55: =IFERROR(IF($B55=$AD$1,"1","-")*1,"-") -> - | AE55: =IFERROR(IF($B55=$AE$1,"1","-")*1,"-") -> -
A56: 55 | B56: S7-UCB-3 | C56: Active | D56: On Dwelling | E56: - | F56: Domestic | G56: - | H56: - | J56: {=IFERROR(_xlfn.IFS('Pod Commentary'!B56='Data Validation'!$B$3,"No",'Pod Commentary'!B56='Data Validation'!$B$4,"Yes",'Pod Commentary'!B56='Data Validation'!$B$5,"Yes",'Pod Commentary'!B56='Data Validation'!$B$6,"Yes",'Pod Commentary'!B56='Data Validation'!$B$7,"Yes",'Pod Commentary'!B56='Data Validation'!$B$8,"No",'Pod Commentary'!B56='Data Validation'!$B$9,"Yes",'Pod Commentary'!B56='Data Validation'!$B$10,"Yes",'Pod Commentary'!B56='Data Validation'!$B$11,"-"),"-")} -> No | K56: {=IFERROR(_xlfn.IFS(D56="Garage","No",B56='Data Validation'!$B$3,"Yes",'Pod Commentary'!B56='Data Validation'!$B$4,"No",'Pod Commentary'!B56='Data Validation'!$B$5,"No",'Pod Commentary'!B56='Data Validation'!$B$6,"No",'Pod Commentary'!B56='Data Validation'!$B$7,"No",'Pod Commentary'!B56='Data Validation'!$B$8,"Yes",'Pod Commentary'!B56='Data Validation'!$B$9,"No",'Pod Commentary'!B56='Data Validation'!$B$10,"No",'Pod Commentary'!B56='Data Validation'!$B$11,"No"),"-")} -> Yes | L56: {=IFERROR(_xlfn.IFS(B56='Data Validation'!$B$6,"Yes",B56='Data Validation'!$B$7,"Yes"),"-")} -> - | R56: =IFERROR(IF($B56=$R$1,"1","-")*1,"-") -> 1 | S56: =IFERROR(IF($B56=$S$1,"1","-")*1,"-") -> - | T56: =IFERROR(IF($B56=$T$1,"1","-")*1,"-") -> - | U56: =IFERROR(IF($B56=$U$1,"1","-")*1,"-") -> - | V56: =IFERROR(IF($B56=$V$1,"1","-")*1,"-") -> - | W56: =IFERROR(IF(E56=$W$1,"1","-")*1,"-") -> - | X56: =IFERROR(IF(E56=$X$1,"1","-")*1,"-") -> - | Y56: {=IFERROR(_xlfn.IFS(B56=$U$1,"2",B56=$V$1,"2",J56="Yes","1")*1,"-")} -> - | Z56: =IFERROR(IF(K56="Yes","1","-")*1,"-") -> 1 | AA56: =IFERROR(IF(L56="Yes","1","-")*1,"-") -> - | AB56: =IFERROR(IF(O56="Yes","1","-")*1,"-") -> - | AC56: =IFERROR(IF($B56=$AC$1,"1","-")*1,"-") -> - | AD56: =IFERROR(IF($B56=$AD$1,"1","-")*1,"-") -> - | AE56: =IFERROR(IF($B56=$AE$1,"1","-")*1,"-") -> -
A57: 56 | B57: S7-UCB-3 | C57: Active | D57: On Dwelling | E57: - | F57: Domestic | G57: - | H57: - | J57: {=IFERROR(_xlfn.IFS('Pod Commentary'!B57='Data Validation'!$B$3,"No",'Pod Commentary'!B57='Data Validation'!$B$4,"Yes",'Pod Commentary'!B57='Data Validation'!$B$5,"Yes",'Pod Commentary'!B57='Data Validation'!$B$6,"Yes",'Pod Commentary'!B57='Data Validation'!$B$7,"Yes",'Pod Commentary'!B57='Data Validation'!$B$8,"No",'Pod Commentary'!B57='Data Validation'!$B$9,"Yes",'Pod Commentary'!B57='Data Validation'!$B$10,"Yes",'Pod Commentary'!B57='Data Validation'!$B$11,"-"),"-")} -> No | K57: {=IFERROR(_xlfn.IFS(D57="Garage","No",B57='Data Validation'!$B$3,"Yes",'Pod Commentary'!B57='Data Validation'!$B$4,"No",'Pod Commentary'!B57='Data Validation'!$B$5,"No",'Pod Commentary'!B57='Data Validation'!$B$6,"No",'Pod Commentary'!B57='Data Validation'!$B$7,"No",'Pod Commentary'!B57='Data Validation'!$B$8,"Yes",'Pod Commentary'!B57='Data Validation'!$B$9,"No",'Pod Commentary'!B57='Data Validation'!$B$10,"No",'Pod Commentary'!B57='Data Validation'!$B$11,"No"),"-")} -> Yes | L57: {=IFERROR(_xlfn.IFS(B57='Data Validation'!$B$6,"Yes",B57='Data Validation'!$B$7,"Yes"),"-")} -> - | R57: =IFERROR(IF($B57=$R$1,"1","-")*1,"-") -> 1 | S57: =IFERROR(IF($B57=$S$1,"1","-")*1,"-") -> - | T57: =IFERROR(IF($B57=$T$1,"1","-")*1,"-") -> - | U57: =IFERROR(IF($B57=$U$1,"1","-")*1,"-") -> - | V57: =IFERROR(IF($B57=$V$1,"1","-")*1,"-") -> - | W57: =IFERROR(IF(E57=$W$1,"1","-")*1,"-") -> - | X57: =IFERROR(IF(E57=$X$1,"1","-")*1,"-") -> - | Y57: {=IFERROR(_xlfn.IFS(B57=$U$1,"2",B57=$V$1,"2",J57="Yes","1")*1,"-")} -> - | Z57: =IFERROR(IF(K57="Yes","1","-")*1,"-") -> 1 | AA57: =IFERROR(IF(L57="Yes","1","-")*1,"-") -> - | AB57: =IFERROR(IF(O57="Yes","1","-")*1,"-") -> - | AC57: =IFERROR(IF($B57=$AC$1,"1","-")*1,"-") -> - | AD57: =IFERROR(IF($B57=$AD$1,"1","-")*1,"-") -> - | AE57: =IFERROR(IF($B57=$AE$1,"1","-")*1,"-") -> -
A58: 57 | B58: S7-UCB-3 | C58: Active | D58: Remote (Wall Mounted) | E58: - | F58: Domestic | G58: - | H58: - | J58: {=IFERROR(_xlfn.IFS('Pod Commentary'!B58='Data Validation'!$B$3,"No",'Pod Commentary'!B58='Data Validation'!$B$4,"Yes",'Pod Commentary'!B58='Data Validation'!$B$5,"Yes",'Pod Commentary'!B58='Data Validation'!$B$6,"Yes",'Pod Commentary'!B58='Data Validation'!$B$7,"Yes",'Pod Commentary'!B58='Data Validation'!$B$8,"No",'Pod Commentary'!B58='Data Validation'!$B$9,"Yes",'Pod Commentary'!B58='Data Validation'!$B$10,"Yes",'Pod Commentary'!B58='Data Validation'!$B$11,"-"),"-")} -> No | K58: {=IFERROR(_xlfn.IFS(D58="Garage","No",B58='Data Validation'!$B$3,"Yes",'Pod Commentary'!B58='Data Validation'!$B$4,"No",'Pod Commentary'!B58='Data Validation'!$B$5,"No",'Pod Commentary'!B58='Data Validation'!$B$6,"No",'Pod Commentary'!B58='Data Validation'!$B$7,"No",'Pod Commentary'!B58='Data Validation'!$B$8,"Yes",'Pod Commentary'!B58='Data Validation'!$B$9,"No",'Pod Commentary'!B58='Data Validation'!$B$10,"No",'Pod Commentary'!B58='Data Validation'!$B$11,"No"),"-")} -> Yes | L58: {=IFERROR(_xlfn.IFS(B58='Data Validation'!$B$6,"Yes",B58='Data Validation'!$B$7,"Yes"),"-")} -> - | M58: Yes | N58: Ducting from dwelling's power supply to charger location | R58: =IFERROR(IF($B58=$R$1,"1","-")*1,"-") -> 1 | S58: =IFERROR(IF($B58=$S$1,"1","-")*1,"-") -> - | T58: =IFERROR(IF($B58=$T$1,"1","-")*1,"-") -> - | U58: =IFERROR(IF($B58=$U$1,"1","-")*1,"-") -> - | V58: =IFERROR(IF($B58=$V$1,"1","-")*1,"-") -> - | W58: =IFERROR(IF(E58=$W$1,"1","-")*1,"-") -> - | X58: =IFERROR(IF(E58=$X$1,"1","-")*1,"-") -> - | Y58: {=IFERROR(_xlfn.IFS(B58=$U$1,"2",B58=$V$1,"2",J58="Yes","1")*1,"-")} -> - | Z58: =IFERROR(IF(K58="Yes","1","-")*1,"-") -> 1 | AA58: =IFERROR(IF(L58="Yes","1","-")*1,"-") -> - | AB58: =IFERROR(IF(O58="Yes","1","-")*1,"-") -> - | AC58: =IFERROR(IF($B58=$AC$1,"1","-")*1,"-") -> - | AD58: =IFERROR(IF($B58=$AD$1,"1","-")*1,"-") -> - | AE58: =IFERROR(IF($B58=$AE$1,"1","-")*1,"-") -> -
A59: 58 | B59: S7-UCB-3 | C59: Active | D59: On Dwelling | E59: - | F59: Domestic | G59: - | H59: - | J59: {=IFERROR(_xlfn.IFS('Pod Commentary'!B59='Data Validation'!$B$3,"No",'Pod Commentary'!B59='Data Validation'!$B$4,"Yes",'Pod Commentary'!B59='Data Validation'!$B$5,"Yes",'Pod Commentary'!B59='Data Validation'!$B$6,"Yes",'Pod Commentary'!B59='Data Validation'!$B$7,"Yes",'Pod Commentary'!B59='Data Validation'!$B$8,"No",'Pod Commentary'!B59='Data Validation'!$B$9,"Yes",'Pod Commentary'!B59='Data Validation'!$B$10,"Yes",'Pod Commentary'!B59='Data Validation'!$B$11,"-"),"-")} -> No | K59: {=IFERROR(_xlfn.IFS(D59="Garage","No",B59='Data Validation'!$B$3,"Yes",'Pod Commentary'!B59='Data Validation'!$B$4,"No",'Pod Commentary'!B59='Data Validation'!$B$5,"No",'Pod Commentary'!B59='Data Validation'!$B$6,"No",'Pod Commentary'!B59='Data Validation'!$B$7,"No",'Pod Commentary'!B59='Data Validation'!$B$8,"Yes",'Pod Commentary'!B59='Data Validation'!$B$9,"No",'Pod Commentary'!B59='Data Validation'!$B$10,"No",'Pod Commentary'!B59='Data Validation'!$B$11,"No"),"-")} -> Yes | L59: {=IFERROR(_xlfn.IFS(B59='Data Validation'!$B$6,"Yes",B59='Data Validation'!$B$7,"Yes"),"-")} -> - | R59: =IFERROR(IF($B59=$R$1,"1","-")*1,"-") -> 1 | S59: =IFERROR(IF($B59=$S$1,"1","-")*1,"-") -> - | T59: =IFERROR(IF($B59=$T$1,"1","-")*1,"-") -> - | U59: =IFERROR(IF($B59=$U$1,"1","-")*1,"-") -> - | V59: =IFERROR(IF($B59=$V$1,"1","-")*1,"-") -> - | W59: =IFERROR(IF(E59=$W$1,"1","-")*1,"-") -> - | X59: =IFERROR(IF(E59=$X$1,"1","-")*1,"-") -> - | Y59: {=IFERROR(_xlfn.IFS(B59=$U$1,"2",B59=$V$1,"2",J59="Yes","1")*1,"-")} -> - | Z59: =IFERROR(IF(K59="Yes","1","-")*1,"-") -> 1 | AA59: =IFERROR(IF(L59="Yes","1","-")*1,"-") -> - | AB59: =IFERROR(IF(O59="Yes","1","-")*1,"-") -> - | AC59: =IFERROR(IF($B59=$AC$1,"1","-")*1,"-") -> - | AD59: =IFERROR(IF($B59=$AD$1,"1","-")*1,"-") -> - | AE59: =IFERROR(IF($B59=$AE$1,"1","-")*1,"-") -> -
A60: 59 | B60: S7-UCB-3 | C60: Active | D60: On Dwelling | E60: - | F60: Domestic | G60: - | H60: - | J60: {=IFERROR(_xlfn.IFS('Pod Commentary'!B60='Data Validation'!$B$3,"No",'Pod Commentary'!B60='Data Validation'!$B$4,"Yes",'Pod Commentary'!B60='Data Validation'!$B$5,"Yes",'Pod Commentary'!B60='Data Validation'!$B$6,"Yes",'Pod Commentary'!B60='Data Validation'!$B$7,"Yes",'Pod Commentary'!B60='Data Validation'!$B$8,"No",'Pod Commentary'!B60='Data Validation'!$B$9,"Yes",'Pod Commentary'!B60='Data Validation'!$B$10,"Yes",'Pod Commentary'!B60='Data Validation'!$B$11,"-"),"-")} -> No | K60: {=IFERROR(_xlfn.IFS(D60="Garage","No",B60='Data Validation'!$B$3,"Yes",'Pod Commentary'!B60='Data Validation'!$B$4,"No",'Pod Commentary'!B60='Data Validation'!$B$5,"No",'Pod Commentary'!B60='Data Validation'!$B$6,"No",'Pod Commentary'!B60='Data Validation'!$B$7,"No",'Pod Commentary'!B60='Data Validation'!$B$8,"Yes",'Pod Commentary'!B60='Data Validation'!$B$9,"No",'Pod Commentary'!B60='Data Validation'!$B$10,"No",'Pod Commentary'!B60='Data Validation'!$B$11,"No"),"-")} -> Yes | L60: {=IFERROR(_xlfn.IFS(B60='Data Validation'!$B$6,"Yes",B60='Data Validation'!$B$7,"Yes"),"-")} -> - | R60: =IFERROR(IF($B60=$R$1,"1","-")*1,"-") -> 1 | S60: =IFERROR(IF($B60=$S$1,"1","-")*1,"-") -> - | T60: =IFERROR(IF($B60=$T$1,"1","-")*1,"-") -> - | U60: =IFERROR(IF($B60=$U$1,"1","-")*1,"-") -> - | V60: =IFERROR(IF($B60=$V$1,"1","-")*1,"-") -> - | W60: =IFERROR(IF(E60=$W$1,"1","-")*1,"-") -> - | X60: =IFERROR(IF(E60=$X$1,"1","-")*1,"-") -> - | Y60: {=IFERROR(_xlfn.IFS(B60=$U$1,"2",B60=$V$1,"2",J60="Yes","1")*1,"-")} -> - | Z60: =IFERROR(IF(K60="Yes","1","-")*1,"-") -> 1 | AA60: =IFERROR(IF(L60="Yes","1","-")*1,"-") -> - | AB60: =IFERROR(IF(O60="Yes","1","-")*1,"-") -> - | AC60: =IFERROR(IF($B60=$AC$1,"1","-")*1,"-") -> - | AD60: =IFERROR(IF($B60=$AD$1,"1","-")*1,"-") -> - | AE60: =IFERROR(IF($B60=$AE$1,"1","-")*1,"-") -> -
A61: 60 | B61: S7-UCB-3 | C61: Active | D61: Remote (Freestanding) | E61: Single | F61: Domestic | G61: - | H61: - | J61: {=IFERROR(_xlfn.IFS('Pod Commentary'!B61='Data Validation'!$B$3,"No",'Pod Commentary'!B61='Data Validation'!$B$4,"Yes",'Pod Commentary'!B61='Data Validation'!$B$5,"Yes",'Pod Commentary'!B61='Data Validation'!$B$6,"Yes",'Pod Commentary'!B61='Data Validation'!$B$7,"Yes",'Pod Commentary'!B61='Data Validation'!$B$8,"No",'Pod Commentary'!B61='Data Validation'!$B$9,"Yes",'Pod Commentary'!B61='Data Validation'!$B$10,"Yes",'Pod Commentary'!B61='Data Validation'!$B$11,"-"),"-")} -> No | K61: {=IFERROR(_xlfn.IFS(D61="Garage","No",B61='Data Validation'!$B$3,"Yes",'Pod Commentary'!B61='Data Validation'!$B$4,"No",'Pod Commentary'!B61='Data Validation'!$B$5,"No",'Pod Commentary'!B61='Data Validation'!$B$6,"No",'Pod Commentary'!B61='Data Validation'!$B$7,"No",'Pod Commentary'!B61='Data Validation'!$B$8,"Yes",'Pod Commentary'!B61='Data Validation'!$B$9,"No",'Pod Commentary'!B61='Data Validation'!$B$10,"No",'Pod Commentary'!B61='Data Validation'!$B$11,"No"),"-")} -> Yes | L61: {=IFERROR(_xlfn.IFS(B61='Data Validation'!$B$6,"Yes",B61='Data Validation'!$B$7,"Yes"),"-")} -> - | M61: Yes | N61: Ducting from dwelling's power supply to charger location | R61: =IFERROR(IF($B61=$R$1,"1","-")*1,"-") -> 1 | S61: =IFERROR(IF($B61=$S$1,"1","-")*1,"-") -> - | T61: =IFERROR(IF($B61=$T$1,"1","-")*1,"-") -> - | U61: =IFERROR(IF($B61=$U$1,"1","-")*1,"-") -> - | V61: =IFERROR(IF($B61=$V$1,"1","-")*1,"-") -> - | W61: =IFERROR(IF(E61=$W$1,"1","-")*1,"-") -> 1 | X61: =IFERROR(IF(E61=$X$1,"1","-")*1,"-") -> - | Y61: {=IFERROR(_xlfn.IFS(B61=$U$1,"2",B61=$V$1,"2",J61="Yes","1")*1,"-")} -> - | Z61: =IFERROR(IF(K61="Yes","1","-")*1,"-") -> 1 | AA61: =IFERROR(IF(L61="Yes","1","-")*1,"-") -> - | AB61: =IFERROR(IF(O61="Yes","1","-")*1,"-") -> - | AC61: =IFERROR(IF($B61=$AC$1,"1","-")*1,"-") -> - | AD61: =IFERROR(IF($B61=$AD$1,"1","-")*1,"-") -> - | AE61: =IFERROR(IF($B61=$AE$1,"1","-")*1,"-") -> -
A62: 61 | B62: S7-UCB-3 | C62: Active | D62: Remote (Freestanding) | E62: Single | F62: Domestic | G62: - | H62: - | J62: {=IFERROR(_xlfn.IFS('Pod Commentary'!B62='Data Validation'!$B$3,"No",'Pod Commentary'!B62='Data Validation'!$B$4,"Yes",'Pod Commentary'!B62='Data Validation'!$B$5,"Yes",'Pod Commentary'!B62='Data Validation'!$B$6,"Yes",'Pod Commentary'!B62='Data Validation'!$B$7,"Yes",'Pod Commentary'!B62='Data Validation'!$B$8,"No",'Pod Commentary'!B62='Data Validation'!$B$9,"Yes",'Pod Commentary'!B62='Data Validation'!$B$10,"Yes",'Pod Commentary'!B62='Data Validation'!$B$11,"-"),"-")} -> No | K62: {=IFERROR(_xlfn.IFS(D62="Garage","No",B62='Data Validation'!$B$3,"Yes",'Pod Commentary'!B62='Data Validation'!$B$4,"No",'Pod Commentary'!B62='Data Validation'!$B$5,"No",'Pod Commentary'!B62='Data Validation'!$B$6,"No",'Pod Commentary'!B62='Data Validation'!$B$7,"No",'Pod Commentary'!B62='Data Validation'!$B$8,"Yes",'Pod Commentary'!B62='Data Validation'!$B$9,"No",'Pod Commentary'!B62='Data Validation'!$B$10,"No",'Pod Commentary'!B62='Data Validation'!$B$11,"No"),"-")} -> Yes | L62: {=IFERROR(_xlfn.IFS(B62='Data Validation'!$B$6,"Yes",B62='Data Validation'!$B$7,"Yes"),"-")} -> - | M62: Yes | N62: Ducting from dwelling's power supply to charger location | R62: =IFERROR(IF($B62=$R$1,"1","-")*1,"-") -> 1 | S62: =IFERROR(IF($B62=$S$1,"1","-")*1,"-") -> - | T62: =IFERROR(IF($B62=$T$1,"1","-")*1,"-") -> - | U62: =IFERROR(IF($B62=$U$1,"1","-")*1,"-") -> - | V62: =IFERROR(IF($B62=$V$1,"1","-")*1,"-") -> - | W62: =IFERROR(IF(E62=$W$1,"1","-")*1,"-") -> 1 | X62: =IFERROR(IF(E62=$X$1,"1","-")*1,"-") -> - | Y62: {=IFERROR(_xlfn.IFS(B62=$U$1,"2",B62=$V$1,"2",J62="Yes","1")*1,"-")} -> - | Z62: =IFERROR(IF(K62="Yes","1","-")*1,"-") -> 1 | AA62: =IFERROR(IF(L62="Yes","1","-")*1,"-") -> - | AB62: =IFERROR(IF(O62="Yes","1","-")*1,"-") -> - | AC62: =IFERROR(IF($B62=$AC$1,"1","-")*1,"-") -> - | AD62: =IFERROR(IF($B62=$AD$1,"1","-")*1,"-") -> - | AE62: =IFERROR(IF($B62=$AE$1,"1","-")*1,"-") -> -
A63: 62 | B63: S7-UCB-3 | C63: Active | D63: Remote (Freestanding) | E63: Single | F63: Domestic | G63: - | H63: - | J63: {=IFERROR(_xlfn.IFS('Pod Commentary'!B63='Data Validation'!$B$3,"No",'Pod Commentary'!B63='Data Validation'!$B$4,"Yes",'Pod Commentary'!B63='Data Validation'!$B$5,"Yes",'Pod Commentary'!B63='Data Validation'!$B$6,"Yes",'Pod Commentary'!B63='Data Validation'!$B$7,"Yes",'Pod Commentary'!B63='Data Validation'!$B$8,"No",'Pod Commentary'!B63='Data Validation'!$B$9,"Yes",'Pod Commentary'!B63='Data Validation'!$B$10,"Yes",'Pod Commentary'!B63='Data Validation'!$B$11,"-"),"-")} -> No | K63: {=IFERROR(_xlfn.IFS(D63="Garage","No",B63='Data Validation'!$B$3,"Yes",'Pod Commentary'!B63='Data Validation'!$B$4,"No",'Pod Commentary'!B63='Data Validation'!$B$5,"No",'Pod Commentary'!B63='Data Validation'!$B$6,"No",'Pod Commentary'!B63='Data Validation'!$B$7,"No",'Pod Commentary'!B63='Data Validation'!$B$8,"Yes",'Pod Commentary'!B63='Data Validation'!$B$9,"No",'Pod Commentary'!B63='Data Validation'!$B$10,"No",'Pod Commentary'!B63='Data Validation'!$B$11,"No"),"-")} -> Yes | L63: {=IFERROR(_xlfn.IFS(B63='Data Validation'!$B$6,"Yes",B63='Data Validation'!$B$7,"Yes"),"-")} -> - | M63: Yes | N63: Ducting from dwelling's power supply to charger location | R63: =IFERROR(IF($B63=$R$1,"1","-")*1,"-") -> 1 | S63: =IFERROR(IF($B63=$S$1,"1","-")*1,"-") -> - | T63: =IFERROR(IF($B63=$T$1,"1","-")*1,"-") -> - | U63: =IFERROR(IF($B63=$U$1,"1","-")*1,"-") -> - | V63: =IFERROR(IF($B63=$V$1,"1","-")*1,"-") -> - | W63: =IFERROR(IF(E63=$W$1,"1","-")*1,"-") -> 1 | X63: =IFERROR(IF(E63=$X$1,"1","-")*1,"-") -> - | Y63: {=IFERROR(_xlfn.IFS(B63=$U$1,"2",B63=$V$1,"2",J63="Yes","1")*1,"-")} -> - | Z63: =IFERROR(IF(K63="Yes","1","-")*1,"-") -> 1 | AA63: =IFERROR(IF(L63="Yes","1","-")*1,"-") -> - | AB63: =IFERROR(IF(O63="Yes","1","-")*1,"-") -> - | AC63: =IFERROR(IF($B63=$AC$1,"1","-")*1,"-") -> - | AD63: =IFERROR(IF($B63=$AD$1,"1","-")*1,"-") -> - | AE63: =IFERROR(IF($B63=$AE$1,"1","-")*1,"-") -> -
A64: 63 | B64: S7-UCB-3 | C64: Active | D64: Remote (Freestanding) | E64: Single | F64: Domestic | G64: - | H64: - | J64: {=IFERROR(_xlfn.IFS('Pod Commentary'!B64='Data Validation'!$B$3,"No",'Pod Commentary'!B64='Data Validation'!$B$4,"Yes",'Pod Commentary'!B64='Data Validation'!$B$5,"Yes",'Pod Commentary'!B64='Data Validation'!$B$6,"Yes",'Pod Commentary'!B64='Data Validation'!$B$7,"Yes",'Pod Commentary'!B64='Data Validation'!$B$8,"No",'Pod Commentary'!B64='Data Validation'!$B$9,"Yes",'Pod Commentary'!B64='Data Validation'!$B$10,"Yes",'Pod Commentary'!B64='Data Validation'!$B$11,"-"),"-")} -> No | K64: {=IFERROR(_xlfn.IFS(D64="Garage","No",B64='Data Validation'!$B$3,"Yes",'Pod Commentary'!B64='Data Validation'!$B$4,"No",'Pod Commentary'!B64='Data Validation'!$B$5,"No",'Pod Commentary'!B64='Data Validation'!$B$6,"No",'Pod Commentary'!B64='Data Validation'!$B$7,"No",'Pod Commentary'!B64='Data Validation'!$B$8,"Yes",'Pod Commentary'!B64='Data Validation'!$B$9,"No",'Pod Commentary'!B64='Data Validation'!$B$10,"No",'Pod Commentary'!B64='Data Validation'!$B$11,"No"),"-")} -> Yes | L64: {=IFERROR(_xlfn.IFS(B64='Data Validation'!$B$6,"Yes",B64='Data Validation'!$B$7,"Yes"),"-")} -> - | M64: Yes | N64: Ducting from dwelling's power supply to charger location | R64: =IFERROR(IF($B64=$R$1,"1","-")*1,"-") -> 1 | S64: =IFERROR(IF($B64=$S$1,"1","-")*1,"-") -> - | T64: =IFERROR(IF($B64=$T$1,"1","-")*1,"-") -> - | U64: =IFERROR(IF($B64=$U$1,"1","-")*1,"-") -> - | V64: =IFERROR(IF($B64=$V$1,"1","-")*1,"-") -> - | W64: =IFERROR(IF(E64=$W$1,"1","-")*1,"-") -> 1 | X64: =IFERROR(IF(E64=$X$1,"1","-")*1,"-") -> - | Y64: {=IFERROR(_xlfn.IFS(B64=$U$1,"2",B64=$V$1,"2",J64="Yes","1")*1,"-")} -> - | Z64: =IFERROR(IF(K64="Yes","1","-")*1,"-") -> 1 | AA64: =IFERROR(IF(L64="Yes","1","-")*1,"-") -> - | AB64: =IFERROR(IF(O64="Yes","1","-")*1,"-") -> - | AC64: =IFERROR(IF($B64=$AC$1,"1","-")*1,"-") -> - | AD64: =IFERROR(IF($B64=$AD$1,"1","-")*1,"-") -> - | AE64: =IFERROR(IF($B64=$AE$1,"1","-")*1,"-") -> -
A65: 64 | B65: S7-UCB-3 | C65: Active | D65: On Dwelling | E65: - | F65: Domestic | G65: - | H65: - | J65: {=IFERROR(_xlfn.IFS('Pod Commentary'!B65='Data Validation'!$B$3,"No",'Pod Commentary'!B65='Data Validation'!$B$4,"Yes",'Pod Commentary'!B65='Data Validation'!$B$5,"Yes",'Pod Commentary'!B65='Data Validation'!$B$6,"Yes",'Pod Commentary'!B65='Data Validation'!$B$7,"Yes",'Pod Commentary'!B65='Data Validation'!$B$8,"No",'Pod Commentary'!B65='Data Validation'!$B$9,"Yes",'Pod Commentary'!B65='Data Validation'!$B$10,"Yes",'Pod Commentary'!B65='Data Validation'!$B$11,"-"),"-")} -> No | K65: {=IFERROR(_xlfn.IFS(D65="Garage","No",B65='Data Validation'!$B$3,"Yes",'Pod Commentary'!B65='Data Validation'!$B$4,"No",'Pod Commentary'!B65='Data Validation'!$B$5,"No",'Pod Commentary'!B65='Data Validation'!$B$6,"No",'Pod Commentary'!B65='Data Validation'!$B$7,"No",'Pod Commentary'!B65='Data Validation'!$B$8,"Yes",'Pod Commentary'!B65='Data Validation'!$B$9,"No",'Pod Commentary'!B65='Data Validation'!$B$10,"No",'Pod Commentary'!B65='Data Validation'!$B$11,"No"),"-")} -> Yes | L65: {=IFERROR(_xlfn.IFS(B65='Data Validation'!$B$6,"Yes",B65='Data Validation'!$B$7,"Yes"),"-")} -> - | R65: =IFERROR(IF($B65=$R$1,"1","-")*1,"-") -> 1 | S65: =IFERROR(IF($B65=$S$1,"1","-")*1,"-") -> - | T65: =IFERROR(IF($B65=$T$1,"1","-")*1,"-") -> - | U65: =IFERROR(IF($B65=$U$1,"1","-")*1,"-") -> - | V65: =IFERROR(IF($B65=$V$1,"1","-")*1,"-") -> - | W65: =IFERROR(IF(E65=$W$1,"1","-")*1,"-") -> - | X65: =IFERROR(IF(E65=$X$1,"1","-")*1,"-") -> - | Y65: {=IFERROR(_xlfn.IFS(B65=$U$1,"2",B65=$V$1,"2",J65="Yes","1")*1,"-")} -> - | Z65: =IFERROR(IF(K65="Yes","1","-")*1,"-") -> 1 | AA65: =IFERROR(IF(L65="Yes","1","-")*1,"-") -> - | AB65: =IFERROR(IF(O65="Yes","1","-")*1,"-") -> - | AC65: =IFERROR(IF($B65=$AC$1,"1","-")*1,"-") -> - | AD65: =IFERROR(IF($B65=$AD$1,"1","-")*1,"-") -> - | AE65: =IFERROR(IF($B65=$AE$1,"1","-")*1,"-") -> -
A66: 65 | B66: S7-UCB-3 | C66: Active | D66: On Dwelling | E66: - | F66: Domestic | G66: - | H66: - | J66: {=IFERROR(_xlfn.IFS('Pod Commentary'!B66='Data Validation'!$B$3,"No",'Pod Commentary'!B66='Data Validation'!$B$4,"Yes",'Pod Commentary'!B66='Data Validation'!$B$5,"Yes",'Pod Commentary'!B66='Data Validation'!$B$6,"Yes",'Pod Commentary'!B66='Data Validation'!$B$7,"Yes",'Pod Commentary'!B66='Data Validation'!$B$8,"No",'Pod Commentary'!B66='Data Validation'!$B$9,"Yes",'Pod Commentary'!B66='Data Validation'!$B$10,"Yes",'Pod Commentary'!B66='Data Validation'!$B$11,"-"),"-")} -> No | K66: {=IFERROR(_xlfn.IFS(D66="Garage","No",B66='Data Validation'!$B$3,"Yes",'Pod Commentary'!B66='Data Validation'!$B$4,"No",'Pod Commentary'!B66='Data Validation'!$B$5,"No",'Pod Commentary'!B66='Data Validation'!$B$6,"No",'Pod Commentary'!B66='Data Validation'!$B$7,"No",'Pod Commentary'!B66='Data Validation'!$B$8,"Yes",'Pod Commentary'!B66='Data Validation'!$B$9,"No",'Pod Commentary'!B66='Data Validation'!$B$10,"No",'Pod Commentary'!B66='Data Validation'!$B$11,"No"),"-")} -> Yes | L66: {=IFERROR(_xlfn.IFS(B66='Data Validation'!$B$6,"Yes",B66='Data Validation'!$B$7,"Yes"),"-")} -> - | R66: =IFERROR(IF($B66=$R$1,"1","-")*1,"-") -> 1 | S66: =IFERROR(IF($B66=$S$1,"1","-")*1,"-") -> - | T66: =IFERROR(IF($B66=$T$1,"1","-")*1,"-") -> - | U66: =IFERROR(IF($B66=$U$1,"1","-")*1,"-") -> - | V66: =IFERROR(IF($B66=$V$1,"1","-")*1,"-") -> - | W66: =IFERROR(IF(E66=$W$1,"1","-")*1,"-") -> - | X66: =IFERROR(IF(E66=$X$1,"1","-")*1,"-") -> - | Y66: {=IFERROR(_xlfn.IFS(B66=$U$1,"2",B66=$V$1,"2",J66="Yes","1")*1,"-")} -> - | Z66: =IFERROR(IF(K66="Yes","1","-")*1,"-") -> 1 | AA66: =IFERROR(IF(L66="Yes","1","-")*1,"-") -> - | AB66: =IFERROR(IF(O66="Yes","1","-")*1,"-") -> - | AC66: =IFERROR(IF($B66=$AC$1,"1","-")*1,"-") -> - | AD66: =IFERROR(IF($B66=$AD$1,"1","-")*1,"-") -> - | AE66: =IFERROR(IF($B66=$AE$1,"1","-")*1,"-") -> -
A67: 66 | B67: S7-UCB-3 | C67: Active | D67: Remote (Freestanding) | E67: Single | F67: Domestic | G67: - | H67: - | J67: {=IFERROR(_xlfn.IFS('Pod Commentary'!B67='Data Validation'!$B$3,"No",'Pod Commentary'!B67='Data Validation'!$B$4,"Yes",'Pod Commentary'!B67='Data Validation'!$B$5,"Yes",'Pod Commentary'!B67='Data Validation'!$B$6,"Yes",'Pod Commentary'!B67='Data Validation'!$B$7,"Yes",'Pod Commentary'!B67='Data Validation'!$B$8,"No",'Pod Commentary'!B67='Data Validation'!$B$9,"Yes",'Pod Commentary'!B67='Data Validation'!$B$10,"Yes",'Pod Commentary'!B67='Data Validation'!$B$11,"-"),"-")} -> No | K67: {=IFERROR(_xlfn.IFS(D67="Garage","No",B67='Data Validation'!$B$3,"Yes",'Pod Commentary'!B67='Data Validation'!$B$4,"No",'Pod Commentary'!B67='Data Validation'!$B$5,"No",'Pod Commentary'!B67='Data Validation'!$B$6,"No",'Pod Commentary'!B67='Data Validation'!$B$7,"No",'Pod Commentary'!B67='Data Validation'!$B$8,"Yes",'Pod Commentary'!B67='Data Validation'!$B$9,"No",'Pod Commentary'!B67='Data Validation'!$B$10,"No",'Pod Commentary'!B67='Data Validation'!$B$11,"No"),"-")} -> Yes | L67: {=IFERROR(_xlfn.IFS(B67='Data Validation'!$B$6,"Yes",B67='Data Validation'!$B$7,"Yes"),"-")} -> - | M67: Yes | N67: Ducting from dwelling's power supply to charger location | R67: =IFERROR(IF($B67=$R$1,"1","-")*1,"-") -> 1 | S67: =IFERROR(IF($B67=$S$1,"1","-")*1,"-") -> - | T67: =IFERROR(IF($B67=$T$1,"1","-")*1,"-") -> - | U67: =IFERROR(IF($B67=$U$1,"1","-")*1,"-") -> - | V67: =IFERROR(IF($B67=$V$1,"1","-")*1,"-") -> - | W67: =IFERROR(IF(E67=$W$1,"1","-")*1,"-") -> 1 | X67: =IFERROR(IF(E67=$X$1,"1","-")*1,"-") -> - | Y67: {=IFERROR(_xlfn.IFS(B67=$U$1,"2",B67=$V$1,"2",J67="Yes","1")*1,"-")} -> - | Z67: =IFERROR(IF(K67="Yes","1","-")*1,"-") -> 1 | AA67: =IFERROR(IF(L67="Yes","1","-")*1,"-") -> - | AB67: =IFERROR(IF(O67="Yes","1","-")*1,"-") -> - | AC67: =IFERROR(IF($B67=$AC$1,"1","-")*1,"-") -> - | AD67: =IFERROR(IF($B67=$AD$1,"1","-")*1,"-") -> - | AE67: =IFERROR(IF($B67=$AE$1,"1","-")*1,"-") -> -
A68: 67 | B68: S7-UCB-3 | C68: Active | D68: Remote (Freestanding) | E68: Single | F68: Domestic | G68: - | H68: - | J68: {=IFERROR(_xlfn.IFS('Pod Commentary'!B68='Data Validation'!$B$3,"No",'Pod Commentary'!B68='Data Validation'!$B$4,"Yes",'Pod Commentary'!B68='Data Validation'!$B$5,"Yes",'Pod Commentary'!B68='Data Validation'!$B$6,"Yes",'Pod Commentary'!B68='Data Validation'!$B$7,"Yes",'Pod Commentary'!B68='Data Validation'!$B$8,"No",'Pod Commentary'!B68='Data Validation'!$B$9,"Yes",'Pod Commentary'!B68='Data Validation'!$B$10,"Yes",'Pod Commentary'!B68='Data Validation'!$B$11,"-"),"-")} -> No | K68: {=IFERROR(_xlfn.IFS(D68="Garage","No",B68='Data Validation'!$B$3,"Yes",'Pod Commentary'!B68='Data Validation'!$B$4,"No",'Pod Commentary'!B68='Data Validation'!$B$5,"No",'Pod Commentary'!B68='Data Validation'!$B$6,"No",'Pod Commentary'!B68='Data Validation'!$B$7,"No",'Pod Commentary'!B68='Data Validation'!$B$8,"Yes",'Pod Commentary'!B68='Data Validation'!$B$9,"No",'Pod Commentary'!B68='Data Validation'!$B$10,"No",'Pod Commentary'!B68='Data Validation'!$B$11,"No"),"-")} -> Yes | L68: {=IFERROR(_xlfn.IFS(B68='Data Validation'!$B$6,"Yes",B68='Data Validation'!$B$7,"Yes"),"-")} -> - | M68: Yes | N68: Ducting from dwelling's power supply to charger location | R68: =IFERROR(IF($B68=$R$1,"1","-")*1,"-") -> 1 | S68: =IFERROR(IF($B68=$S$1,"1","-")*1,"-") -> - | T68: =IFERROR(IF($B68=$T$1,"1","-")*1,"-") -> - | U68: =IFERROR(IF($B68=$U$1,"1","-")*1,"-") -> - | V68: =IFERROR(IF($B68=$V$1,"1","-")*1,"-") -> - | W68: =IFERROR(IF(E68=$W$1,"1","-")*1,"-") -> 1 | X68: =IFERROR(IF(E68=$X$1,"1","-")*1,"-") -> - | Y68: {=IFERROR(_xlfn.IFS(B68=$U$1,"2",B68=$V$1,"2",J68="Yes","1")*1,"-")} -> - | Z68: =IFERROR(IF(K68="Yes","1","-")*1,"-") -> 1 | AA68: =IFERROR(IF(L68="Yes","1","-")*1,"-") -> - | AB68: =IFERROR(IF(O68="Yes","1","-")*1,"-") -> - | AC68: =IFERROR(IF($B68=$AC$1,"1","-")*1,"-") -> - | AD68: =IFERROR(IF($B68=$AD$1,"1","-")*1,"-") -> - | AE68: =IFERROR(IF($B68=$AE$1,"1","-")*1,"-") -> -
A69: 68 | B69: S7-UCB-3 | C69: Active | D69: Remote (Freestanding) | E69: Single | F69: Domestic | G69: - | H69: - | J69: {=IFERROR(_xlfn.IFS('Pod Commentary'!B69='Data Validation'!$B$3,"No",'Pod Commentary'!B69='Data Validation'!$B$4,"Yes",'Pod Commentary'!B69='Data Validation'!$B$5,"Yes",'Pod Commentary'!B69='Data Validation'!$B$6,"Yes",'Pod Commentary'!B69='Data Validation'!$B$7,"Yes",'Pod Commentary'!B69='Data Validation'!$B$8,"No",'Pod Commentary'!B69='Data Validation'!$B$9,"Yes",'Pod Commentary'!B69='Data Validation'!$B$10,"Yes",'Pod Commentary'!B69='Data Validation'!$B$11,"-"),"-")} -> No | K69: {=IFERROR(_xlfn.IFS(D69="Garage","No",B69='Data Validation'!$B$3,"Yes",'Pod Commentary'!B69='Data Validation'!$B$4,"No",'Pod Commentary'!B69='Data Validation'!$B$5,"No",'Pod Commentary'!B69='Data Validation'!$B$6,"No",'Pod Commentary'!B69='Data Validation'!$B$7,"No",'Pod Commentary'!B69='Data Validation'!$B$8,"Yes",'Pod Commentary'!B69='Data Validation'!$B$9,"No",'Pod Commentary'!B69='Data Validation'!$B$10,"No",'Pod Commentary'!B69='Data Validation'!$B$11,"No"),"-")} -> Yes | L69: {=IFERROR(_xlfn.IFS(B69='Data Validation'!$B$6,"Yes",B69='Data Validation'!$B$7,"Yes"),"-")} -> - | M69: Yes | N69: Ducting from dwelling's power supply to charger location | R69: =IFERROR(IF($B69=$R$1,"1","-")*1,"-") -> 1 | S69: =IFERROR(IF($B69=$S$1,"1","-")*1,"-") -> - | T69: =IFERROR(IF($B69=$T$1,"1","-")*1,"-") -> - | U69: =IFERROR(IF($B69=$U$1,"1","-")*1,"-") -> - | V69: =IFERROR(IF($B69=$V$1,"1","-")*1,"-") -> - | W69: =IFERROR(IF(E69=$W$1,"1","-")*1,"-") -> 1 | X69: =IFERROR(IF(E69=$X$1,"1","-")*1,"-") -> - | Y69: {=IFERROR(_xlfn.IFS(B69=$U$1,"2",B69=$V$1,"2",J69="Yes","1")*1,"-")} -> - | Z69: =IFERROR(IF(K69="Yes","1","-")*1,"-") -> 1 | AA69: =IFERROR(IF(L69="Yes","1","-")*1,"-") -> - | AB69: =IFERROR(IF(O69="Yes","1","-")*1,"-") -> - | AC69: =IFERROR(IF($B69=$AC$1,"1","-")*1,"-") -> - | AD69: =IFERROR(IF($B69=$AD$1,"1","-")*1,"-") -> - | AE69: =IFERROR(IF($B69=$AE$1,"1","-")*1,"-") -> -
A70: 69 | B70: S7-UCB-3 | C70: Active | D70: Remote (Freestanding) | E70: Single | F70: Domestic | G70: - | H70: - | J70: {=IFERROR(_xlfn.IFS('Pod Commentary'!B70='Data Validation'!$B$3,"No",'Pod Commentary'!B70='Data Validation'!$B$4,"Yes",'Pod Commentary'!B70='Data Validation'!$B$5,"Yes",'Pod Commentary'!B70='Data Validation'!$B$6,"Yes",'Pod Commentary'!B70='Data Validation'!$B$7,"Yes",'Pod Commentary'!B70='Data Validation'!$B$8,"No",'Pod Commentary'!B70='Data Validation'!$B$9,"Yes",'Pod Commentary'!B70='Data Validation'!$B$10,"Yes",'Pod Commentary'!B70='Data Validation'!$B$11,"-"),"-")} -> No | K70: {=IFERROR(_xlfn.IFS(D70="Garage","No",B70='Data Validation'!$B$3,"Yes",'Pod Commentary'!B70='Data Validation'!$B$4,"No",'Pod Commentary'!B70='Data Validation'!$B$5,"No",'Pod Commentary'!B70='Data Validation'!$B$6,"No",'Pod Commentary'!B70='Data Validation'!$B$7,"No",'Pod Commentary'!B70='Data Validation'!$B$8,"Yes",'Pod Commentary'!B70='Data Validation'!$B$9,"No",'Pod Commentary'!B70='Data Validation'!$B$10,"No",'Pod Commentary'!B70='Data Validation'!$B$11,"No"),"-")} -> Yes | L70: {=IFERROR(_xlfn.IFS(B70='Data Validation'!$B$6,"Yes",B70='Data Validation'!$B$7,"Yes"),"-")} -> - | M70: Yes | N70: Ducting from dwelling's power supply to charger location | R70: =IFERROR(IF($B70=$R$1,"1","-")*1,"-") -> 1 | S70: =IFERROR(IF($B70=$S$1,"1","-")*1,"-") -> - | T70: =IFERROR(IF($B70=$T$1,"1","-")*1,"-") -> - | U70: =IFERROR(IF($B70=$U$1,"1","-")*1,"-") -> - | V70: =IFERROR(IF($B70=$V$1,"1","-")*1,"-") -> - | W70: =IFERROR(IF(E70=$W$1,"1","-")*1,"-") -> 1 | X70: =IFERROR(IF(E70=$X$1,"1","-")*1,"-") -> - | Y70: {=IFERROR(_xlfn.IFS(B70=$U$1,"2",B70=$V$1,"2",J70="Yes","1")*1,"-")} -> - | Z70: =IFERROR(IF(K70="Yes","1","-")*1,"-") -> 1 | AA70: =IFERROR(IF(L70="Yes","1","-")*1,"-") -> - | AB70: =IFERROR(IF(O70="Yes","1","-")*1,"-") -> - | AC70: =IFERROR(IF($B70=$AC$1,"1","-")*1,"-") -> - | AD70: =IFERROR(IF($B70=$AD$1,"1","-")*1,"-") -> - | AE70: =IFERROR(IF($B70=$AE$1,"1","-")*1,"-") -> -
A71: 70 | B71: S7-UCB-3 | C71: Active | D71: Remote (Freestanding) | E71: Single | F71: Domestic | G71: - | H71: - | J71: {=IFERROR(_xlfn.IFS('Pod Commentary'!B71='Data Validation'!$B$3,"No",'Pod Commentary'!B71='Data Validation'!$B$4,"Yes",'Pod Commentary'!B71='Data Validation'!$B$5,"Yes",'Pod Commentary'!B71='Data Validation'!$B$6,"Yes",'Pod Commentary'!B71='Data Validation'!$B$7,"Yes",'Pod Commentary'!B71='Data Validation'!$B$8,"No",'Pod Commentary'!B71='Data Validation'!$B$9,"Yes",'Pod Commentary'!B71='Data Validation'!$B$10,"Yes",'Pod Commentary'!B71='Data Validation'!$B$11,"-"),"-")} -> No | K71: {=IFERROR(_xlfn.IFS(D71="Garage","No",B71='Data Validation'!$B$3,"Yes",'Pod Commentary'!B71='Data Validation'!$B$4,"No",'Pod Commentary'!B71='Data Validation'!$B$5,"No",'Pod Commentary'!B71='Data Validation'!$B$6,"No",'Pod Commentary'!B71='Data Validation'!$B$7,"No",'Pod Commentary'!B71='Data Validation'!$B$8,"Yes",'Pod Commentary'!B71='Data Validation'!$B$9,"No",'Pod Commentary'!B71='Data Validation'!$B$10,"No",'Pod Commentary'!B71='Data Validation'!$B$11,"No"),"-")} -> Yes | L71: {=IFERROR(_xlfn.IFS(B71='Data Validation'!$B$6,"Yes",B71='Data Validation'!$B$7,"Yes"),"-")} -> - | M71: Yes | N71: Ducting from dwelling's power supply to charger location | R71: =IFERROR(IF($B71=$R$1,"1","-")*1,"-") -> 1 | S71: =IFERROR(IF($B71=$S$1,"1","-")*1,"-") -> - | T71: =IFERROR(IF($B71=$T$1,"1","-")*1,"-") -> - | U71: =IFERROR(IF($B71=$U$1,"1","-")*1,"-") -> - | V71: =IFERROR(IF($B71=$V$1,"1","-")*1,"-") -> - | W71: =IFERROR(IF(E71=$W$1,"1","-")*1,"-") -> 1 | X71: =IFERROR(IF(E71=$X$1,"1","-")*1,"-") -> - | Y71: {=IFERROR(_xlfn.IFS(B71=$U$1,"2",B71=$V$1,"2",J71="Yes","1")*1,"-")} -> - | Z71: =IFERROR(IF(K71="Yes","1","-")*1,"-") -> 1 | AA71: =IFERROR(IF(L71="Yes","1","-")*1,"-") -> - | AB71: =IFERROR(IF(O71="Yes","1","-")*1,"-") -> - | AC71: =IFERROR(IF($B71=$AC$1,"1","-")*1,"-") -> - | AD71: =IFERROR(IF($B71=$AD$1,"1","-")*1,"-") -> - | AE71: =IFERROR(IF($B71=$AE$1,"1","-")*1,"-") -> -
A72: 71 | B72: S7-UCB-3 | C72: Active | D72: On Dwelling | E72: - | F72: Domestic | G72: - | H72: - | J72: {=IFERROR(_xlfn.IFS('Pod Commentary'!B72='Data Validation'!$B$3,"No",'Pod Commentary'!B72='Data Validation'!$B$4,"Yes",'Pod Commentary'!B72='Data Validation'!$B$5,"Yes",'Pod Commentary'!B72='Data Validation'!$B$6,"Yes",'Pod Commentary'!B72='Data Validation'!$B$7,"Yes",'Pod Commentary'!B72='Data Validation'!$B$8,"No",'Pod Commentary'!B72='Data Validation'!$B$9,"Yes",'Pod Commentary'!B72='Data Validation'!$B$10,"Yes",'Pod Commentary'!B72='Data Validation'!$B$11,"-"),"-")} -> No | K72: {=IFERROR(_xlfn.IFS(D72="Garage","No",B72='Data Validation'!$B$3,"Yes",'Pod Commentary'!B72='Data Validation'!$B$4,"No",'Pod Commentary'!B72='Data Validation'!$B$5,"No",'Pod Commentary'!B72='Data Validation'!$B$6,"No",'Pod Commentary'!B72='Data Validation'!$B$7,"No",'Pod Commentary'!B72='Data Validation'!$B$8,"Yes",'Pod Commentary'!B72='Data Validation'!$B$9,"No",'Pod Commentary'!B72='Data Validation'!$B$10,"No",'Pod Commentary'!B72='Data Validation'!$B$11,"No"),"-")} -> Yes | L72: {=IFERROR(_xlfn.IFS(B72='Data Validation'!$B$6,"Yes",B72='Data Validation'!$B$7,"Yes"),"-")} -> - | R72: =IFERROR(IF($B72=$R$1,"1","-")*1,"-") -> 1 | S72: =IFERROR(IF($B72=$S$1,"1","-")*1,"-") -> - | T72: =IFERROR(IF($B72=$T$1,"1","-")*1,"-") -> - | U72: =IFERROR(IF($B72=$U$1,"1","-")*1,"-") -> - | V72: =IFERROR(IF($B72=$V$1,"1","-")*1,"-") -> - | W72: =IFERROR(IF(E72=$W$1,"1","-")*1,"-") -> - | X72: =IFERROR(IF(E72=$X$1,"1","-")*1,"-") -> - | Y72: {=IFERROR(_xlfn.IFS(B72=$U$1,"2",B72=$V$1,"2",J72="Yes","1")*1,"-")} -> - | Z72: =IFERROR(IF(K72="Yes","1","-")*1,"-") -> 1 | AA72: =IFERROR(IF(L72="Yes","1","-")*1,"-") -> - | AB72: =IFERROR(IF(O72="Yes","1","-")*1,"-") -> - | AC72: =IFERROR(IF($B72=$AC$1,"1","-")*1,"-") -> - | AD72: =IFERROR(IF($B72=$AD$1,"1","-")*1,"-") -> - | AE72: =IFERROR(IF($B72=$AE$1,"1","-")*1,"-") -> -
A73: 72 | B73: S7-UCB-3 | C73: Active | D73: On Dwelling | E73: - | F73: Domestic | G73: - | H73: - | J73: {=IFERROR(_xlfn.IFS('Pod Commentary'!B73='Data Validation'!$B$3,"No",'Pod Commentary'!B73='Data Validation'!$B$4,"Yes",'Pod Commentary'!B73='Data Validation'!$B$5,"Yes",'Pod Commentary'!B73='Data Validation'!$B$6,"Yes",'Pod Commentary'!B73='Data Validation'!$B$7,"Yes",'Pod Commentary'!B73='Data Validation'!$B$8,"No",'Pod Commentary'!B73='Data Validation'!$B$9,"Yes",'Pod Commentary'!B73='Data Validation'!$B$10,"Yes",'Pod Commentary'!B73='Data Validation'!$B$11,"-"),"-")} -> No | K73: {=IFERROR(_xlfn.IFS(D73="Garage","No",B73='Data Validation'!$B$3,"Yes",'Pod Commentary'!B73='Data Validation'!$B$4,"No",'Pod Commentary'!B73='Data Validation'!$B$5,"No",'Pod Commentary'!B73='Data Validation'!$B$6,"No",'Pod Commentary'!B73='Data Validation'!$B$7,"No",'Pod Commentary'!B73='Data Validation'!$B$8,"Yes",'Pod Commentary'!B73='Data Validation'!$B$9,"No",'Pod Commentary'!B73='Data Validation'!$B$10,"No",'Pod Commentary'!B73='Data Validation'!$B$11,"No"),"-")} -> Yes | L73: {=IFERROR(_xlfn.IFS(B73='Data Validation'!$B$6,"Yes",B73='Data Validation'!$B$7,"Yes"),"-")} -> - | R73: =IFERROR(IF($B73=$R$1,"1","-")*1,"-") -> 1 | S73: =IFERROR(IF($B73=$S$1,"1","-")*1,"-") -> - | T73: =IFERROR(IF($B73=$T$1,"1","-")*1,"-") -> - | U73: =IFERROR(IF($B73=$U$1,"1","-")*1,"-") -> - | V73: =IFERROR(IF($B73=$V$1,"1","-")*1,"-") -> - | W73: =IFERROR(IF(E73=$W$1,"1","-")*1,"-") -> - | X73: =IFERROR(IF(E73=$X$1,"1","-")*1,"-") -> - | Y73: {=IFERROR(_xlfn.IFS(B73=$U$1,"2",B73=$V$1,"2",J73="Yes","1")*1,"-")} -> - | Z73: =IFERROR(IF(K73="Yes","1","-")*1,"-") -> 1 | AA73: =IFERROR(IF(L73="Yes","1","-")*1,"-") -> - | AB73: =IFERROR(IF(O73="Yes","1","-")*1,"-") -> - | AC73: =IFERROR(IF($B73=$AC$1,"1","-")*1,"-") -> - | AD73: =IFERROR(IF($B73=$AD$1,"1","-")*1,"-") -> - | AE73: =IFERROR(IF($B73=$AE$1,"1","-")*1,"-") -> -
A74: 73 | B74: S7-UCB-3 | C74: Active | D74: On Dwelling | E74: - | F74: Domestic | G74: - | H74: - | J74: {=IFERROR(_xlfn.IFS('Pod Commentary'!B74='Data Validation'!$B$3,"No",'Pod Commentary'!B74='Data Validation'!$B$4,"Yes",'Pod Commentary'!B74='Data Validation'!$B$5,"Yes",'Pod Commentary'!B74='Data Validation'!$B$6,"Yes",'Pod Commentary'!B74='Data Validation'!$B$7,"Yes",'Pod Commentary'!B74='Data Validation'!$B$8,"No",'Pod Commentary'!B74='Data Validation'!$B$9,"Yes",'Pod Commentary'!B74='Data Validation'!$B$10,"Yes",'Pod Commentary'!B74='Data Validation'!$B$11,"-"),"-")} -> No | K74: {=IFERROR(_xlfn.IFS(D74="Garage","No",B74='Data Validation'!$B$3,"Yes",'Pod Commentary'!B74='Data Validation'!$B$4,"No",'Pod Commentary'!B74='Data Validation'!$B$5,"No",'Pod Commentary'!B74='Data Validation'!$B$6,"No",'Pod Commentary'!B74='Data Validation'!$B$7,"No",'Pod Commentary'!B74='Data Validation'!$B$8,"Yes",'Pod Commentary'!B74='Data Validation'!$B$9,"No",'Pod Commentary'!B74='Data Validation'!$B$10,"No",'Pod Commentary'!B74='Data Validation'!$B$11,"No"),"-")} -> Yes | L74: {=IFERROR(_xlfn.IFS(B74='Data Validation'!$B$6,"Yes",B74='Data Validation'!$B$7,"Yes"),"-")} -> - | R74: =IFERROR(IF($B74=$R$1,"1","-")*1,"-") -> 1 | S74: =IFERROR(IF($B74=$S$1,"1","-")*1,"-") -> - | T74: =IFERROR(IF($B74=$T$1,"1","-")*1,"-") -> - | U74: =IFERROR(IF($B74=$U$1,"1","-")*1,"-") -> - | V74: =IFERROR(IF($B74=$V$1,"1","-")*1,"-") -> - | W74: =IFERROR(IF(E74=$W$1,"1","-")*1,"-") -> - | X74: =IFERROR(IF(E74=$X$1,"1","-")*1,"-") -> - | Y74: {=IFERROR(_xlfn.IFS(B74=$U$1,"2",B74=$V$1,"2",J74="Yes","1")*1,"-")} -> - | Z74: =IFERROR(IF(K74="Yes","1","-")*1,"-") -> 1 | AA74: =IFERROR(IF(L74="Yes","1","-")*1,"-") -> - | AB74: =IFERROR(IF(O74="Yes","1","-")*1,"-") -> - | AC74: =IFERROR(IF($B74=$AC$1,"1","-")*1,"-") -> - | AD74: =IFERROR(IF($B74=$AD$1,"1","-")*1,"-") -> - | AE74: =IFERROR(IF($B74=$AE$1,"1","-")*1,"-") -> -
A75: 74 | B75: S7-UCB-3 | C75: Active | D75: On Dwelling | E75: - | F75: Domestic | G75: - | H75: - | J75: {=IFERROR(_xlfn.IFS('Pod Commentary'!B75='Data Validation'!$B$3,"No",'Pod Commentary'!B75='Data Validation'!$B$4,"Yes",'Pod Commentary'!B75='Data Validation'!$B$5,"Yes",'Pod Commentary'!B75='Data Validation'!$B$6,"Yes",'Pod Commentary'!B75='Data Validation'!$B$7,"Yes",'Pod Commentary'!B75='Data Validation'!$B$8,"No",'Pod Commentary'!B75='Data Validation'!$B$9,"Yes",'Pod Commentary'!B75='Data Validation'!$B$10,"Yes",'Pod Commentary'!B75='Data Validation'!$B$11,"-"),"-")} -> No | K75: {=IFERROR(_xlfn.IFS(D75="Garage","No",B75='Data Validation'!$B$3,"Yes",'Pod Commentary'!B75='Data Validation'!$B$4,"No",'Pod Commentary'!B75='Data Validation'!$B$5,"No",'Pod Commentary'!B75='Data Validation'!$B$6,"No",'Pod Commentary'!B75='Data Validation'!$B$7,"No",'Pod Commentary'!B75='Data Validation'!$B$8,"Yes",'Pod Commentary'!B75='Data Validation'!$B$9,"No",'Pod Commentary'!B75='Data Validation'!$B$10,"No",'Pod Commentary'!B75='Data Validation'!$B$11,"No"),"-")} -> Yes | L75: {=IFERROR(_xlfn.IFS(B75='Data Validation'!$B$6,"Yes",B75='Data Validation'!$B$7,"Yes"),"-")} -> - | R75: =IFERROR(IF($B75=$R$1,"1","-")*1,"-") -> 1 | S75: =IFERROR(IF($B75=$S$1,"1","-")*1,"-") -> - | T75: =IFERROR(IF($B75=$T$1,"1","-")*1,"-") -> - | U75: =IFERROR(IF($B75=$U$1,"1","-")*1,"-") -> - | V75: =IFERROR(IF($B75=$V$1,"1","-")*1,"-") -> - | W75: =IFERROR(IF(E75=$W$1,"1","-")*1,"-") -> - | X75: =IFERROR(IF(E75=$X$1,"1","-")*1,"-") -> - | Y75: {=IFERROR(_xlfn.IFS(B75=$U$1,"2",B75=$V$1,"2",J75="Yes","1")*1,"-")} -> - | Z75: =IFERROR(IF(K75="Yes","1","-")*1,"-") -> 1 | AA75: =IFERROR(IF(L75="Yes","1","-")*1,"-") -> - | AB75: =IFERROR(IF(O75="Yes","1","-")*1,"-") -> - | AC75: =IFERROR(IF($B75=$AC$1,"1","-")*1,"-") -> - | AD75: =IFERROR(IF($B75=$AD$1,"1","-")*1,"-") -> - | AE75: =IFERROR(IF($B75=$AE$1,"1","-")*1,"-") -> -
A76: 75 | B76: S7-UCB-3 | C76: Active | D76: Remote (Wall Mounted) | E76: - | F76: Domestic | G76: - | H76: - | J76: {=IFERROR(_xlfn.IFS('Pod Commentary'!B76='Data Validation'!$B$3,"No",'Pod Commentary'!B76='Data Validation'!$B$4,"Yes",'Pod Commentary'!B76='Data Validation'!$B$5,"Yes",'Pod Commentary'!B76='Data Validation'!$B$6,"Yes",'Pod Commentary'!B76='Data Validation'!$B$7,"Yes",'Pod Commentary'!B76='Data Validation'!$B$8,"No",'Pod Commentary'!B76='Data Validation'!$B$9,"Yes",'Pod Commentary'!B76='Data Validation'!$B$10,"Yes",'Pod Commentary'!B76='Data Validation'!$B$11,"-"),"-")} -> No | K76: {=IFERROR(_xlfn.IFS(D76="Garage","No",B76='Data Validation'!$B$3,"Yes",'Pod Commentary'!B76='Data Validation'!$B$4,"No",'Pod Commentary'!B76='Data Validation'!$B$5,"No",'Pod Commentary'!B76='Data Validation'!$B$6,"No",'Pod Commentary'!B76='Data Validation'!$B$7,"No",'Pod Commentary'!B76='Data Validation'!$B$8,"Yes",'Pod Commentary'!B76='Data Validation'!$B$9,"No",'Pod Commentary'!B76='Data Validation'!$B$10,"No",'Pod Commentary'!B76='Data Validation'!$B$11,"No"),"-")} -> Yes | L76: {=IFERROR(_xlfn.IFS(B76='Data Validation'!$B$6,"Yes",B76='Data Validation'!$B$7,"Yes"),"-")} -> - | M76: Yes | N76: Ducting from dwelling's feeder pillar supply to charger location | R76: =IFERROR(IF($B76=$R$1,"1","-")*1,"-") -> 1 | S76: =IFERROR(IF($B76=$S$1,"1","-")*1,"-") -> - | T76: =IFERROR(IF($B76=$T$1,"1","-")*1,"-") -> - | U76: =IFERROR(IF($B76=$U$1,"1","-")*1,"-") -> - | V76: =IFERROR(IF($B76=$V$1,"1","-")*1,"-") -> - | W76: =IFERROR(IF(E76=$W$1,"1","-")*1,"-") -> - | X76: =IFERROR(IF(E76=$X$1,"1","-")*1,"-") -> - | Y76: {=IFERROR(_xlfn.IFS(B76=$U$1,"2",B76=$V$1,"2",J76="Yes","1")*1,"-")} -> - | Z76: =IFERROR(IF(K76="Yes","1","-")*1,"-") -> 1 | AA76: =IFERROR(IF(L76="Yes","1","-")*1,"-") -> - | AB76: =IFERROR(IF(O76="Yes","1","-")*1,"-") -> - | AC76: =IFERROR(IF($B76=$AC$1,"1","-")*1,"-") -> - | AD76: =IFERROR(IF($B76=$AD$1,"1","-")*1,"-") -> - | AE76: =IFERROR(IF($B76=$AE$1,"1","-")*1,"-") -> -
A77: 76 | B77: S7-UCB-3 | C77: Active | D77: On Dwelling | E77: - | F77: Domestic | G77: - | H77: - | J77: {=IFERROR(_xlfn.IFS('Pod Commentary'!B77='Data Validation'!$B$3,"No",'Pod Commentary'!B77='Data Validation'!$B$4,"Yes",'Pod Commentary'!B77='Data Validation'!$B$5,"Yes",'Pod Commentary'!B77='Data Validation'!$B$6,"Yes",'Pod Commentary'!B77='Data Validation'!$B$7,"Yes",'Pod Commentary'!B77='Data Validation'!$B$8,"No",'Pod Commentary'!B77='Data Validation'!$B$9,"Yes",'Pod Commentary'!B77='Data Validation'!$B$10,"Yes",'Pod Commentary'!B77='Data Validation'!$B$11,"-"),"-")} -> No | K77: {=IFERROR(_xlfn.IFS(D77="Garage","No",B77='Data Validation'!$B$3,"Yes",'Pod Commentary'!B77='Data Validation'!$B$4,"No",'Pod Commentary'!B77='Data Validation'!$B$5,"No",'Pod Commentary'!B77='Data Validation'!$B$6,"No",'Pod Commentary'!B77='Data Validation'!$B$7,"No",'Pod Commentary'!B77='Data Validation'!$B$8,"Yes",'Pod Commentary'!B77='Data Validation'!$B$9,"No",'Pod Commentary'!B77='Data Validation'!$B$10,"No",'Pod Commentary'!B77='Data Validation'!$B$11,"No"),"-")} -> Yes | L77: {=IFERROR(_xlfn.IFS(B77='Data Validation'!$B$6,"Yes",B77='Data Validation'!$B$7,"Yes"),"-")} -> - | R77: =IFERROR(IF($B77=$R$1,"1","-")*1,"-") -> 1 | S77: =IFERROR(IF($B77=$S$1,"1","-")*1,"-") -> - | T77: =IFERROR(IF($B77=$T$1,"1","-")*1,"-") -> - | U77: =IFERROR(IF($B77=$U$1,"1","-")*1,"-") -> - | V77: =IFERROR(IF($B77=$V$1,"1","-")*1,"-") -> - | W77: =IFERROR(IF(E77=$W$1,"1","-")*1,"-") -> - | X77: =IFERROR(IF(E77=$X$1,"1","-")*1,"-") -> - | Y77: {=IFERROR(_xlfn.IFS(B77=$U$1,"2",B77=$V$1,"2",J77="Yes","1")*1,"-")} -> - | Z77: =IFERROR(IF(K77="Yes","1","-")*1,"-") -> 1 | AA77: =IFERROR(IF(L77="Yes","1","-")*1,"-") -> - | AB77: =IFERROR(IF(O77="Yes","1","-")*1,"-") -> - | AC77: =IFERROR(IF($B77=$AC$1,"1","-")*1,"-") -> - | AD77: =IFERROR(IF($B77=$AD$1,"1","-")*1,"-") -> - | AE77: =IFERROR(IF($B77=$AE$1,"1","-")*1,"-") -> -
A78: 77 | B78: S7-UCB-3 | C78: Active | D78: On Dwelling | E78: - | F78: Domestic | G78: - | H78: - | J78: {=IFERROR(_xlfn.IFS('Pod Commentary'!B78='Data Validation'!$B$3,"No",'Pod Commentary'!B78='Data Validation'!$B$4,"Yes",'Pod Commentary'!B78='Data Validation'!$B$5,"Yes",'Pod Commentary'!B78='Data Validation'!$B$6,"Yes",'Pod Commentary'!B78='Data Validation'!$B$7,"Yes",'Pod Commentary'!B78='Data Validation'!$B$8,"No",'Pod Commentary'!B78='Data Validation'!$B$9,"Yes",'Pod Commentary'!B78='Data Validation'!$B$10,"Yes",'Pod Commentary'!B78='Data Validation'!$B$11,"-"),"-")} -> No | K78: {=IFERROR(_xlfn.IFS(D78="Garage","No",B78='Data Validation'!$B$3,"Yes",'Pod Commentary'!B78='Data Validation'!$B$4,"No",'Pod Commentary'!B78='Data Validation'!$B$5,"No",'Pod Commentary'!B78='Data Validation'!$B$6,"No",'Pod Commentary'!B78='Data Validation'!$B$7,"No",'Pod Commentary'!B78='Data Validation'!$B$8,"Yes",'Pod Commentary'!B78='Data Validation'!$B$9,"No",'Pod Commentary'!B78='Data Validation'!$B$10,"No",'Pod Commentary'!B78='Data Validation'!$B$11,"No"),"-")} -> Yes | L78: {=IFERROR(_xlfn.IFS(B78='Data Validation'!$B$6,"Yes",B78='Data Validation'!$B$7,"Yes"),"-")} -> - | R78: =IFERROR(IF($B78=$R$1,"1","-")*1,"-") -> 1 | S78: =IFERROR(IF($B78=$S$1,"1","-")*1,"-") -> - | T78: =IFERROR(IF($B78=$T$1,"1","-")*1,"-") -> - | U78: =IFERROR(IF($B78=$U$1,"1","-")*1,"-") -> - | V78: =IFERROR(IF($B78=$V$1,"1","-")*1,"-") -> - | W78: =IFERROR(IF(E78=$W$1,"1","-")*1,"-") -> - | X78: =IFERROR(IF(E78=$X$1,"1","-")*1,"-") -> - | Y78: {=IFERROR(_xlfn.IFS(B78=$U$1,"2",B78=$V$1,"2",J78="Yes","1")*1,"-")} -> - | Z78: =IFERROR(IF(K78="Yes","1","-")*1,"-") -> 1 | AA78: =IFERROR(IF(L78="Yes","1","-")*1,"-") -> - | AB78: =IFERROR(IF(O78="Yes","1","-")*1,"-") -> - | AC78: =IFERROR(IF($B78=$AC$1,"1","-")*1,"-") -> - | AD78: =IFERROR(IF($B78=$AD$1,"1","-")*1,"-") -> - | AE78: =IFERROR(IF($B78=$AE$1,"1","-")*1,"-") -> -
A79: 78 | B79: S7-UCB-3 | C79: Active | D79: On Dwelling | E79: - | F79: Domestic | G79: - | H79: - | J79: {=IFERROR(_xlfn.IFS('Pod Commentary'!B79='Data Validation'!$B$3,"No",'Pod Commentary'!B79='Data Validation'!$B$4,"Yes",'Pod Commentary'!B79='Data Validation'!$B$5,"Yes",'Pod Commentary'!B79='Data Validation'!$B$6,"Yes",'Pod Commentary'!B79='Data Validation'!$B$7,"Yes",'Pod Commentary'!B79='Data Validation'!$B$8,"No",'Pod Commentary'!B79='Data Validation'!$B$9,"Yes",'Pod Commentary'!B79='Data Validation'!$B$10,"Yes",'Pod Commentary'!B79='Data Validation'!$B$11,"-"),"-")} -> No | K79: {=IFERROR(_xlfn.IFS(D79="Garage","No",B79='Data Validation'!$B$3,"Yes",'Pod Commentary'!B79='Data Validation'!$B$4,"No",'Pod Commentary'!B79='Data Validation'!$B$5,"No",'Pod Commentary'!B79='Data Validation'!$B$6,"No",'Pod Commentary'!B79='Data Validation'!$B$7,"No",'Pod Commentary'!B79='Data Validation'!$B$8,"Yes",'Pod Commentary'!B79='Data Validation'!$B$9,"No",'Pod Commentary'!B79='Data Validation'!$B$10,"No",'Pod Commentary'!B79='Data Validation'!$B$11,"No"),"-")} -> Yes | L79: {=IFERROR(_xlfn.IFS(B79='Data Validation'!$B$6,"Yes",B79='Data Validation'!$B$7,"Yes"),"-")} -> - | R79: =IFERROR(IF($B79=$R$1,"1","-")*1,"-") -> 1 | S79: =IFERROR(IF($B79=$S$1,"1","-")*1,"-") -> - | T79: =IFERROR(IF($B79=$T$1,"1","-")*1,"-") -> - | U79: =IFERROR(IF($B79=$U$1,"1","-")*1,"-") -> - | V79: =IFERROR(IF($B79=$V$1,"1","-")*1,"-") -> - | W79: =IFERROR(IF(E79=$W$1,"1","-")*1,"-") -> - | X79: =IFERROR(IF(E79=$X$1,"1","-")*1,"-") -> - | Y79: {=IFERROR(_xlfn.IFS(B79=$U$1,"2",B79=$V$1,"2",J79="Yes","1")*1,"-")} -> - | Z79: =IFERROR(IF(K79="Yes","1","-")*1,"-") -> 1 | AA79: =IFERROR(IF(L79="Yes","1","-")*1,"-") -> - | AB79: =IFERROR(IF(O79="Yes","1","-")*1,"-") -> - | AC79: =IFERROR(IF($B79=$AC$1,"1","-")*1,"-") -> - | AD79: =IFERROR(IF($B79=$AD$1,"1","-")*1,"-") -> - | AE79: =IFERROR(IF($B79=$AE$1,"1","-")*1,"-") -> -
A80: 79 | B80: S7-UCB-3 | C80: Active | D80: On Dwelling | E80: - | F80: Domestic | G80: - | H80: - | J80: {=IFERROR(_xlfn.IFS('Pod Commentary'!B80='Data Validation'!$B$3,"No",'Pod Commentary'!B80='Data Validation'!$B$4,"Yes",'Pod Commentary'!B80='Data Validation'!$B$5,"Yes",'Pod Commentary'!B80='Data Validation'!$B$6,"Yes",'Pod Commentary'!B80='Data Validation'!$B$7,"Yes",'Pod Commentary'!B80='Data Validation'!$B$8,"No",'Pod Commentary'!B80='Data Validation'!$B$9,"Yes",'Pod Commentary'!B80='Data Validation'!$B$10,"Yes",'Pod Commentary'!B80='Data Validation'!$B$11,"-"),"-")} -> No | K80: {=IFERROR(_xlfn.IFS(D80="Garage","No",B80='Data Validation'!$B$3,"Yes",'Pod Commentary'!B80='Data Validation'!$B$4,"No",'Pod Commentary'!B80='Data Validation'!$B$5,"No",'Pod Commentary'!B80='Data Validation'!$B$6,"No",'Pod Commentary'!B80='Data Validation'!$B$7,"No",'Pod Commentary'!B80='Data Validation'!$B$8,"Yes",'Pod Commentary'!B80='Data Validation'!$B$9,"No",'Pod Commentary'!B80='Data Validation'!$B$10,"No",'Pod Commentary'!B80='Data Validation'!$B$11,"No"),"-")} -> Yes | L80: {=IFERROR(_xlfn.IFS(B80='Data Validation'!$B$6,"Yes",B80='Data Validation'!$B$7,"Yes"),"-")} -> - | R80: =IFERROR(IF($B80=$R$1,"1","-")*1,"-") -> 1 | S80: =IFERROR(IF($B80=$S$1,"1","-")*1,"-") -> - | T80: =IFERROR(IF($B80=$T$1,"1","-")*1,"-") -> - | U80: =IFERROR(IF($B80=$U$1,"1","-")*1,"-") -> - | V80: =IFERROR(IF($B80=$V$1,"1","-")*1,"-") -> - | W80: =IFERROR(IF(E80=$W$1,"1","-")*1,"-") -> - | X80: =IFERROR(IF(E80=$X$1,"1","-")*1,"-") -> - | Y80: {=IFERROR(_xlfn.IFS(B80=$U$1,"2",B80=$V$1,"2",J80="Yes","1")*1,"-")} -> - | Z80: =IFERROR(IF(K80="Yes","1","-")*1,"-") -> 1 | AA80: =IFERROR(IF(L80="Yes","1","-")*1,"-") -> - | AB80: =IFERROR(IF(O80="Yes","1","-")*1,"-") -> - | AC80: =IFERROR(IF($B80=$AC$1,"1","-")*1,"-") -> - | AD80: =IFERROR(IF($B80=$AD$1,"1","-")*1,"-") -> - | AE80: =IFERROR(IF($B80=$AE$1,"1","-")*1,"-") -> -
A81: 80 | B81: S7-UCB-3 | C81: Active | D81: Remote (Freestanding) | E81: Single | F81: Domestic | G81: - | H81: - | J81: {=IFERROR(_xlfn.IFS('Pod Commentary'!B81='Data Validation'!$B$3,"No",'Pod Commentary'!B81='Data Validation'!$B$4,"Yes",'Pod Commentary'!B81='Data Validation'!$B$5,"Yes",'Pod Commentary'!B81='Data Validation'!$B$6,"Yes",'Pod Commentary'!B81='Data Validation'!$B$7,"Yes",'Pod Commentary'!B81='Data Validation'!$B$8,"No",'Pod Commentary'!B81='Data Validation'!$B$9,"Yes",'Pod Commentary'!B81='Data Validation'!$B$10,"Yes",'Pod Commentary'!B81='Data Validation'!$B$11,"-"),"-")} -> No | K81: {=IFERROR(_xlfn.IFS(D81="Garage","No",B81='Data Validation'!$B$3,"Yes",'Pod Commentary'!B81='Data Validation'!$B$4,"No",'Pod Commentary'!B81='Data Validation'!$B$5,"No",'Pod Commentary'!B81='Data Validation'!$B$6,"No",'Pod Commentary'!B81='Data Validation'!$B$7,"No",'Pod Commentary'!B81='Data Validation'!$B$8,"Yes",'Pod Commentary'!B81='Data Validation'!$B$9,"No",'Pod Commentary'!B81='Data Validation'!$B$10,"No",'Pod Commentary'!B81='Data Validation'!$B$11,"No"),"-")} -> Yes | L81: {=IFERROR(_xlfn.IFS(B81='Data Validation'!$B$6,"Yes",B81='Data Validation'!$B$7,"Yes"),"-")} -> - | M81: Yes | N81: Ducting from dwelling's feeder pillar supply to charger location | R81: =IFERROR(IF($B81=$R$1,"1","-")*1,"-") -> 1 | S81: =IFERROR(IF($B81=$S$1,"1","-")*1,"-") -> - | T81: =IFERROR(IF($B81=$T$1,"1","-")*1,"-") -> - | U81: =IFERROR(IF($B81=$U$1,"1","-")*1,"-") -> - | V81: =IFERROR(IF($B81=$V$1,"1","-")*1,"-") -> - | W81: =IFERROR(IF(E81=$W$1,"1","-")*1,"-") -> 1 | X81: =IFERROR(IF(E81=$X$1,"1","-")*1,"-") -> - | Y81: {=IFERROR(_xlfn.IFS(B81=$U$1,"2",B81=$V$1,"2",J81="Yes","1")*1,"-")} -> - | Z81: =IFERROR(IF(K81="Yes","1","-")*1,"-") -> 1 | AA81: =IFERROR(IF(L81="Yes","1","-")*1,"-") -> - | AB81: =IFERROR(IF(O81="Yes","1","-")*1,"-") -> - | AC81: =IFERROR(IF($B81=$AC$1,"1","-")*1,"-") -> - | AD81: =IFERROR(IF($B81=$AD$1,"1","-")*1,"-") -> - | AE81: =IFERROR(IF($B81=$AE$1,"1","-")*1,"-") -> -
A82: 81 | B82: S7-UCB-3 | C82: Active | D82: On Dwelling | E82: - | F82: Domestic | G82: - | H82: - | J82: {=IFERROR(_xlfn.IFS('Pod Commentary'!B82='Data Validation'!$B$3,"No",'Pod Commentary'!B82='Data Validation'!$B$4,"Yes",'Pod Commentary'!B82='Data Validation'!$B$5,"Yes",'Pod Commentary'!B82='Data Validation'!$B$6,"Yes",'Pod Commentary'!B82='Data Validation'!$B$7,"Yes",'Pod Commentary'!B82='Data Validation'!$B$8,"No",'Pod Commentary'!B82='Data Validation'!$B$9,"Yes",'Pod Commentary'!B82='Data Validation'!$B$10,"Yes",'Pod Commentary'!B82='Data Validation'!$B$11,"-"),"-")} -> No | K82: {=IFERROR(_xlfn.IFS(D82="Garage","No",B82='Data Validation'!$B$3,"Yes",'Pod Commentary'!B82='Data Validation'!$B$4,"No",'Pod Commentary'!B82='Data Validation'!$B$5,"No",'Pod Commentary'!B82='Data Validation'!$B$6,"No",'Pod Commentary'!B82='Data Validation'!$B$7,"No",'Pod Commentary'!B82='Data Validation'!$B$8,"Yes",'Pod Commentary'!B82='Data Validation'!$B$9,"No",'Pod Commentary'!B82='Data Validation'!$B$10,"No",'Pod Commentary'!B82='Data Validation'!$B$11,"No"),"-")} -> Yes | L82: {=IFERROR(_xlfn.IFS(B82='Data Validation'!$B$6,"Yes",B82='Data Validation'!$B$7,"Yes"),"-")} -> - | R82: =IFERROR(IF($B82=$R$1,"1","-")*1,"-") -> 1 | S82: =IFERROR(IF($B82=$S$1,"1","-")*1,"-") -> - | T82: =IFERROR(IF($B82=$T$1,"1","-")*1,"-") -> - | U82: =IFERROR(IF($B82=$U$1,"1","-")*1,"-") -> - | V82: =IFERROR(IF($B82=$V$1,"1","-")*1,"-") -> - | W82: =IFERROR(IF(E82=$W$1,"1","-")*1,"-") -> - | X82: =IFERROR(IF(E82=$X$1,"1","-")*1,"-") -> - | Y82: {=IFERROR(_xlfn.IFS(B82=$U$1,"2",B82=$V$1,"2",J82="Yes","1")*1,"-")} -> - | Z82: =IFERROR(IF(K82="Yes","1","-")*1,"-") -> 1 | AA82: =IFERROR(IF(L82="Yes","1","-")*1,"-") -> - | AB82: =IFERROR(IF(O82="Yes","1","-")*1,"-") -> - | AC82: =IFERROR(IF($B82=$AC$1,"1","-")*1,"-") -> - | AD82: =IFERROR(IF($B82=$AD$1,"1","-")*1,"-") -> - | AE82: =IFERROR(IF($B82=$AE$1,"1","-")*1,"-") -> -
A83: 82 | B83: S7-UCB-3 | C83: Active | D83: On Dwelling | E83: - | F83: Domestic | G83: - | H83: - | J83: {=IFERROR(_xlfn.IFS('Pod Commentary'!B83='Data Validation'!$B$3,"No",'Pod Commentary'!B83='Data Validation'!$B$4,"Yes",'Pod Commentary'!B83='Data Validation'!$B$5,"Yes",'Pod Commentary'!B83='Data Validation'!$B$6,"Yes",'Pod Commentary'!B83='Data Validation'!$B$7,"Yes",'Pod Commentary'!B83='Data Validation'!$B$8,"No",'Pod Commentary'!B83='Data Validation'!$B$9,"Yes",'Pod Commentary'!B83='Data Validation'!$B$10,"Yes",'Pod Commentary'!B83='Data Validation'!$B$11,"-"),"-")} -> No | K83: {=IFERROR(_xlfn.IFS(D83="Garage","No",B83='Data Validation'!$B$3,"Yes",'Pod Commentary'!B83='Data Validation'!$B$4,"No",'Pod Commentary'!B83='Data Validation'!$B$5,"No",'Pod Commentary'!B83='Data Validation'!$B$6,"No",'Pod Commentary'!B83='Data Validation'!$B$7,"No",'Pod Commentary'!B83='Data Validation'!$B$8,"Yes",'Pod Commentary'!B83='Data Validation'!$B$9,"No",'Pod Commentary'!B83='Data Validation'!$B$10,"No",'Pod Commentary'!B83='Data Validation'!$B$11,"No"),"-")} -> Yes | L83: {=IFERROR(_xlfn.IFS(B83='Data Validation'!$B$6,"Yes",B83='Data Validation'!$B$7,"Yes"),"-")} -> - | R83: =IFERROR(IF($B83=$R$1,"1","-")*1,"-") -> 1 | S83: =IFERROR(IF($B83=$S$1,"1","-")*1,"-") -> - | T83: =IFERROR(IF($B83=$T$1,"1","-")*1,"-") -> - | U83: =IFERROR(IF($B83=$U$1,"1","-")*1,"-") -> - | V83: =IFERROR(IF($B83=$V$1,"1","-")*1,"-") -> - | W83: =IFERROR(IF(E83=$W$1,"1","-")*1,"-") -> - | X83: =IFERROR(IF(E83=$X$1,"1","-")*1,"-") -> - | Y83: {=IFERROR(_xlfn.IFS(B83=$U$1,"2",B83=$V$1,"2",J83="Yes","1")*1,"-")} -> - | Z83: =IFERROR(IF(K83="Yes","1","-")*1,"-") -> 1 | AA83: =IFERROR(IF(L83="Yes","1","-")*1,"-") -> - | AB83: =IFERROR(IF(O83="Yes","1","-")*1,"-") -> - | AC83: =IFERROR(IF($B83=$AC$1,"1","-")*1,"-") -> - | AD83: =IFERROR(IF($B83=$AD$1,"1","-")*1,"-") -> - | AE83: =IFERROR(IF($B83=$AE$1,"1","-")*1,"-") -> -
A84: 83 | B84: S7-UCB-3 | C84: Active | D84: On Dwelling | E84: - | F84: Domestic | G84: - | H84: - | J84: {=IFERROR(_xlfn.IFS('Pod Commentary'!B84='Data Validation'!$B$3,"No",'Pod Commentary'!B84='Data Validation'!$B$4,"Yes",'Pod Commentary'!B84='Data Validation'!$B$5,"Yes",'Pod Commentary'!B84='Data Validation'!$B$6,"Yes",'Pod Commentary'!B84='Data Validation'!$B$7,"Yes",'Pod Commentary'!B84='Data Validation'!$B$8,"No",'Pod Commentary'!B84='Data Validation'!$B$9,"Yes",'Pod Commentary'!B84='Data Validation'!$B$10,"Yes",'Pod Commentary'!B84='Data Validation'!$B$11,"-"),"-")} -> No | K84: {=IFERROR(_xlfn.IFS(D84="Garage","No",B84='Data Validation'!$B$3,"Yes",'Pod Commentary'!B84='Data Validation'!$B$4,"No",'Pod Commentary'!B84='Data Validation'!$B$5,"No",'Pod Commentary'!B84='Data Validation'!$B$6,"No",'Pod Commentary'!B84='Data Validation'!$B$7,"No",'Pod Commentary'!B84='Data Validation'!$B$8,"Yes",'Pod Commentary'!B84='Data Validation'!$B$9,"No",'Pod Commentary'!B84='Data Validation'!$B$10,"No",'Pod Commentary'!B84='Data Validation'!$B$11,"No"),"-")} -> Yes | L84: {=IFERROR(_xlfn.IFS(B84='Data Validation'!$B$6,"Yes",B84='Data Validation'!$B$7,"Yes"),"-")} -> - | R84: =IFERROR(IF($B84=$R$1,"1","-")*1,"-") -> 1 | S84: =IFERROR(IF($B84=$S$1,"1","-")*1,"-") -> - | T84: =IFERROR(IF($B84=$T$1,"1","-")*1,"-") -> - | U84: =IFERROR(IF($B84=$U$1,"1","-")*1,"-") -> - | V84: =IFERROR(IF($B84=$V$1,"1","-")*1,"-") -> - | W84: =IFERROR(IF(E84=$W$1,"1","-")*1,"-") -> - | X84: =IFERROR(IF(E84=$X$1,"1","-")*1,"-") -> - | Y84: {=IFERROR(_xlfn.IFS(B84=$U$1,"2",B84=$V$1,"2",J84="Yes","1")*1,"-")} -> - | Z84: =IFERROR(IF(K84="Yes","1","-")*1,"-") -> 1 | AA84: =IFERROR(IF(L84="Yes","1","-")*1,"-") -> - | AB84: =IFERROR(IF(O84="Yes","1","-")*1,"-") -> - | AC84: =IFERROR(IF($B84=$AC$1,"1","-")*1,"-") -> - | AD84: =IFERROR(IF($B84=$AD$1,"1","-")*1,"-") -> - | AE84: =IFERROR(IF($B84=$AE$1,"1","-")*1,"-") -> -
A85: 84 | B85: S7-UCB-3 | C85: Active | D85: Remote (Freestanding) | E85: Single | F85: Domestic | G85: - | H85: - | J85: {=IFERROR(_xlfn.IFS('Pod Commentary'!B85='Data Validation'!$B$3,"No",'Pod Commentary'!B85='Data Validation'!$B$4,"Yes",'Pod Commentary'!B85='Data Validation'!$B$5,"Yes",'Pod Commentary'!B85='Data Validation'!$B$6,"Yes",'Pod Commentary'!B85='Data Validation'!$B$7,"Yes",'Pod Commentary'!B85='Data Validation'!$B$8,"No",'Pod Commentary'!B85='Data Validation'!$B$9,"Yes",'Pod Commentary'!B85='Data Validation'!$B$10,"Yes",'Pod Commentary'!B85='Data Validation'!$B$11,"-"),"-")} -> No | K85: {=IFERROR(_xlfn.IFS(D85="Garage","No",B85='Data Validation'!$B$3,"Yes",'Pod Commentary'!B85='Data Validation'!$B$4,"No",'Pod Commentary'!B85='Data Validation'!$B$5,"No",'Pod Commentary'!B85='Data Validation'!$B$6,"No",'Pod Commentary'!B85='Data Validation'!$B$7,"No",'Pod Commentary'!B85='Data Validation'!$B$8,"Yes",'Pod Commentary'!B85='Data Validation'!$B$9,"No",'Pod Commentary'!B85='Data Validation'!$B$10,"No",'Pod Commentary'!B85='Data Validation'!$B$11,"No"),"-")} -> Yes | L85: {=IFERROR(_xlfn.IFS(B85='Data Validation'!$B$6,"Yes",B85='Data Validation'!$B$7,"Yes"),"-")} -> - | M85: Yes | N85: Ducting from dwelling's power supply to charger location | R85: =IFERROR(IF($B85=$R$1,"1","-")*1,"-") -> 1 | S85: =IFERROR(IF($B85=$S$1,"1","-")*1,"-") -> - | T85: =IFERROR(IF($B85=$T$1,"1","-")*1,"-") -> - | U85: =IFERROR(IF($B85=$U$1,"1","-")*1,"-") -> - | V85: =IFERROR(IF($B85=$V$1,"1","-")*1,"-") -> - | W85: =IFERROR(IF(E85=$W$1,"1","-")*1,"-") -> 1 | X85: =IFERROR(IF(E85=$X$1,"1","-")*1,"-") -> - | Y85: {=IFERROR(_xlfn.IFS(B85=$U$1,"2",B85=$V$1,"2",J85="Yes","1")*1,"-")} -> - | Z85: =IFERROR(IF(K85="Yes","1","-")*1,"-") -> 1 | AA85: =IFERROR(IF(L85="Yes","1","-")*1,"-") -> - | AB85: =IFERROR(IF(O85="Yes","1","-")*1,"-") -> - | AC85: =IFERROR(IF($B85=$AC$1,"1","-")*1,"-") -> - | AD85: =IFERROR(IF($B85=$AD$1,"1","-")*1,"-") -> - | AE85: =IFERROR(IF($B85=$AE$1,"1","-")*1,"-") -> -
A86: 85 | B86: S7-UCB-3 | C86: Active | D86: Remote (Freestanding) | E86: Single | F86: Domestic | G86: - | H86: - | J86: {=IFERROR(_xlfn.IFS('Pod Commentary'!B86='Data Validation'!$B$3,"No",'Pod Commentary'!B86='Data Validation'!$B$4,"Yes",'Pod Commentary'!B86='Data Validation'!$B$5,"Yes",'Pod Commentary'!B86='Data Validation'!$B$6,"Yes",'Pod Commentary'!B86='Data Validation'!$B$7,"Yes",'Pod Commentary'!B86='Data Validation'!$B$8,"No",'Pod Commentary'!B86='Data Validation'!$B$9,"Yes",'Pod Commentary'!B86='Data Validation'!$B$10,"Yes",'Pod Commentary'!B86='Data Validation'!$B$11,"-"),"-")} -> No | K86: {=IFERROR(_xlfn.IFS(D86="Garage","No",B86='Data Validation'!$B$3,"Yes",'Pod Commentary'!B86='Data Validation'!$B$4,"No",'Pod Commentary'!B86='Data Validation'!$B$5,"No",'Pod Commentary'!B86='Data Validation'!$B$6,"No",'Pod Commentary'!B86='Data Validation'!$B$7,"No",'Pod Commentary'!B86='Data Validation'!$B$8,"Yes",'Pod Commentary'!B86='Data Validation'!$B$9,"No",'Pod Commentary'!B86='Data Validation'!$B$10,"No",'Pod Commentary'!B86='Data Validation'!$B$11,"No"),"-")} -> Yes | L86: {=IFERROR(_xlfn.IFS(B86='Data Validation'!$B$6,"Yes",B86='Data Validation'!$B$7,"Yes"),"-")} -> - | M86: Yes | N86: Ducting from dwelling's power supply to charger location | R86: =IFERROR(IF($B86=$R$1,"1","-")*1,"-") -> 1 | S86: =IFERROR(IF($B86=$S$1,"1","-")*1,"-") -> - | T86: =IFERROR(IF($B86=$T$1,"1","-")*1,"-") -> - | U86: =IFERROR(IF($B86=$U$1,"1","-")*1,"-") -> - | V86: =IFERROR(IF($B86=$V$1,"1","-")*1,"-") -> - | W86: =IFERROR(IF(E86=$W$1,"1","-")*1,"-") -> 1 | X86: =IFERROR(IF(E86=$X$1,"1","-")*1,"-") -> - | Y86: {=IFERROR(_xlfn.IFS(B86=$U$1,"2",B86=$V$1,"2",J86="Yes","1")*1,"-")} -> - | Z86: =IFERROR(IF(K86="Yes","1","-")*1,"-") -> 1 | AA86: =IFERROR(IF(L86="Yes","1","-")*1,"-") -> - | AB86: =IFERROR(IF(O86="Yes","1","-")*1,"-") -> - | AC86: =IFERROR(IF($B86=$AC$1,"1","-")*1,"-") -> - | AD86: =IFERROR(IF($B86=$AD$1,"1","-")*1,"-") -> - | AE86: =IFERROR(IF($B86=$AE$1,"1","-")*1,"-") -> -
A87: 86 | B87: S7-UCB-3 | C87: Active | D87: On Dwelling | E87: - | F87: Domestic | G87: - | H87: - | J87: {=IFERROR(_xlfn.IFS('Pod Commentary'!B87='Data Validation'!$B$3,"No",'Pod Commentary'!B87='Data Validation'!$B$4,"Yes",'Pod Commentary'!B87='Data Validation'!$B$5,"Yes",'Pod Commentary'!B87='Data Validation'!$B$6,"Yes",'Pod Commentary'!B87='Data Validation'!$B$7,"Yes",'Pod Commentary'!B87='Data Validation'!$B$8,"No",'Pod Commentary'!B87='Data Validation'!$B$9,"Yes",'Pod Commentary'!B87='Data Validation'!$B$10,"Yes",'Pod Commentary'!B87='Data Validation'!$B$11,"-"),"-")} -> No | K87: {=IFERROR(_xlfn.IFS(D87="Garage","No",B87='Data Validation'!$B$3,"Yes",'Pod Commentary'!B87='Data Validation'!$B$4,"No",'Pod Commentary'!B87='Data Validation'!$B$5,"No",'Pod Commentary'!B87='Data Validation'!$B$6,"No",'Pod Commentary'!B87='Data Validation'!$B$7,"No",'Pod Commentary'!B87='Data Validation'!$B$8,"Yes",'Pod Commentary'!B87='Data Validation'!$B$9,"No",'Pod Commentary'!B87='Data Validation'!$B$10,"No",'Pod Commentary'!B87='Data Validation'!$B$11,"No"),"-")} -> Yes | L87: {=IFERROR(_xlfn.IFS(B87='Data Validation'!$B$6,"Yes",B87='Data Validation'!$B$7,"Yes"),"-")} -> - | R87: =IFERROR(IF($B87=$R$1,"1","-")*1,"-") -> 1 | S87: =IFERROR(IF($B87=$S$1,"1","-")*1,"-") -> - | T87: =IFERROR(IF($B87=$T$1,"1","-")*1,"-") -> - | U87: =IFERROR(IF($B87=$U$1,"1","-")*1,"-") -> - | V87: =IFERROR(IF($B87=$V$1,"1","-")*1,"-") -> - | W87: =IFERROR(IF(E87=$W$1,"1","-")*1,"-") -> - | X87: =IFERROR(IF(E87=$X$1,"1","-")*1,"-") -> - | Y87: {=IFERROR(_xlfn.IFS(B87=$U$1,"2",B87=$V$1,"2",J87="Yes","1")*1,"-")} -> - | Z87: =IFERROR(IF(K87="Yes","1","-")*1,"-") -> 1 | AA87: =IFERROR(IF(L87="Yes","1","-")*1,"-") -> - | AB87: =IFERROR(IF(O87="Yes","1","-")*1,"-") -> - | AC87: =IFERROR(IF($B87=$AC$1,"1","-")*1,"-") -> - | AD87: =IFERROR(IF($B87=$AD$1,"1","-")*1,"-") -> - | AE87: =IFERROR(IF($B87=$AE$1,"1","-")*1,"-") -> -
A88: 87 | B88: S7-UCB-3 | C88: Active | D88: On Dwelling | E88: - | F88: Domestic | G88: - | H88: - | J88: {=IFERROR(_xlfn.IFS('Pod Commentary'!B88='Data Validation'!$B$3,"No",'Pod Commentary'!B88='Data Validation'!$B$4,"Yes",'Pod Commentary'!B88='Data Validation'!$B$5,"Yes",'Pod Commentary'!B88='Data Validation'!$B$6,"Yes",'Pod Commentary'!B88='Data Validation'!$B$7,"Yes",'Pod Commentary'!B88='Data Validation'!$B$8,"No",'Pod Commentary'!B88='Data Validation'!$B$9,"Yes",'Pod Commentary'!B88='Data Validation'!$B$10,"Yes",'Pod Commentary'!B88='Data Validation'!$B$11,"-"),"-")} -> No | K88: {=IFERROR(_xlfn.IFS(D88="Garage","No",B88='Data Validation'!$B$3,"Yes",'Pod Commentary'!B88='Data Validation'!$B$4,"No",'Pod Commentary'!B88='Data Validation'!$B$5,"No",'Pod Commentary'!B88='Data Validation'!$B$6,"No",'Pod Commentary'!B88='Data Validation'!$B$7,"No",'Pod Commentary'!B88='Data Validation'!$B$8,"Yes",'Pod Commentary'!B88='Data Validation'!$B$9,"No",'Pod Commentary'!B88='Data Validation'!$B$10,"No",'Pod Commentary'!B88='Data Validation'!$B$11,"No"),"-")} -> Yes | L88: {=IFERROR(_xlfn.IFS(B88='Data Validation'!$B$6,"Yes",B88='Data Validation'!$B$7,"Yes"),"-")} -> - | R88: =IFERROR(IF($B88=$R$1,"1","-")*1,"-") -> 1 | S88: =IFERROR(IF($B88=$S$1,"1","-")*1,"-") -> - | T88: =IFERROR(IF($B88=$T$1,"1","-")*1,"-") -> - | U88: =IFERROR(IF($B88=$U$1,"1","-")*1,"-") -> - | V88: =IFERROR(IF($B88=$V$1,"1","-")*1,"-") -> - | W88: =IFERROR(IF(E88=$W$1,"1","-")*1,"-") -> - | X88: =IFERROR(IF(E88=$X$1,"1","-")*1,"-") -> - | Y88: {=IFERROR(_xlfn.IFS(B88=$U$1,"2",B88=$V$1,"2",J88="Yes","1")*1,"-")} -> - | Z88: =IFERROR(IF(K88="Yes","1","-")*1,"-") -> 1 | AA88: =IFERROR(IF(L88="Yes","1","-")*1,"-") -> - | AB88: =IFERROR(IF(O88="Yes","1","-")*1,"-") -> - | AC88: =IFERROR(IF($B88=$AC$1,"1","-")*1,"-") -> - | AD88: =IFERROR(IF($B88=$AD$1,"1","-")*1,"-") -> - | AE88: =IFERROR(IF($B88=$AE$1,"1","-")*1,"-") -> -
A89: 88 | B89: S7-UCB-3 | C89: Active | D89: On Dwelling | E89: - | F89: Domestic | G89: - | H89: - | J89: {=IFERROR(_xlfn.IFS('Pod Commentary'!B89='Data Validation'!$B$3,"No",'Pod Commentary'!B89='Data Validation'!$B$4,"Yes",'Pod Commentary'!B89='Data Validation'!$B$5,"Yes",'Pod Commentary'!B89='Data Validation'!$B$6,"Yes",'Pod Commentary'!B89='Data Validation'!$B$7,"Yes",'Pod Commentary'!B89='Data Validation'!$B$8,"No",'Pod Commentary'!B89='Data Validation'!$B$9,"Yes",'Pod Commentary'!B89='Data Validation'!$B$10,"Yes",'Pod Commentary'!B89='Data Validation'!$B$11,"-"),"-")} -> No | K89: {=IFERROR(_xlfn.IFS(D89="Garage","No",B89='Data Validation'!$B$3,"Yes",'Pod Commentary'!B89='Data Validation'!$B$4,"No",'Pod Commentary'!B89='Data Validation'!$B$5,"No",'Pod Commentary'!B89='Data Validation'!$B$6,"No",'Pod Commentary'!B89='Data Validation'!$B$7,"No",'Pod Commentary'!B89='Data Validation'!$B$8,"Yes",'Pod Commentary'!B89='Data Validation'!$B$9,"No",'Pod Commentary'!B89='Data Validation'!$B$10,"No",'Pod Commentary'!B89='Data Validation'!$B$11,"No"),"-")} -> Yes | L89: {=IFERROR(_xlfn.IFS(B89='Data Validation'!$B$6,"Yes",B89='Data Validation'!$B$7,"Yes"),"-")} -> - | R89: =IFERROR(IF($B89=$R$1,"1","-")*1,"-") -> 1 | S89: =IFERROR(IF($B89=$S$1,"1","-")*1,"-") -> - | T89: =IFERROR(IF($B89=$T$1,"1","-")*1,"-") -> - | U89: =IFERROR(IF($B89=$U$1,"1","-")*1,"-") -> - | V89: =IFERROR(IF($B89=$V$1,"1","-")*1,"-") -> - | W89: =IFERROR(IF(E89=$W$1,"1","-")*1,"-") -> - | X89: =IFERROR(IF(E89=$X$1,"1","-")*1,"-") -> - | Y89: {=IFERROR(_xlfn.IFS(B89=$U$1,"2",B89=$V$1,"2",J89="Yes","1")*1,"-")} -> - | Z89: =IFERROR(IF(K89="Yes","1","-")*1,"-") -> 1 | AA89: =IFERROR(IF(L89="Yes","1","-")*1,"-") -> - | AB89: =IFERROR(IF(O89="Yes","1","-")*1,"-") -> - | AC89: =IFERROR(IF($B89=$AC$1,"1","-")*1,"-") -> - | AD89: =IFERROR(IF($B89=$AD$1,"1","-")*1,"-") -> - | AE89: =IFERROR(IF($B89=$AE$1,"1","-")*1,"-") -> -
A90: 89 | B90: S7-UCB-3 | C90: Active | D90: On Dwelling | E90: - | F90: Domestic | G90: - | H90: - | J90: {=IFERROR(_xlfn.IFS('Pod Commentary'!B90='Data Validation'!$B$3,"No",'Pod Commentary'!B90='Data Validation'!$B$4,"Yes",'Pod Commentary'!B90='Data Validation'!$B$5,"Yes",'Pod Commentary'!B90='Data Validation'!$B$6,"Yes",'Pod Commentary'!B90='Data Validation'!$B$7,"Yes",'Pod Commentary'!B90='Data Validation'!$B$8,"No",'Pod Commentary'!B90='Data Validation'!$B$9,"Yes",'Pod Commentary'!B90='Data Validation'!$B$10,"Yes",'Pod Commentary'!B90='Data Validation'!$B$11,"-"),"-")} -> No | K90: {=IFERROR(_xlfn.IFS(D90="Garage","No",B90='Data Validation'!$B$3,"Yes",'Pod Commentary'!B90='Data Validation'!$B$4,"No",'Pod Commentary'!B90='Data Validation'!$B$5,"No",'Pod Commentary'!B90='Data Validation'!$B$6,"No",'Pod Commentary'!B90='Data Validation'!$B$7,"No",'Pod Commentary'!B90='Data Validation'!$B$8,"Yes",'Pod Commentary'!B90='Data Validation'!$B$9,"No",'Pod Commentary'!B90='Data Validation'!$B$10,"No",'Pod Commentary'!B90='Data Validation'!$B$11,"No"),"-")} -> Yes | L90: {=IFERROR(_xlfn.IFS(B90='Data Validation'!$B$6,"Yes",B90='Data Validation'!$B$7,"Yes"),"-")} -> - | R90: =IFERROR(IF($B90=$R$1,"1","-")*1,"-") -> 1 | S90: =IFERROR(IF($B90=$S$1,"1","-")*1,"-") -> - | T90: =IFERROR(IF($B90=$T$1,"1","-")*1,"-") -> - | U90: =IFERROR(IF($B90=$U$1,"1","-")*1,"-") -> - | V90: =IFERROR(IF($B90=$V$1,"1","-")*1,"-") -> - | W90: =IFERROR(IF(E90=$W$1,"1","-")*1,"-") -> - | X90: =IFERROR(IF(E90=$X$1,"1","-")*1,"-") -> - | Y90: {=IFERROR(_xlfn.IFS(B90=$U$1,"2",B90=$V$1,"2",J90="Yes","1")*1,"-")} -> - | Z90: =IFERROR(IF(K90="Yes","1","-")*1,"-") -> 1 | AA90: =IFERROR(IF(L90="Yes","1","-")*1,"-") -> - | AB90: =IFERROR(IF(O90="Yes","1","-")*1,"-") -> - | AC90: =IFERROR(IF($B90=$AC$1,"1","-")*1,"-") -> - | AD90: =IFERROR(IF($B90=$AD$1,"1","-")*1,"-") -> - | AE90: =IFERROR(IF($B90=$AE$1,"1","-")*1,"-") -> -
A91: 90 | B91: S7-UCB-3 | C91: Active | D91: On Dwelling | E91: - | F91: Domestic | G91: - | H91: - | J91: {=IFERROR(_xlfn.IFS('Pod Commentary'!B91='Data Validation'!$B$3,"No",'Pod Commentary'!B91='Data Validation'!$B$4,"Yes",'Pod Commentary'!B91='Data Validation'!$B$5,"Yes",'Pod Commentary'!B91='Data Validation'!$B$6,"Yes",'Pod Commentary'!B91='Data Validation'!$B$7,"Yes",'Pod Commentary'!B91='Data Validation'!$B$8,"No",'Pod Commentary'!B91='Data Validation'!$B$9,"Yes",'Pod Commentary'!B91='Data Validation'!$B$10,"Yes",'Pod Commentary'!B91='Data Validation'!$B$11,"-"),"-")} -> No | K91: {=IFERROR(_xlfn.IFS(D91="Garage","No",B91='Data Validation'!$B$3,"Yes",'Pod Commentary'!B91='Data Validation'!$B$4,"No",'Pod Commentary'!B91='Data Validation'!$B$5,"No",'Pod Commentary'!B91='Data Validation'!$B$6,"No",'Pod Commentary'!B91='Data Validation'!$B$7,"No",'Pod Commentary'!B91='Data Validation'!$B$8,"Yes",'Pod Commentary'!B91='Data Validation'!$B$9,"No",'Pod Commentary'!B91='Data Validation'!$B$10,"No",'Pod Commentary'!B91='Data Validation'!$B$11,"No"),"-")} -> Yes | L91: {=IFERROR(_xlfn.IFS(B91='Data Validation'!$B$6,"Yes",B91='Data Validation'!$B$7,"Yes"),"-")} -> - | R91: =IFERROR(IF($B91=$R$1,"1","-")*1,"-") -> 1 | S91: =IFERROR(IF($B91=$S$1,"1","-")*1,"-") -> - | T91: =IFERROR(IF($B91=$T$1,"1","-")*1,"-") -> - | U91: =IFERROR(IF($B91=$U$1,"1","-")*1,"-") -> - | V91: =IFERROR(IF($B91=$V$1,"1","-")*1,"-") -> - | W91: =IFERROR(IF(E91=$W$1,"1","-")*1,"-") -> - | X91: =IFERROR(IF(E91=$X$1,"1","-")*1,"-") -> - | Y91: {=IFERROR(_xlfn.IFS(B91=$U$1,"2",B91=$V$1,"2",J91="Yes","1")*1,"-")} -> - | Z91: =IFERROR(IF(K91="Yes","1","-")*1,"-") -> 1 | AA91: =IFERROR(IF(L91="Yes","1","-")*1,"-") -> - | AB91: =IFERROR(IF(O91="Yes","1","-")*1,"-") -> - | AC91: =IFERROR(IF($B91=$AC$1,"1","-")*1,"-") -> - | AD91: =IFERROR(IF($B91=$AD$1,"1","-")*1,"-") -> - | AE91: =IFERROR(IF($B91=$AE$1,"1","-")*1,"-") -> -
A92: 91 | B92: S7-UCB-3 | C92: Active | D92: On Dwelling | E92: - | F92: Domestic | G92: - | H92: - | J92: {=IFERROR(_xlfn.IFS('Pod Commentary'!B92='Data Validation'!$B$3,"No",'Pod Commentary'!B92='Data Validation'!$B$4,"Yes",'Pod Commentary'!B92='Data Validation'!$B$5,"Yes",'Pod Commentary'!B92='Data Validation'!$B$6,"Yes",'Pod Commentary'!B92='Data Validation'!$B$7,"Yes",'Pod Commentary'!B92='Data Validation'!$B$8,"No",'Pod Commentary'!B92='Data Validation'!$B$9,"Yes",'Pod Commentary'!B92='Data Validation'!$B$10,"Yes",'Pod Commentary'!B92='Data Validation'!$B$11,"-"),"-")} -> No | K92: {=IFERROR(_xlfn.IFS(D92="Garage","No",B92='Data Validation'!$B$3,"Yes",'Pod Commentary'!B92='Data Validation'!$B$4,"No",'Pod Commentary'!B92='Data Validation'!$B$5,"No",'Pod Commentary'!B92='Data Validation'!$B$6,"No",'Pod Commentary'!B92='Data Validation'!$B$7,"No",'Pod Commentary'!B92='Data Validation'!$B$8,"Yes",'Pod Commentary'!B92='Data Validation'!$B$9,"No",'Pod Commentary'!B92='Data Validation'!$B$10,"No",'Pod Commentary'!B92='Data Validation'!$B$11,"No"),"-")} -> Yes | L92: {=IFERROR(_xlfn.IFS(B92='Data Validation'!$B$6,"Yes",B92='Data Validation'!$B$7,"Yes"),"-")} -> - | R92: =IFERROR(IF($B92=$R$1,"1","-")*1,"-") -> 1 | S92: =IFERROR(IF($B92=$S$1,"1","-")*1,"-") -> - | T92: =IFERROR(IF($B92=$T$1,"1","-")*1,"-") -> - | U92: =IFERROR(IF($B92=$U$1,"1","-")*1,"-") -> - | V92: =IFERROR(IF($B92=$V$1,"1","-")*1,"-") -> - | W92: =IFERROR(IF(E92=$W$1,"1","-")*1,"-") -> - | X92: =IFERROR(IF(E92=$X$1,"1","-")*1,"-") -> - | Y92: {=IFERROR(_xlfn.IFS(B92=$U$1,"2",B92=$V$1,"2",J92="Yes","1")*1,"-")} -> - | Z92: =IFERROR(IF(K92="Yes","1","-")*1,"-") -> 1 | AA92: =IFERROR(IF(L92="Yes","1","-")*1,"-") -> - | AB92: =IFERROR(IF(O92="Yes","1","-")*1,"-") -> - | AC92: =IFERROR(IF($B92=$AC$1,"1","-")*1,"-") -> - | AD92: =IFERROR(IF($B92=$AD$1,"1","-")*1,"-") -> - | AE92: =IFERROR(IF($B92=$AE$1,"1","-")*1,"-") -> -
A93: 92 | B93: S7-UCB-3 | C93: Active | D93: Remote (Freestanding) | E93: Single | F93: Domestic | G93: - | H93: - | J93: {=IFERROR(_xlfn.IFS('Pod Commentary'!B93='Data Validation'!$B$3,"No",'Pod Commentary'!B93='Data Validation'!$B$4,"Yes",'Pod Commentary'!B93='Data Validation'!$B$5,"Yes",'Pod Commentary'!B93='Data Validation'!$B$6,"Yes",'Pod Commentary'!B93='Data Validation'!$B$7,"Yes",'Pod Commentary'!B93='Data Validation'!$B$8,"No",'Pod Commentary'!B93='Data Validation'!$B$9,"Yes",'Pod Commentary'!B93='Data Validation'!$B$10,"Yes",'Pod Commentary'!B93='Data Validation'!$B$11,"-"),"-")} -> No | K93: {=IFERROR(_xlfn.IFS(D93="Garage","No",B93='Data Validation'!$B$3,"Yes",'Pod Commentary'!B93='Data Validation'!$B$4,"No",'Pod Commentary'!B93='Data Validation'!$B$5,"No",'Pod Commentary'!B93='Data Validation'!$B$6,"No",'Pod Commentary'!B93='Data Validation'!$B$7,"No",'Pod Commentary'!B93='Data Validation'!$B$8,"Yes",'Pod Commentary'!B93='Data Validation'!$B$9,"No",'Pod Commentary'!B93='Data Validation'!$B$10,"No",'Pod Commentary'!B93='Data Validation'!$B$11,"No"),"-")} -> Yes | L93: {=IFERROR(_xlfn.IFS(B93='Data Validation'!$B$6,"Yes",B93='Data Validation'!$B$7,"Yes"),"-")} -> - | M93: Yes | N93: Ducting from dwelling's power supply to charger location | R93: =IFERROR(IF($B93=$R$1,"1","-")*1,"-") -> 1 | S93: =IFERROR(IF($B93=$S$1,"1","-")*1,"-") -> - | T93: =IFERROR(IF($B93=$T$1,"1","-")*1,"-") -> - | U93: =IFERROR(IF($B93=$U$1,"1","-")*1,"-") -> - | V93: =IFERROR(IF($B93=$V$1,"1","-")*1,"-") -> - | W93: =IFERROR(IF(E93=$W$1,"1","-")*1,"-") -> 1 | X93: =IFERROR(IF(E93=$X$1,"1","-")*1,"-") -> - | Y93: {=IFERROR(_xlfn.IFS(B93=$U$1,"2",B93=$V$1,"2",J93="Yes","1")*1,"-")} -> - | Z93: =IFERROR(IF(K93="Yes","1","-")*1,"-") -> 1 | AA93: =IFERROR(IF(L93="Yes","1","-")*1,"-") -> - | AB93: =IFERROR(IF(O93="Yes","1","-")*1,"-") -> - | AC93: =IFERROR(IF($B93=$AC$1,"1","-")*1,"-") -> - | AD93: =IFERROR(IF($B93=$AD$1,"1","-")*1,"-") -> - | AE93: =IFERROR(IF($B93=$AE$1,"1","-")*1,"-") -> -
A94: 93 | B94: S7-UCB-3 | C94: Active | D94: Remote (Freestanding) | E94: Single | F94: Domestic | G94: - | H94: - | J94: {=IFERROR(_xlfn.IFS('Pod Commentary'!B94='Data Validation'!$B$3,"No",'Pod Commentary'!B94='Data Validation'!$B$4,"Yes",'Pod Commentary'!B94='Data Validation'!$B$5,"Yes",'Pod Commentary'!B94='Data Validation'!$B$6,"Yes",'Pod Commentary'!B94='Data Validation'!$B$7,"Yes",'Pod Commentary'!B94='Data Validation'!$B$8,"No",'Pod Commentary'!B94='Data Validation'!$B$9,"Yes",'Pod Commentary'!B94='Data Validation'!$B$10,"Yes",'Pod Commentary'!B94='Data Validation'!$B$11,"-"),"-")} -> No | K94: {=IFERROR(_xlfn.IFS(D94="Garage","No",B94='Data Validation'!$B$3,"Yes",'Pod Commentary'!B94='Data Validation'!$B$4,"No",'Pod Commentary'!B94='Data Validation'!$B$5,"No",'Pod Commentary'!B94='Data Validation'!$B$6,"No",'Pod Commentary'!B94='Data Validation'!$B$7,"No",'Pod Commentary'!B94='Data Validation'!$B$8,"Yes",'Pod Commentary'!B94='Data Validation'!$B$9,"No",'Pod Commentary'!B94='Data Validation'!$B$10,"No",'Pod Commentary'!B94='Data Validation'!$B$11,"No"),"-")} -> Yes | L94: {=IFERROR(_xlfn.IFS(B94='Data Validation'!$B$6,"Yes",B94='Data Validation'!$B$7,"Yes"),"-")} -> - | M94: Yes | N94: Ducting from dwelling's power supply to charger location | R94: =IFERROR(IF($B94=$R$1,"1","-")*1,"-") -> 1 | S94: =IFERROR(IF($B94=$S$1,"1","-")*1,"-") -> - | T94: =IFERROR(IF($B94=$T$1,"1","-")*1,"-") -> - | U94: =IFERROR(IF($B94=$U$1,"1","-")*1,"-") -> - | V94: =IFERROR(IF($B94=$V$1,"1","-")*1,"-") -> - | W94: =IFERROR(IF(E94=$W$1,"1","-")*1,"-") -> 1 | X94: =IFERROR(IF(E94=$X$1,"1","-")*1,"-") -> - | Y94: {=IFERROR(_xlfn.IFS(B94=$U$1,"2",B94=$V$1,"2",J94="Yes","1")*1,"-")} -> - | Z94: =IFERROR(IF(K94="Yes","1","-")*1,"-") -> 1 | AA94: =IFERROR(IF(L94="Yes","1","-")*1,"-") -> - | AB94: =IFERROR(IF(O94="Yes","1","-")*1,"-") -> - | AC94: =IFERROR(IF($B94=$AC$1,"1","-")*1,"-") -> - | AD94: =IFERROR(IF($B94=$AD$1,"1","-")*1,"-") -> - | AE94: =IFERROR(IF($B94=$AE$1,"1","-")*1,"-") -> -
A95: 94 | B95: S7-UCB-3 | C95: Active | D95: Remote (Freestanding) | E95: Single | F95: Domestic | G95: - | H95: - | J95: {=IFERROR(_xlfn.IFS('Pod Commentary'!B95='Data Validation'!$B$3,"No",'Pod Commentary'!B95='Data Validation'!$B$4,"Yes",'Pod Commentary'!B95='Data Validation'!$B$5,"Yes",'Pod Commentary'!B95='Data Validation'!$B$6,"Yes",'Pod Commentary'!B95='Data Validation'!$B$7,"Yes",'Pod Commentary'!B95='Data Validation'!$B$8,"No",'Pod Commentary'!B95='Data Validation'!$B$9,"Yes",'Pod Commentary'!B95='Data Validation'!$B$10,"Yes",'Pod Commentary'!B95='Data Validation'!$B$11,"-"),"-")} -> No | K95: {=IFERROR(_xlfn.IFS(D95="Garage","No",B95='Data Validation'!$B$3,"Yes",'Pod Commentary'!B95='Data Validation'!$B$4,"No",'Pod Commentary'!B95='Data Validation'!$B$5,"No",'Pod Commentary'!B95='Data Validation'!$B$6,"No",'Pod Commentary'!B95='Data Validation'!$B$7,"No",'Pod Commentary'!B95='Data Validation'!$B$8,"Yes",'Pod Commentary'!B95='Data Validation'!$B$9,"No",'Pod Commentary'!B95='Data Validation'!$B$10,"No",'Pod Commentary'!B95='Data Validation'!$B$11,"No"),"-")} -> Yes | L95: {=IFERROR(_xlfn.IFS(B95='Data Validation'!$B$6,"Yes",B95='Data Validation'!$B$7,"Yes"),"-")} -> - | M95: Yes | N95: Ducting from dwelling's power supply to charger location | R95: =IFERROR(IF($B95=$R$1,"1","-")*1,"-") -> 1 | S95: =IFERROR(IF($B95=$S$1,"1","-")*1,"-") -> - | T95: =IFERROR(IF($B95=$T$1,"1","-")*1,"-") -> - | U95: =IFERROR(IF($B95=$U$1,"1","-")*1,"-") -> - | V95: =IFERROR(IF($B95=$V$1,"1","-")*1,"-") -> - | W95: =IFERROR(IF(E95=$W$1,"1","-")*1,"-") -> 1 | X95: =IFERROR(IF(E95=$X$1,"1","-")*1,"-") -> - | Y95: {=IFERROR(_xlfn.IFS(B95=$U$1,"2",B95=$V$1,"2",J95="Yes","1")*1,"-")} -> - | Z95: =IFERROR(IF(K95="Yes","1","-")*1,"-") -> 1 | AA95: =IFERROR(IF(L95="Yes","1","-")*1,"-") -> - | AB95: =IFERROR(IF(O95="Yes","1","-")*1,"-") -> - | AC95: =IFERROR(IF($B95=$AC$1,"1","-")*1,"-") -> - | AD95: =IFERROR(IF($B95=$AD$1,"1","-")*1,"-") -> - | AE95: =IFERROR(IF($B95=$AE$1,"1","-")*1,"-") -> -
A96: 95 | B96: S7-UCB-3 | C96: Active | D96: On Dwelling | E96: - | F96: Domestic | G96: - | H96: - | J96: {=IFERROR(_xlfn.IFS('Pod Commentary'!B96='Data Validation'!$B$3,"No",'Pod Commentary'!B96='Data Validation'!$B$4,"Yes",'Pod Commentary'!B96='Data Validation'!$B$5,"Yes",'Pod Commentary'!B96='Data Validation'!$B$6,"Yes",'Pod Commentary'!B96='Data Validation'!$B$7,"Yes",'Pod Commentary'!B96='Data Validation'!$B$8,"No",'Pod Commentary'!B96='Data Validation'!$B$9,"Yes",'Pod Commentary'!B96='Data Validation'!$B$10,"Yes",'Pod Commentary'!B96='Data Validation'!$B$11,"-"),"-")} -> No | K96: {=IFERROR(_xlfn.IFS(D96="Garage","No",B96='Data Validation'!$B$3,"Yes",'Pod Commentary'!B96='Data Validation'!$B$4,"No",'Pod Commentary'!B96='Data Validation'!$B$5,"No",'Pod Commentary'!B96='Data Validation'!$B$6,"No",'Pod Commentary'!B96='Data Validation'!$B$7,"No",'Pod Commentary'!B96='Data Validation'!$B$8,"Yes",'Pod Commentary'!B96='Data Validation'!$B$9,"No",'Pod Commentary'!B96='Data Validation'!$B$10,"No",'Pod Commentary'!B96='Data Validation'!$B$11,"No"),"-")} -> Yes | L96: {=IFERROR(_xlfn.IFS(B96='Data Validation'!$B$6,"Yes",B96='Data Validation'!$B$7,"Yes"),"-")} -> - | R96: =IFERROR(IF($B96=$R$1,"1","-")*1,"-") -> 1 | S96: =IFERROR(IF($B96=$S$1,"1","-")*1,"-") -> - | T96: =IFERROR(IF($B96=$T$1,"1","-")*1,"-") -> - | U96: =IFERROR(IF($B96=$U$1,"1","-")*1,"-") -> - | V96: =IFERROR(IF($B96=$V$1,"1","-")*1,"-") -> - | W96: =IFERROR(IF(E96=$W$1,"1","-")*1,"-") -> - | X96: =IFERROR(IF(E96=$X$1,"1","-")*1,"-") -> - | Y96: {=IFERROR(_xlfn.IFS(B96=$U$1,"2",B96=$V$1,"2",J96="Yes","1")*1,"-")} -> - | Z96: =IFERROR(IF(K96="Yes","1","-")*1,"-") -> 1 | AA96: =IFERROR(IF(L96="Yes","1","-")*1,"-") -> - | AB96: =IFERROR(IF(O96="Yes","1","-")*1,"-") -> - | AC96: =IFERROR(IF($B96=$AC$1,"1","-")*1,"-") -> - | AD96: =IFERROR(IF($B96=$AD$1,"1","-")*1,"-") -> - | AE96: =IFERROR(IF($B96=$AE$1,"1","-")*1,"-") -> -
A97: 96 | B97: S7-UCB-3 | C97: Active | D97: On Dwelling | E97: - | F97: Domestic | G97: - | H97: - | J97: {=IFERROR(_xlfn.IFS('Pod Commentary'!B97='Data Validation'!$B$3,"No",'Pod Commentary'!B97='Data Validation'!$B$4,"Yes",'Pod Commentary'!B97='Data Validation'!$B$5,"Yes",'Pod Commentary'!B97='Data Validation'!$B$6,"Yes",'Pod Commentary'!B97='Data Validation'!$B$7,"Yes",'Pod Commentary'!B97='Data Validation'!$B$8,"No",'Pod Commentary'!B97='Data Validation'!$B$9,"Yes",'Pod Commentary'!B97='Data Validation'!$B$10,"Yes",'Pod Commentary'!B97='Data Validation'!$B$11,"-"),"-")} -> No | K97: {=IFERROR(_xlfn.IFS(D97="Garage","No",B97='Data Validation'!$B$3,"Yes",'Pod Commentary'!B97='Data Validation'!$B$4,"No",'Pod Commentary'!B97='Data Validation'!$B$5,"No",'Pod Commentary'!B97='Data Validation'!$B$6,"No",'Pod Commentary'!B97='Data Validation'!$B$7,"No",'Pod Commentary'!B97='Data Validation'!$B$8,"Yes",'Pod Commentary'!B97='Data Validation'!$B$9,"No",'Pod Commentary'!B97='Data Validation'!$B$10,"No",'Pod Commentary'!B97='Data Validation'!$B$11,"No"),"-")} -> Yes | L97: {=IFERROR(_xlfn.IFS(B97='Data Validation'!$B$6,"Yes",B97='Data Validation'!$B$7,"Yes"),"-")} -> - | R97: =IFERROR(IF($B97=$R$1,"1","-")*1,"-") -> 1 | S97: =IFERROR(IF($B97=$S$1,"1","-")*1,"-") -> - | T97: =IFERROR(IF($B97=$T$1,"1","-")*1,"-") -> - | U97: =IFERROR(IF($B97=$U$1,"1","-")*1,"-") -> - | V97: =IFERROR(IF($B97=$V$1,"1","-")*1,"-") -> - | W97: =IFERROR(IF(E97=$W$1,"1","-")*1,"-") -> - | X97: =IFERROR(IF(E97=$X$1,"1","-")*1,"-") -> - | Y97: {=IFERROR(_xlfn.IFS(B97=$U$1,"2",B97=$V$1,"2",J97="Yes","1")*1,"-")} -> - | Z97: =IFERROR(IF(K97="Yes","1","-")*1,"-") -> 1 | AA97: =IFERROR(IF(L97="Yes","1","-")*1,"-") -> - | AB97: =IFERROR(IF(O97="Yes","1","-")*1,"-") -> - | AC97: =IFERROR(IF($B97=$AC$1,"1","-")*1,"-") -> - | AD97: =IFERROR(IF($B97=$AD$1,"1","-")*1,"-") -> - | AE97: =IFERROR(IF($B97=$AE$1,"1","-")*1,"-") -> -
A98: 97 | B98: S7-UCB-3 | C98: Active | D98: Remote (Freestanding) | E98: Single | F98: Domestic | G98: - | H98: - | J98: {=IFERROR(_xlfn.IFS('Pod Commentary'!B98='Data Validation'!$B$3,"No",'Pod Commentary'!B98='Data Validation'!$B$4,"Yes",'Pod Commentary'!B98='Data Validation'!$B$5,"Yes",'Pod Commentary'!B98='Data Validation'!$B$6,"Yes",'Pod Commentary'!B98='Data Validation'!$B$7,"Yes",'Pod Commentary'!B98='Data Validation'!$B$8,"No",'Pod Commentary'!B98='Data Validation'!$B$9,"Yes",'Pod Commentary'!B98='Data Validation'!$B$10,"Yes",'Pod Commentary'!B98='Data Validation'!$B$11,"-"),"-")} -> No | K98: {=IFERROR(_xlfn.IFS(D98="Garage","No",B98='Data Validation'!$B$3,"Yes",'Pod Commentary'!B98='Data Validation'!$B$4,"No",'Pod Commentary'!B98='Data Validation'!$B$5,"No",'Pod Commentary'!B98='Data Validation'!$B$6,"No",'Pod Commentary'!B98='Data Validation'!$B$7,"No",'Pod Commentary'!B98='Data Validation'!$B$8,"Yes",'Pod Commentary'!B98='Data Validation'!$B$9,"No",'Pod Commentary'!B98='Data Validation'!$B$10,"No",'Pod Commentary'!B98='Data Validation'!$B$11,"No"),"-")} -> Yes | L98: {=IFERROR(_xlfn.IFS(B98='Data Validation'!$B$6,"Yes",B98='Data Validation'!$B$7,"Yes"),"-")} -> - | M98: Yes | N98: Ducting from dwelling's power supply to charger location | R98: =IFERROR(IF($B98=$R$1,"1","-")*1,"-") -> 1 | S98: =IFERROR(IF($B98=$S$1,"1","-")*1,"-") -> - | T98: =IFERROR(IF($B98=$T$1,"1","-")*1,"-") -> - | U98: =IFERROR(IF($B98=$U$1,"1","-")*1,"-") -> - | V98: =IFERROR(IF($B98=$V$1,"1","-")*1,"-") -> - | W98: =IFERROR(IF(E98=$W$1,"1","-")*1,"-") -> 1 | X98: =IFERROR(IF(E98=$X$1,"1","-")*1,"-") -> - | Y98: {=IFERROR(_xlfn.IFS(B98=$U$1,"2",B98=$V$1,"2",J98="Yes","1")*1,"-")} -> - | Z98: =IFERROR(IF(K98="Yes","1","-")*1,"-") -> 1 | AA98: =IFERROR(IF(L98="Yes","1","-")*1,"-") -> - | AB98: =IFERROR(IF(O98="Yes","1","-")*1,"-") -> - | AC98: =IFERROR(IF($B98=$AC$1,"1","-")*1,"-") -> - | AD98: =IFERROR(IF($B98=$AD$1,"1","-")*1,"-") -> - | AE98: =IFERROR(IF($B98=$AE$1,"1","-")*1,"-") -> -
A99: 98 | B99: S7-UCB-3 | C99: Active | D99: Remote (Freestanding) | E99: Single | F99: Domestic | G99: - | H99: - | J99: {=IFERROR(_xlfn.IFS('Pod Commentary'!B99='Data Validation'!$B$3,"No",'Pod Commentary'!B99='Data Validation'!$B$4,"Yes",'Pod Commentary'!B99='Data Validation'!$B$5,"Yes",'Pod Commentary'!B99='Data Validation'!$B$6,"Yes",'Pod Commentary'!B99='Data Validation'!$B$7,"Yes",'Pod Commentary'!B99='Data Validation'!$B$8,"No",'Pod Commentary'!B99='Data Validation'!$B$9,"Yes",'Pod Commentary'!B99='Data Validation'!$B$10,"Yes",'Pod Commentary'!B99='Data Validation'!$B$11,"-"),"-")} -> No | K99: {=IFERROR(_xlfn.IFS(D99="Garage","No",B99='Data Validation'!$B$3,"Yes",'Pod Commentary'!B99='Data Validation'!$B$4,"No",'Pod Commentary'!B99='Data Validation'!$B$5,"No",'Pod Commentary'!B99='Data Validation'!$B$6,"No",'Pod Commentary'!B99='Data Validation'!$B$7,"No",'Pod Commentary'!B99='Data Validation'!$B$8,"Yes",'Pod Commentary'!B99='Data Validation'!$B$9,"No",'Pod Commentary'!B99='Data Validation'!$B$10,"No",'Pod Commentary'!B99='Data Validation'!$B$11,"No"),"-")} -> Yes | L99: {=IFERROR(_xlfn.IFS(B99='Data Validation'!$B$6,"Yes",B99='Data Validation'!$B$7,"Yes"),"-")} -> - | M99: Yes | N99: Ducting from dwelling's power supply to charger location | R99: =IFERROR(IF($B99=$R$1,"1","-")*1,"-") -> 1 | S99: =IFERROR(IF($B99=$S$1,"1","-")*1,"-") -> - | T99: =IFERROR(IF($B99=$T$1,"1","-")*1,"-") -> - | U99: =IFERROR(IF($B99=$U$1,"1","-")*1,"-") -> - | V99: =IFERROR(IF($B99=$V$1,"1","-")*1,"-") -> - | W99: =IFERROR(IF(E99=$W$1,"1","-")*1,"-") -> 1 | X99: =IFERROR(IF(E99=$X$1,"1","-")*1,"-") -> - | Y99: {=IFERROR(_xlfn.IFS(B99=$U$1,"2",B99=$V$1,"2",J99="Yes","1")*1,"-")} -> - | Z99: =IFERROR(IF(K99="Yes","1","-")*1,"-") -> 1 | AA99: =IFERROR(IF(L99="Yes","1","-")*1,"-") -> - | AB99: =IFERROR(IF(O99="Yes","1","-")*1,"-") -> - | AC99: =IFERROR(IF($B99=$AC$1,"1","-")*1,"-") -> - | AD99: =IFERROR(IF($B99=$AD$1,"1","-")*1,"-") -> - | AE99: =IFERROR(IF($B99=$AE$1,"1","-")*1,"-") -> -
A100: 99 | B100: S7-UCB-3 | C100: Active | D100: On Dwelling | E100: - | F100: Domestic | G100: - | H100: - | J100: {=IFERROR(_xlfn.IFS('Pod Commentary'!B100='Data Validation'!$B$3,"No",'Pod Commentary'!B100='Data Validation'!$B$4,"Yes",'Pod Commentary'!B100='Data Validation'!$B$5,"Yes",'Pod Commentary'!B100='Data Validation'!$B$6,"Yes",'Pod Commentary'!B100='Data Validation'!$B$7,"Yes",'Pod Commentary'!B100='Data Validation'!$B$8,"No",'Pod Commentary'!B100='Data Validation'!$B$9,"Yes",'Pod Commentary'!B100='Data Validation'!$B$10,"Yes",'Pod Commentary'!B100='Data Validation'!$B$11,"-"),"-")} -> No | K100: {=IFERROR(_xlfn.IFS(D100="Garage","No",B100='Data Validation'!$B$3,"Yes",'Pod Commentary'!B100='Data Validation'!$B$4,"No",'Pod Commentary'!B100='Data Validation'!$B$5,"No",'Pod Commentary'!B100='Data Validation'!$B$6,"No",'Pod Commentary'!B100='Data Validation'!$B$7,"No",'Pod Commentary'!B100='Data Validation'!$B$8,"Yes",'Pod Commentary'!B100='Data Validation'!$B$9,"No",'Pod Commentary'!B100='Data Validation'!$B$10,"No",'Pod Commentary'!B100='Data Validation'!$B$11,"No"),"-")} -> Yes | L100: {=IFERROR(_xlfn.IFS(B100='Data Validation'!$B$6,"Yes",B100='Data Validation'!$B$7,"Yes"),"-")} -> - | R100: =IFERROR(IF($B100=$R$1,"1","-")*1,"-") -> 1 | S100: =IFERROR(IF($B100=$S$1,"1","-")*1,"-") -> - | T100: =IFERROR(IF($B100=$T$1,"1","-")*1,"-") -> - | U100: =IFERROR(IF($B100=$U$1,"1","-")*1,"-") -> - | V100: =IFERROR(IF($B100=$V$1,"1","-")*1,"-") -> - | W100: =IFERROR(IF(E100=$W$1,"1","-")*1,"-") -> - | X100: =IFERROR(IF(E100=$X$1,"1","-")*1,"-") -> - | Y100: {=IFERROR(_xlfn.IFS(B100=$U$1,"2",B100=$V$1,"2",J100="Yes","1")*1,"-")} -> - | Z100: =IFERROR(IF(K100="Yes","1","-")*1,"-") -> 1 | AA100: =IFERROR(IF(L100="Yes","1","-")*1,"-") -> - | AB100: =IFERROR(IF(O100="Yes","1","-")*1,"-") -> - | AC100: =IFERROR(IF($B100=$AC$1,"1","-")*1,"-") -> - | AD100: =IFERROR(IF($B100=$AD$1,"1","-")*1,"-") -> - | AE100: =IFERROR(IF($B100=$AE$1,"1","-")*1,"-") -> -
...

Sheet Data Validation
B2: Products | C2: Provision | D2: Mounting Location | E2: Mount | F2: HA/Private | G2: LMS | H2: Power Supply
B3: S7-UCB-3 | C3: Active | D3: On Dwelling | E3: Single | F3: HA | G3: 100A SP+N | H3: Domestic | I3: Yes
B4: S7-UPB-3 | C4: Passive | D4: Remote | E4: Double | F4: Private | G4: 40A TP+N | H4: Dedicated Landlord | I4: No
B5: S7-UPB-3-RO | D5: Garage | E5: - | G5: 60A TP+N | H5: New Metered Supply
B6: T7-S-06 | D6: Remote (Freestanding) | G6: 80A TP+N
B7: T7-S-06-RO | D7: Remote (Wall Mounted) | G7: 100A TP+N
B8: S22-UC-3 | G8: -
B9: S22-UP-3
B10: S22-UP-3-RO
B11: -
