Workbook

Sheet Summary
D1: Completed by Thea Flindall
D2: Plot Commentary for Crest Nicholson
D5: Based upon drawing 3149-A-1005-NM-F SITE LAYOUT
C10: Product Code | D10: Descriptipn | E10: Quantity | F10: Called Off | G10: Remaining
C11: S7-UCB-3 | D11: Solo 3 7kW Universal BE Unit | E11: =SUMIF('Pod Commentary'!B:B,Summary!C11,'Pod Commentary'!R:R) -> 126 | F11: =SUMIF('Pod Commentary'!B:B,Summary!C11,'Pod Commentary'!AB:AB) -> 0 | G11: =E11-F11 -> 126
C12: S7-UPB-3 | D12: Solo 3 7kW Universal Commercial BE Unit | E12: =SUMIF('Pod Commentary'!B:B,Summary!C12,'Pod Commentary'!S:S) -> 6 | F12: =SUMIF('Pod Commentary'!B:B,Summary!C12,'Pod Commentary'!AB:AB) -> 0 | G12: =E12-F12 -> 6
C13: S7-UPB-3-RO | D13: Solo 3 7kW Universal Commercial BE Unit w/ Router | E13: =SUMIF('Pod Commentary'!B:B,Summary!C13,'Pod Commentary'!T:T) -> 3 | F13: =SUMIF('Pod Commentary'!B:B,Summary!C13,'Pod Commentary'!AB:AB) -> 0 | G13: =E13-F13 -> 3
C14: S22-UC-3 | D14: Solo 3 22kW Universal BE Unit | E14: =SUMIF('Pod Commentary'!B:B,Summary!C14,'Pod Commentary'!AC:AC) -> 0 | F14: =SUMIF('Pod Commentary'!B:B,Summary!C14,'Pod Commentary'!AB:AB) -> 0 | G14: =E14-F14 -> 0
C15: S22-UP-3 | D15: Solo 3 22kW Universal Commercial BE Unit | E15: =SUMIF('Pod Commentary'!B:B,Summary!C15,'Pod Commentary'!AD:AD) -> 0 | F15: =SUMIF('Pod Commentary'!B:B,Summary!C15,'Pod Commentary'!AB:AB) -> 0 | G15: =E15-F15 -> 0
C16: S22-UP-3-RO | D16: Solo 3 22kW Universal Commercial BE Unit w/ Router | E16: =SUMIF('Pod Commentary'!B:B,Summary!C16,'Pod Commentary'!AE:AE) -> 0 | F16: =SUMIF('Pod Commentary'!B:B,Summary!C16,'Pod Commentary'!AB:AB) -> 0 | G16: =E16-F16 -> 0
C17: T7-S-06 | D17: Twin 7kW Universal Socket Unit | E17: =SUMIF('Pod Commentary'!B:B,Summary!C17,'Pod Commentary'!U:U) -> 0 | F17: =SUMIF('Pod Commentary'!B:B,Summary!C17,'Pod Commentary'!AB:AB) -> 0 | G17: =E17-F17 -> 0
C18: T7-S-06-RO | D18: Twin 7kW Universal Socket Unit w/ Router | E18: =SUMIF('Pod Commentary'!B:B,Summary!C18,'Pod Commentary'!V:V) -> 0 | F18: =SUMIF('Pod Commentary'!B:B,Summary!C18,'Pod Commentary'!AB:AB) -> 0 | G18: =E18-F18 -> 0
C19: PP-A-210051-1 | D19: Single Sided Free Standing Mount | E19: =SUMIF('Pod Commentary'!E:E,"Single",'Pod Commentary'!W:W) -> 61 | F19: =SUMIF('Pod Commentary'!E:E,"Single",'Pod Commentary'!AB:AB) -> 0 | G19: =E19-F19 -> 61
C20: PP-A-210220-1 | D20: Double Sided Free Standing Mount | E20: =SUMIF('Pod Commentary'!E:E,"Double",'Pod Commentary'!X:X) -> 0 | F20: =SUMIF('Pod Commentary'!E:E,"Double",'Pod Commentary'!AB:AB) -> 0 | G20: =E20-F20 -> 0
C21: PP-A-160021-1 | D21: Solo Unit Lock | E21: =SUMIF('Pod Commentary'!K:K,"Yes",'Pod Commentary'!Z:Z) -> 126 | F21: =SUMIF('Pod Commentary'!K:K,"Yes",'Pod Commentary'!AB:AB) -> 0 | G21: =E21-F21 -> 126
C22: PP-M-130110-7 | D22: Twin Guard Rail | E22: =SUMIF('Pod Commentary'!L:L,"Yes",'Pod Commentary'!AA:AA) -> 0 | F22: =SUMIF('Pod Commentary'!L:L,"Yes",'Pod Commentary'!AB:AB) -> 0 | G22: =E22-F22 -> 0
C23: PN-0010-3 | D23: 3-Year Smart Reporting Licence | E23: =SUMIF('Pod Commentary'!J:J,"Yes",'Pod Commentary'!Y:Y) -> 9 | F23: =SUMIF('Pod Commentary'!J:J,"Yes",'Pod Commentary'!AB:AB) -> 0 | G23: =E23-F23 -> 9

Sheet Pod Commentary
A1: Plot no. | B1: Product Code | C1: EVCP Provision | D1: Mounting Location | E1: Free Standing Mount | F1: Power Supply | G1: Load Management System | H1: Feeder Pillar | I1: HA or Private | J1: Smart Reporting | K1: Key Lock | L1: Guard Rail | M1: Demise Impact - Duct works etc | N1: Notes | O1: Called Off? | P1: Called Off Date | R1: S7-UCB-3 | S1: S7-UPB-3 | T1: S7-UPB-3-RO | U1: T7-S-06 | V1: T7-S-06-RO | W1: Single | X1: Double | Y1: Payment Software | Z1: Key Lock | AA1: Guard Rail | AB1: Call Off | AC1: S22-UC-3 | AD1: S22-UP-3 | AE1: S22-UP-3-RO
A2: 1 | B2: S7-UPB-3 | C2: Active | D2: Remote (Freestanding) | E2: Single | F2: New Metered Supply | G2: - | H2: FP1 | J2: {=IFERROR(_xlfn.IFS('Pod Commentary'!B2='Data Validation'!$B$3,"No",'Pod Commentary'!B2='Data Validation'!$B$4,"Yes",'Pod Commentary'!B2='Data Validation'!$B$5,"Yes",'Pod Commentary'!B2='Data Validation'!$B$6,"Yes",'Pod Commentary'!B2='Data Validation'!$B$7,"Yes",'Pod Commentary'!B2='Data Validation'!$B$8,"No",'Pod Commentary'!B2='Data Validation'!$B$9,"Yes",'Pod Commentary'!B2='Data Validation'!$B$10,"Yes",'Pod Commentary'!B2='Data Validation'!$B$11,"-"),"-")} -> Yes | K2: {=IFERROR(_xlfn.IFS(D2="Garage","No",B2='Data Validation'!$B$3,"Yes",'Pod Commentary'!B2='Data Validation'!$B$4,"No",'Pod Commentary'!B2='Data Validation'!$B$5,"No",'Pod Commentary'!B2='Data Validation'!$B$6,"No",'Pod Commentary'!B2='Data Validation'!$B$7,"No",'Pod Commentary'!B2='Data Validation'!$B$8,"Yes",'Pod Commentary'!B2='Data Validation'!$B$9,"No",'Pod Commentary'!B2='Data Validation'!$B$10,"No",'Pod Commentary'!B2='Data Validation'!$B$11,"No"),"-")} -> No | L2: {=IFERROR(_xlfn.IFS(B2='Data Validation'!$B$6,"Yes",B2='Data Validation'!$B$7,"Yes"),"-")} -> - | M2: Yes | N2: Ducting from feeder pillar power supply to charger location | R2: =IFERROR(IF($B2=$R$1,"1","-")*1,"-") -> - | S2: =IFERROR(IF($B2=$S$1,"1","-")*1,"-") -> 1 | T2: =IFERROR(IF($B2=$T$1,"1","-")*1,"-") -> - | U2: =IFERROR(IF($B2=$U$1,"1","-")*1,"-") -> - | V2: =IFERROR(IF($B2=$V$1,"1","-")*1,"-") -> - | W2: =IFERROR(IF(E2=$W$1,"1","-")*1,"-") -> 1 | X2: =IFERROR(IF(E2=$X$1,"1","-")*1,"-") -> - | Y2: {=IFERROR(_xlfn.IFS(B2=$U$1,"2",B2=$V$1,"2",J2="Yes","1")*1,"-")} -> 1 | Z2: =IFERROR(IF(K2="Yes","1","-")*1,"-") -> - | AA2: =IFERROR(IF(L2="Yes","1","-")*1,"-") -> - | AB2: =IFERROR(IF(O2="Yes","1","-")*1,"-") -> - | AC2: =IFERROR(IF($B2=$AC$1,"1","-")*1,"-") -> - | AD2: =IFERROR(IF($B2=$AD$1,"1","-")*1,"-") -> - | AE2: =IFERROR(IF($B2=$AE$1,"1","-")*1,"-") -> -
A3: 2 | B3: S7-UPB-3 | C3: Active | D3: Remote (Freestanding) | E3: Single | F3: New Metered Supply | G3: - | H3: FP1 | J3: {=IFERROR(_xlfn.IFS('Pod Commentary'!B3='Data Validation'!$B$3,"No",'Pod Commentary'!B3='Data Validation'!$B$4,"Yes",'Pod Commentary'!B3='Data Validation'!$B$5,"Yes",'Pod Commentary'!B3='Data Validation'!$B$6,"Yes",'Pod Commentary'!B3='Data Validation'!$B$7,"Yes",'Pod Commentary'!B3='Data Validation'!$B$8,"No",'Pod Commentary'!B3='Data Validation'!$B$9,"Yes",'Pod Commentary'!B3='Data Validation'!$B$10,"Yes",'Pod Commentary'!B3='Data Validation'!$B$11,"-"),"-")} -> Yes | K3: {=IFERROR(_xlfn.IFS(D3="Garage","No",B3='Data Validation'!$B$3,"Yes",'Pod Commentary'!B3='Data Validation'!$B$4,"No",'Pod Commentary'!B3='Data Validation'!$B$5,"No",'Pod Commentary'!B3='Data Validation'!$B$6,"No",'Pod Commentary'!B3='Data Validation'!$B$7,"No",'Pod Commentary'!B3='Data Validation'!$B$8,"Yes",'Pod Commentary'!B3='Data Validation'!$B$9,"No",'Pod Commentary'!B3='Data Validation'!$B$10,"No",'Pod Commentary'!B3='Data Validation'!$B$11,"No"),"-")} -> No | L3: {=IFERROR(_xlfn.IFS(B3='Data Validation'!$B$6,"Yes",B3='Data Validation'!$B$7,"Yes"),"-")} -> - | M3: Yes | N3: Ducting from feeder pillar power supply to charger location | R3: =IFERROR(IF($B3=$R$1,"1","-")*1,"-") -> - | S3: =IFERROR(IF($B3=$S$1,"1","-")*1,"-") -> 1 | T3: =IFERROR(IF($B3=$T$1,"1","-")*1,"-") -> - | U3: =IFERROR(IF($B3=$U$1,"1","-")*1,"-") -> - | V3: =IFERROR(IF($B3=$V$1,"1","-")*1,"-") -> - | W3: =IFERROR(IF(E3=$W$1,"1","-")*1,"-") -> 1 | X3: =IFERROR(IF(E3=$X$1,"1","-")*1,"-") -> - | Y3: {=IFERROR(_xlfn.IFS(B3=$U$1,"2",B3=$V$1,"2",J3="Yes","1")*1,"-")} -> 1 | Z3: =IFERROR(IF(K3="Yes","1","-")*1,"-") -> - | AA3: =IFERROR(IF(L3="Yes","1","-")*1,"-") -> - | AB3: =IFERROR(IF(O3="Yes","1","-")*1,"-") -> - | AC3: =IFERROR(IF($B3=$AC$1,"1","-")*1,"-") -> - | AD3: =IFERROR(IF($B3=$AD$1,"1","-")*1,"-") -> - | AE3: =IFERROR(IF($B3=$AE$1,"1","-")*1,"-") -> -
A4: 3 | B4: S7-UPB-3-RO | C4: Active | D4: Remote (Freestanding) | E4: Single | F4: New Metered Supply | G4: - | H4: FP1 | J4: {=IFERROR(_xlfn.IFS('Pod Commentary'!B4='Data Validation'!$B$3,"No",'Pod Commentary'!B4='Data Validation'!$B$4,"Yes",'Pod Commentary'!B4='Data Validation'!$B$5,"Yes",'Pod Commentary'!B4='Data Validation'!$B$6,"Yes",'Pod Commentary'!B4='Data Validation'!$B$7,"Yes",'Pod Commentary'!B4='Data Validation'!$B$8,"No",'Pod Commentary'!B4='Data Validation'!$B$9,"Yes",'Pod Commentary'!B4='Data Validation'!$B$10,"Yes",'Pod Commentary'!B4='Data Validation'!$B$11,"-"),"-")} -> Yes | K4: {=IFERROR(_xlfn.IFS(D4="Garage","No",B4='Data Validation'!$B$3,"Yes",'Pod Commentary'!B4='Data Validation'!$B$4,"No",'Pod Commentary'!B4='Data Validation'!$B$5,"No",'Pod Commentary'!B4='Data Validation'!$B$6,"No",'Pod Commentary'!B4='Data Validation'!$B$7,"No",'Pod Commentary'!B4='Data Validation'!$B$8,"Yes",'Pod Commentary'!B4='Data Validation'!$B$9,"No",'Pod Commentary'!B4='Data Validation'!$B$10,"No",'Pod Commentary'!B4='Data Validation'!$B$11,"No"),"-")} -> No | L4: {=IFERROR(_xlfn.IFS(B4='Data Validation'!$B$6,"Yes",B4='Data Validation'!$B$7,"Yes"),"-")} -> - | M4: Yes | N4: Ducting from feeder pillar power supply to charger location | R4: =IFERROR(IF($B4=$R$1,"1","-")*1,"-") -> - | S4: =IFERROR(IF($B4=$S$1,"1","-")*1,"-") -> - | T4: =IFERROR(IF($B4=$T$1,"1","-")*1,"-") -> 1 | U4: =IFERROR(IF($B4=$U$1,"1","-")*1,"-") -> - | V4: =IFERROR(IF($B4=$V$1,"1","-")*1,"-") -> - | W4: =IFERROR(IF(E4=$W$1,"1","-")*1,"-") -> 1 | X4: =IFERROR(IF(E4=$X$1,"1","-")*1,"-") -> - | Y4: {=IFERROR(_xlfn.IFS(B4=$U$1,"2",B4=$V$1,"2",J4="Yes","1")*1,"-")} -> 1 | Z4: =IFERROR(IF(K4="Yes","1","-")*1,"-") -> - | AA4: =IFERROR(IF(L4="Yes","1","-")*1,"-") -> - | AB4: =IFERROR(IF(O4="Yes","1","-")*1,"-") -> - | AC4: =IFERROR(IF($B4=$AC$1,"1","-")*1,"-") -> - | AD4: =IFERROR(IF($B4=$AD$1,"1","-")*1,"-") -> - | AE4: =IFERROR(IF($B4=$AE$1,"1","-")*1,"-") -> -
A5: 4 | B5: S7-UPB-3 | C5: Active | D5: Remote (Freestanding) | E5: Single | F5: New Metered Supply | G5: - | H5: FP1 | J5: {=IFERROR(_xlfn.IFS('Pod Commentary'!B5='Data Validation'!$B$3,"No",'Pod Commentary'!B5='Data Validation'!$B$4,"Yes",'Pod Commentary'!B5='Data Validation'!$B$5,"Yes",'Pod Commentary'!B5='Data Validation'!$B$6,"Yes",'Pod Commentary'!B5='Data Validation'!$B$7,"Yes",'Pod Commentary'!B5='Data Validation'!$B$8,"No",'Pod Commentary'!B5='Data Validation'!$B$9,"Yes",'Pod Commentary'!B5='Data Validation'!$B$10,"Yes",'Pod Commentary'!B5='Data Validation'!$B$11,"-"),"-")} -> Yes | K5: {=IFERROR(_xlfn.IFS(D5="Garage","No",B5='Data Validation'!$B$3,"Yes",'Pod Commentary'!B5='Data Validation'!$B$4,"No",'Pod Commentary'!B5='Data Validation'!$B$5,"No",'Pod Commentary'!B5='Data Validation'!$B$6,"No",'Pod Commentary'!B5='Data Validation'!$B$7,"No",'Pod Commentary'!B5='Data Validation'!$B$8,"Yes",'Pod Commentary'!B5='Data Validation'!$B$9,"No",'Pod Commentary'!B5='Data Validation'!$B$10,"No",'Pod Commentary'!B5='Data Validation'!$B$11,"No"),"-")} -> No | L5: {=IFERROR(_xlfn.IFS(B5='Data Validation'!$B$6,"Yes",B5='Data Validation'!$B$7,"Yes"),"-")} -> - | M5: Yes | N5: Ducting from feeder pillar power supply to charger location | R5: =IFERROR(IF($B5=$R$1,"1","-")*1,"-") -> - | S5: =IFERROR(IF($B5=$S$1,"1","-")*1,"-") -> 1 | T5: =IFERROR(IF($B5=$T$1,"1","-")*1,"-") -> - | U5: =IFERROR(IF($B5=$U$1,"1","-")*1,"-") -> - | V5: =IFERROR(IF($B5=$V$1,"1","-")*1,"-") -> - | W5: =IFERROR(IF(E5=$W$1,"1","-")*1,"-") -> 1 | X5: =IFERROR(IF(E5=$X$1,"1","-")*1,"-") -> - | Y5: {=IFERROR(_xlfn.IFS(B5=$U$1,"2",B5=$V$1,"2",J5="Yes","1")*1,"-")} -> 1 | Z5: =IFERROR(IF(K5="Yes","1","-")*1,"-") -> - | AA5: =IFERROR(IF(L5="Yes","1","-")*1,"-") -> - | AB5: =IFERROR(IF(O5="Yes","1","-")*1,"-") -> - | AC5: =IFERROR(IF($B5=$AC$1,"1","-")*1,"-") -> - | AD5: =IFERROR(IF($B5=$AD$1,"1","-")*1,"-") -> - | AE5: =IFERROR(IF($B5=$AE$1,"1","-")*1,"-") -> -
A6: 5 | B6: S7-UPB-3 | C6: Active | D6: Remote (Freestanding) | E6: Single | F6: New Metered Supply | G6: - | H6: FP1 | J6: {=IFERROR(_xlfn.IFS('Pod Commentary'!B6='Data Validation'!$B$3,"No",'Pod Commentary'!B6='Data Validation'!$B$4,"Yes",'Pod Commentary'!B6='Data Validation'!$B$5,"Yes",'Pod Commentary'!B6='Data Validation'!$B$6,"Yes",'Pod Commentary'!B6='Data Validation'!$B$7,"Yes",'Pod Commentary'!B6='Data Validation'!$B$8,"No",'Pod Commentary'!B6='Data Validation'!$B$9,"Yes",'Pod Commentary'!B6='Data Validation'!$B$10,"Yes",'Pod Commentary'!B6='Data Validation'!$B$11,"-"),"-")} -> Yes | K6: {=IFERROR(_xlfn.IFS(D6="Garage","No",B6='Data Validation'!$B$3,"Yes",'Pod Commentary'!B6='Data Validation'!$B$4,"No",'Pod Commentary'!B6='Data Validation'!$B$5,"No",'Pod Commentary'!B6='Data Validation'!$B$6,"No",'Pod Commentary'!B6='Data Validation'!$B$7,"No",'Pod Commentary'!B6='Data Validation'!$B$8,"Yes",'Pod Commentary'!B6='Data Validation'!$B$9,"No",'Pod Commentary'!B6='Data Validation'!$B$10,"No",'Pod Commentary'!B6='Data Validation'!$B$11,"No"),"-")} -> No | L6: {=IFERROR(_xlfn.IFS(B6='Data Validation'!$B$6,"Yes",B6='Data Validation'!$B$7,"Yes"),"-")} -> - | M6: Yes | N6: Ducting from feeder pillar power supply to charger location | R6: =IFERROR(IF($B6=$R$1,"1","-")*1,"-") -> - | S6: =IFERROR(IF($B6=$S$1,"1","-")*1,"-") -> 1 | T6: =IFERROR(IF($B6=$T$1,"1","-")*1,"-") -> - | U6: =IFERROR(IF($B6=$U$1,"1","-")*1,"-") -> - | V6: =IFERROR(IF($B6=$V$1,"1","-")*1,"-") -> - | W6: =IFERROR(IF(E6=$W$1,"1","-")*1,"-") -> 1 | X6: =IFERROR(IF(E6=$X$1,"1","-")*1,"-") -> - | Y6: {=IFERROR(_xlfn.IFS(B6=$U$1,"2",B6=$V$1,"2",J6="Yes","1")*1,"-")} -> 1 | Z6: =IFERROR(IF(K6="Yes","1","-")*1,"-") -> - | AA6: =IFERROR(IF(L6="Yes","1","-")*1,"-") -> - | AB6: =IFERROR(IF(O6="Yes","1","-")*1,"-") -> - | AC6: =IFERROR(IF($B6=$AC$1,"1","-")*1,"-") -> - | AD6: =IFERROR(IF($B6=$AD$1,"1","-")*1,"-") -> - | AE6: =IFERROR(IF($B6=$AE$1,"1","-")*1,"-") -> -
A7: 6 | B7: S7-UPB-3-RO | C7: Active | D7: Remote (Freestanding) | E7: Single | F7: New Metered Supply | G7: - | H7: FP1 | J7: {=IFERROR(_xlfn.IFS('Pod Commentary'!B7='Data Validation'!$B$3,"No",'Pod Commentary'!B7='Data Validation'!$B$4,"Yes",'Pod Commentary'!B7='Data Validation'!$B$5,"Yes",'Pod Commentary'!B7='Data Validation'!$B$6,"Yes",'Pod Commentary'!B7='Data Validation'!$B$7,"Yes",'Pod Commentary'!B7='Data Validation'!$B$8,"No",'Pod Commentary'!B7='Data Validation'!$B$9,"Yes",'Pod Commentary'!B7='Data Validation'!$B$10,"Yes",'Pod Commentary'!B7='Data Validation'!$B$11,"-"),"-")} -> Yes | K7: {=IFERROR(_xlfn.IFS(D7="Garage","No",B7='Data Validation'!$B$3,"Yes",'Pod Commentary'!B7='Data Validation'!$B$4,"No",'Pod Commentary'!B7='Data Validation'!$B$5,"No",'Pod Commentary'!B7='Data Validation'!$B$6,"No",'Pod Commentary'!B7='Data Validation'!$B$7,"No",'Pod Commentary'!B7='Data Validation'!$B$8,"Yes",'Pod Commentary'!B7='Data Validation'!$B$9,"No",'Pod Commentary'!B7='Data Validation'!$B$10,"No",'Pod Commentary'!B7='Data Validation'!$B$11,"No"),"-")} -> No | L7: {=IFERROR(_xlfn.IFS(B7='Data Validation'!$B$6,"Yes",B7='Data Validation'!$B$7,"Yes"),"-")} -> - | M7: Yes | N7: Ducting from feeder pillar power supply to charger location | R7: =IFERROR(IF($B7=$R$1,"1","-")*1,"-") -> - | S7: =IFERROR(IF($B7=$S$1,"1","-")*1,"-") -> - | T7: =IFERROR(IF($B7=$T$1,"1","-")*1,"-") -> 1 | U7: =IFERROR(IF($B7=$U$1,"1","-")*1,"-") -> - | V7: =IFERROR(IF($B7=$V$1,"1","-")*1,"-") -> - | W7: =IFERROR(IF(E7=$W$1,"1","-")*1,"-") -> 1 | X7: =IFERROR(IF(E7=$X$1,"1","-")*1,"-") -> - | Y7: {=IFERROR(_xlfn.IFS(B7=$U$1,"2",B7=$V$1,"2",J7="Yes","1")*1,"-")} -> 1 | Z7: =IFERROR(IF(K7="Yes","1","-")*1,"-") -> - | AA7: =IFERROR(IF(L7="Yes","1","-")*1,"-") -> - | AB7: =IFERROR(IF(O7="Yes","1","-")*1,"-") -> - | AC7: =IFERROR(IF($B7=$AC$1,"1","-")*1,"-") -> - | AD7: =IFERROR(IF($B7=$AD$1,"1","-")*1,"-") -> - | AE7: =IFERROR(IF($B7=$AE$1,"1","-")*1,"-") -> -
A8: 7 | B8: S7-UPB-3 | C8: Active | D8: Remote (Freestanding) | E8: Single | F8: New Metered Supply | G8: - | H8: FP1 | J8: {=IFERROR(_xlfn.IFS('Pod Commentary'!B8='Data Validation'!$B$3,"No",'Pod Commentary'!B8='Data Validation'!$B$4,"Yes",'Pod Commentary'!B8='Data Validation'!$B$5,"Yes",'Pod Commentary'!B8='Data Validation'!$B$6,"Yes",'Pod Commentary'!B8='Data Validation'!$B$7,"Yes",'Pod Commentary'!B8='Data Validation'!$B$8,"No",'Pod Commentary'!B8='Data Validation'!$B$9,"Yes",'Pod Commentary'!B8='Data Validation'!$B$10,"Yes",'Pod Commentary'!B8='Data Validation'!$B$11,"-"),"-")} -> Yes | K8: {=IFERROR(_xlfn.IFS(D8="Garage","No",B8='Data Validation'!$B$3,"Yes",'Pod Commentary'!B8='Data Validation'!$B$4,"No",'Pod Commentary'!B8='Data Validation'!$B$5,"No",'Pod Commentary'!B8='Data Validation'!$B$6,"No",'Pod Commentary'!B8='Data Validation'!$B$7,"No",'Pod Commentary'!B8='Data Validation'!$B$8,"Yes",'Pod Commentary'!B8='Data Validation'!$B$9,"No",'Pod Commentary'!B8='Data Validation'!$B$10,"No",'Pod Commentary'!B8='Data Validation'!$B$11,"No"),"-")} -> No | L8: {=IFERROR(_xlfn.IFS(B8='Data Validation'!$B$6,"Yes",B8='Data Validation'!$B$7,"Yes"),"-")} -> - | M8: Yes | N8: Ducting from feeder pillar power supply to charger location | R8: =IFERROR(IF($B8=$R$1,"1","-")*1,"-") -> - | S8: =IFERROR(IF($B8=$S$1,"1","-")*1,"-") -> 1 | T8: =IFERROR(IF($B8=$T$1,"1","-")*1,"-") -> - | U8: =IFERROR(IF($B8=$U$1,"1","-")*1,"-") -> - | V8: =IFERROR(IF($B8=$V$1,"1","-")*1,"-") -> - | W8: =IFERROR(IF(E8=$W$1,"1","-")*1,"-") -> 1 | X8: =IFERROR(IF(E8=$X$1,"1","-")*1,"-") -> - | Y8: {=IFERROR(_xlfn.IFS(B8=$U$1,"2",B8=$V$1,"2",J8="Yes","1")*1,"-")} -> 1 | Z8: =IFERROR(IF(K8="Yes","1","-")*1,"-") -> - | AA8: =IFERROR(IF(L8="Yes","1","-")*1,"-") -> - | AB8: =IFERROR(IF(O8="Yes","1","-")*1,"-") -> - | AC8: =IFERROR(IF($B8=$AC$1,"1","-")*1,"-") -> - | AD8: =IFERROR(IF($B8=$AD$1,"1","-")*1,"-") -> - | AE8: =IFERROR(IF($B8=$AE$1,"1","-")*1,"-") -> -
A9: 8 | B9: S7-UPB-3-RO | C9: Active | D9: Remote (Freestanding) | E9: Single | F9: New Metered Supply | G9: - | H9: FP1 | J9: {=IFERROR(_xlfn.IFS('Pod Commentary'!B9='Data Validation'!$B$3,"No",'Pod Commentary'!B9='Data Validation'!$B$4,"Yes",'Pod Commentary'!B9='Data Validation'!$B$5,"Yes",'Pod Commentary'!B9='Data Validation'!$B$6,"Yes",'Pod Commentary'!B9='Data Validation'!$B$7,"Yes",'Pod Commentary'!B9='Data Validation'!$B$8,"No",'Pod Commentary'!B9='Data Validation'!$B$9,"Yes",'Pod Commentary'!B9='Data Validation'!$B$10,"Yes",'Pod Commentary'!B9='Data Validation'!$B$11,"-"),"-")} -> Yes | K9: {=IFERROR(_xlfn.IFS(D9="Garage","No",B9='Data Validation'!$B$3,"Yes",'Pod Commentary'!B9='Data Validation'!$B$4,"No",'Pod Commentary'!B9='Data Validation'!$B$5,"No",'Pod Commentary'!B9='Data Validation'!$B$6,"No",'Pod Commentary'!B9='Data Validation'!$B$7,"No",'Pod Commentary'!B9='Data Validation'!$B$8,"Yes",'Pod Commentary'!B9='Data Validation'!$B$9,"No",'Pod Commentary'!B9='Data Validation'!$B$10,"No",'Pod Commentary'!B9='Data Validation'!$B$11,"No"),"-")} -> No | L9: {=IFERROR(_xlfn.IFS(B9='Data Validation'!$B$6,"Yes",B9='Data Validation'!$B$7,"Yes"),"-")} -> - | M9: Yes | N9: Ducting from feeder pillar power supply to charger location | R9: =IFERROR(IF($B9=$R$1,"1","-")*1,"-") -> - | S9: =IFERROR(IF($B9=$S$1,"1","-")*1,"-") -> - | T9: =IFERROR(IF($B9=$T$1,"1","-")*1,"-") -> 1 | U9: =IFERROR(IF($B9=$U$1,"1","-")*1,"-") -> - | V9: =IFERROR(IF($B9=$V$1,"1","-")*1,"-") -> - | W9: =IFERROR(IF(E9=$W$1,"1","-")*1,"-") -> 1 | X9: =IFERROR(IF(E9=$X$1,"1","-")*1,"-") -> - | Y9: {=IFERROR(_xlfn.IFS(B9=$U$1,"2",B9=$V$1,"2",J9="Yes","1")*1,"-")} -> 1 | Z9: =IFERROR(IF(K9="Yes","1","-")*1,"-") -> - | AA9: =IFERROR(IF(L9="Yes","1","-")*1,"-") -> - | AB9: =IFERROR(IF(O9="Yes","1","-")*1,"-") -> - | AC9: =IFERROR(IF($B9=$AC$1,"1","-")*1,"-") -> - | AD9: =IFERROR(IF($B9=$AD$1,"1","-")*1,"-") -> - | AE9: =IFERROR(IF($B9=$AE$1,"1","-")*1,"-") -> -
A10: 9 | B10: S7-UPB-3 | C10: Active | D10: Remote (Freestanding) | E10: Single | F10: New Metered Supply | G10: - | H10: FP1 | J10: {=IFERROR(_xlfn.IFS('Pod Commentary'!B10='Data Validation'!$B$3,"No",'Pod Commentary'!B10='Data Validation'!$B$4,"Yes",'Pod Commentary'!B10='Data Validation'!$B$5,"Yes",'Pod Commentary'!B10='Data Validation'!$B$6,"Yes",'Pod Commentary'!B10='Data Validation'!$B$7,"Yes",'Pod Commentary'!B10='Data Validation'!$B$8,"No",'Pod Commentary'!B10='Data Validation'!$B$9,"Yes",'Pod Commentary'!B10='Data Validation'!$B$10,"Yes",'Pod Commentary'!B10='Data Validation'!$B$11,"-"),"-")} -> Yes | K10: {=IFERROR(_xlfn.IFS(D10="Garage","No",B10='Data Validation'!$B$3,"Yes",'Pod Commentary'!B10='Data Validation'!$B$4,"No",'Pod Commentary'!B10='Data Validation'!$B$5,"No",'Pod Commentary'!B10='Data Validation'!$B$6,"No",'Pod Commentary'!B10='Data Validation'!$B$7,"No",'Pod Commentary'!B10='Data Validation'!$B$8,"Yes",'Pod Commentary'!B10='Data Validation'!$B$9,"No",'Pod Commentary'!B10='Data Validation'!$B$10,"No",'Pod Commentary'!B10='Data Validation'!$B$11,"No"),"-")} -> No | L10: {=IFERROR(_xlfn.IFS(B10='Data Validation'!$B$6,"Yes",B10='Data Validation'!$B$7,"Yes"),"-")} -> - | M10: Yes | N10: Ducting from feeder pillar power supply to charger location | R10: =IFERROR(IF($B10=$R$1,"1","-")*1,"-") -> - | S10: =IFERROR(IF($B10=$S$1,"1","-")*1,"-") -> 1 | T10: =IFERROR(IF($B10=$T$1,"1","-")*1,"-") -> - | U10: =IFERROR(IF($B10=$U$1,"1","-")*1,"-") -> - | V10: =IFERROR(IF($B10=$V$1,"1","-")*1,"-") -> - | W10: =IFERROR(IF(E10=$W$1,"1","-")*1,"-") -> 1 | X10: =IFERROR(IF(E10=$X$1,"1","-")*1,"-") -> - | Y10: {=IFERROR(_xlfn.IFS(B10=$U$1,"2",B10=$V$1,"2",J10="Yes","1")*1,"-")} -> 1 | Z10: =IFERROR(IF(K10="Yes","1","-")*1,"-") -> - | AA10: =IFERROR(IF(L10="Yes","1","-")*1,"-") -> - | AB10: =IFERROR(IF(O10="Yes","1","-")*1,"-") -> - | AC10: =IFERROR(IF($B10=$AC$1,"1","-")*1,"-") -> - | AD10: =IFERROR(IF($B10=$AD$1,"1","-")*1,"-") -> - | AE10: =IFERROR(IF($B10=$AE$1,"1","-")*1,"-") -> -
A11: 10 | B11: S7-UCB-3 | C11: Active | D11: Remote (Freestanding) | E11: Single | F11: Domestic | G11: - | H11: - | J11: {=IFERROR(_xlfn.IFS('Pod Commentary'!B11='Data Validation'!$B$3,"No",'Pod Commentary'!B11='Data Validation'!$B$4,"Yes",'Pod Commentary'!B11='Data Validation'!$B$5,"Yes",'Pod Commentary'!B11='Data Validation'!$B$6,"Yes",'Pod Commentary'!B11='Data Validation'!$B$7,"Yes",'Pod Commentary'!B11='Data Validation'!$B$8,"No",'Pod Commentary'!B11='Data Validation'!$B$9,"Yes",'Pod Commentary'!B11='Data Validation'!$B$10,"Yes",'Pod Commentary'!B11='Data Validation'!$B$11,"-"),"-")} -> No | K11: {=IFERROR(_xlfn.IFS(D11="Garage","No",B11='Data Validation'!$B$3,"Yes",'Pod Commentary'!B11='Data Validation'!$B$4,"No",'Pod Commentary'!B11='Data Validation'!$B$5,"No",'Pod Commentary'!B11='Data Validation'!$B$6,"No",'Pod Commentary'!B11='Data Validation'!$B$7,"No",'Pod Commentary'!B11='Data Validation'!$B$8,"Yes",'Pod Commentary'!B11='Data Validation'!$B$9,"No",'Pod Commentary'!B11='Data Validation'!$B$10,"No",'Pod Commentary'!B11='Data Validation'!$B$11,"No"),"-")} -> Yes | L11: {=IFERROR(_xlfn.IFS(B11='Data Validation'!$B$6,"Yes",B11='Data Validation'!$B$7,"Yes"),"-")} -> - | M11: Yes | N11: Ducting from dwelling's power supply to charger location | R11: =IFERROR(IF($B11=$R$1,"1","-")*1,"-") -> 1 | S11: =IFERROR(IF($B11=$S$1,"1","-")*1,"-") -> - | T11: =IFERROR(IF($B11=$T$1,"1","-")*1,"-") -> - | U11: =IFERROR(IF($B11=$U$1,"1","-")*1,"-") -> - | V11: =IFERROR(IF($B11=$V$1,"1","-")*1,"-") -> - | W11: =IFERROR(IF(E11=$W$1,"1","-")*1,"-") -> 1 | X11: =IFERROR(IF(E11=$X$1,"1","-")*1,"-") -> - | Y11: {=IFERROR(_xlfn.IFS(B11=$U$1,"2",B11=$V$1,"2",J11="Yes","1")*1,"-")} -> - | Z11: =IFERROR(IF(K11="Yes","1","-")*1,"-") -> 1 | AA11: =IFERROR(IF(L11="Yes","1","-")*1,"-") -> - | AB11: =IFERROR(IF(O11="Yes","1","-")*1,"-") -> - | AC11: =IFERROR(IF($B11=$AC$1,"1","-")*1,"-") -> - | AD11: =IFERROR(IF($B11=$AD$1,"1","-")*1,"-") -> - | AE11: =IFERROR(IF($B11=$AE$1,"1","-")*1,"-") -> -
A12: 11 | B12: S7-UCB-3 | C12: Active | D12: Remote (Wall Mounted) | E12: - | F12: Domestic | G12: - | H12: - | J12: {=IFERROR(_xlfn.IFS('Pod Commentary'!B12='Data Validation'!$B$3,"No",'Pod Commentary'!B12='Data Validation'!$B$4,"Yes",'Pod Commentary'!B12='Data Validation'!$B$5,"Yes",'Pod Commentary'!B12='Data Validation'!$B$6,"Yes",'Pod Commentary'!B12='Data Validation'!$B$7,"Yes",'Pod Commentary'!B12='Data Validation'!$B$8,"No",'Pod Commentary'!B12='Data Validation'!$B$9,"Yes",'Pod Commentary'!B12='Data Validation'!$B$10,"Yes",'Pod Commentary'!B12='Data Validation'!$B$11,"-"),"-")} -> No | K12: {=IFERROR(_xlfn.IFS(D12="Garage","No",B12='Data Validation'!$B$3,"Yes",'Pod Commentary'!B12='Data Validation'!$B$4,"No",'Pod Commentary'!B12='Data Validation'!$B$5,"No",'Pod Commentary'!B12='Data Validation'!$B$6,"No",'Pod Commentary'!B12='Data Validation'!$B$7,"No",'Pod Commentary'!B12='Data Validation'!$B$8,"Yes",'Pod Commentary'!B12='Data Validation'!$B$9,"No",'Pod Commentary'!B12='Data Validation'!$B$10,"No",'Pod Commentary'!B12='Data Validation'!$B$11,"No"),"-")} -> Yes | L12: {=IFERROR(_xlfn.IFS(B12='Data Validation'!$B$6,"Yes",B12='Data Validation'!$B$7,"Yes"),"-")} -> - | M12: Yes | N12: Ducting from dwelling's power supply to charger location | R12: =IFERROR(IF($B12=$R$1,"1","-")*1,"-") -> 1 | S12: =IFERROR(IF($B12=$S$1,"1","-")*1,"-") -> - | T12: =IFERROR(IF($B12=$T$1,"1","-")*1,"-") -> - | U12: =IFERROR(IF($B12=$U$1,"1","-")*1,"-") -> - | V12: =IFERROR(IF($B12=$V$1,"1","-")*1,"-") -> - | W12: =IFERROR(IF(E12=$W$1,"1","-")*1,"-") -> - | X12: =IFERROR(IF(E12=$X$1,"1","-")*1,"-") -> - | Y12: {=IFERROR(_xlfn.IFS(B12=$U$1,"2",B12=$V$1,"2",J12="Yes","1")*1,"-")} -> - | Z12: =IFERROR(IF(K12="Yes","1","-")*1,"-") -> 1 | AA12: =IFERROR(IF(L12="Yes","1","-")*1,"-") -> - | AB12: =IFERROR(IF(O12="Yes","1","-")*1,"-") -> - | AC12: =IFERROR(IF($B12=$AC$1,"1","-")*1,"-") -> - | AD12: =IFERROR(IF($B12=$AD$1,"1","-")*1,"-") -> - | AE12: =IFERROR(IF($B12=$AE$1,"1","-")*1,"-") -> -
A13: 12 | B13: S7-UCB-3 | C13: Active | D13: On Dwelling | E13: - | F13: Domestic | G13: - | H13: - | J13: {=IFERROR(_xlfn.IFS('Pod Commentary'!B13='Data Validation'!$B$3,"No",'Pod Commentary'!B13='Data Validation'!$B$4,"Yes",'Pod Commentary'!B13='Data Validation'!$B$5,"Yes",'Pod Commentary'!B13='Data Validation'!$B$6,"Yes",'Pod Commentary'!B13='Data Validation'!$B$7,"Yes",'Pod Commentary'!B13='Data Validation'!$B$8,"No",'Pod Commentary'!B13='Data Validation'!$B$9,"Yes",'Pod Commentary'!B13='Data Validation'!$B$10,"Yes",'Pod Commentary'!B13='Data Validation'!$B$11,"-"),"-")} -> No | K13: {=IFERROR(_xlfn.IFS(D13="Garage","No",B13='Data Validation'!$B$3,"Yes",'Pod Commentary'!B13='Data Validation'!$B$4,"No",'Pod Commentary'!B13='Data Validation'!$B$5,"No",'Pod Commentary'!B13='Data Validation'!$B$6,"No",'Pod Commentary'!B13='Data Validation'!$B$7,"No",'Pod Commentary'!B13='Data Validation'!$B$8,"Yes",'Pod Commentary'!B13='Data Validation'!$B$9,"No",'Pod Commentary'!B13='Data Validation'!$B$10,"No",'Pod Commentary'!B13='Data Validation'!$B$11,"No"),"-")} -> Yes | L13: {=IFERROR(_xlfn.IFS(B13='Data Validation'!$B$6,"Yes",B13='Data Validation'!$B$7,"Yes"),"-")} -> - | R13: =IFERROR(IF($B13=$R$1,"1","-")*1,"-") -> 1 | S13: =IFERROR(IF($B13=$S$1,"1","-")*1,"-") -> - | T13: =IFERROR(IF($B13=$T$1,"1","-")*1,"-") -> - | U13: =IFERROR(IF($B13=$U$1,"1","-")*1,"-") -> - | V13: =IFERROR(IF($B13=$V$1,"1","-")*1,"-") -> - | W13: =IFERROR(IF(E13=$W$1,"1","-")*1,"-") -> - | X13: =IFERROR(IF(E13=$X$1,"1","-")*1,"-") -> - | Y13: {=IFERROR(_xlfn.IFS(B13=$U$1,"2",B13=$V$1,"2",J13="Yes","1")*1,"-")} -> - | Z13: =IFERROR(IF(K13="Yes","1","-")*1,"-") -> 1 | AA13: =IFERROR(IF(L13="Yes","1","-")*1,"-") -> - | AB13: =IFERROR(IF(O13="Yes","1","-")*1,"-") -> - | AC13: =IFERROR(IF($B13=$AC$1,"1","-")*1,"-") -> - | AD13: =IFERROR(IF($B13=$AD$1,"1","-")*1,"-") -> - | AE13: =IFERROR(IF($B13=$AE$1,"1","-")*1,"-") -> -
A14: 13 | B14: S7-UCB-3 | C14: Active | D14: On Dwelling | E14: - | F14: Domestic | G14: - | H14: - | J14: {=IFERROR(_xlfn.IFS('Pod Commentary'!B14='Data Validation'!$B$3,"No",'Pod Commentary'!B14='Data Validation'!$B$4,"Yes",'Pod Commentary'!B14='Data Validation'!$B$5,"Yes",'Pod Commentary'!B14='Data Validation'!$B$6,"Yes",'Pod Commentary'!B14='Data Validation'!$B$7,"Yes",'Pod Commentary'!B14='Data Validation'!$B$8,"No",'Pod Commentary'!B14='Data Validation'!$B$9,"Yes",'Pod Commentary'!B14='Data Validation'!$B$10,"Yes",'Pod Commentary'!B14='Data Validation'!$B$11,"-"),"-")} -> No | K14: {=IFERROR(_xlfn.IFS(D14="Garage","No",B14='Data Validation'!$B$3,"Yes",'Pod Commentary'!B14='Data Validation'!$B$4,"No",'Pod Commentary'!B14='Data Validation'!$B$5,"No",'Pod Commentary'!B14='Data Validation'!$B$6,"No",'Pod Commentary'!B14='Data Validation'!$B$7,"No",'Pod Commentary'!B14='Data Validation'!$B$8,"Yes",'Pod Commentary'!B14='Data Validation'!$B$9,"No",'Pod Commentary'!B14='Data Validation'!$B$10,"No",'Pod Commentary'!B14='Data Validation'!$B$11,"No"),"-")} -> Yes | L14: {=IFERROR(_xlfn.IFS(B14='Data Validation'!$B$6,"Yes",B14='Data Validation'!$B$7,"Yes"),"-")} -> - | R14: =IFERROR(IF($B14=$R$1,"1","-")*1,"-") -> 1 | S14: =IFERROR(IF($B14=$S$1,"1","-")*1,"-") -> - | T14: =IFERROR(IF($B14=$T$1,"1","-")*1,"-") -> - | U14: =IFERROR(IF($B14=$U$1,"1","-")*1,"-") -> - | V14: =IFERROR(IF($B14=$V$1,"1","-")*1,"-") -> - | W14: =IFERROR(IF(E14=$W$1,"1","-")*1,"-") -> - | X14: =IFERROR(IF(E14=$X$1,"1","-")*1,"-") -> - | Y14: {=IFERROR(_xlfn.IFS(B14=$U$1,"2",B14=$V$1,"2",J14="Yes","1")*1,"-")} -> - | Z14: =IFERROR(IF(K14="Yes","1","-")*1,"-") -> 1 | AA14: =IFERROR(IF(L14="Yes","1","-")*1,"-") -> - | AB14: =IFERROR(IF(O14="Yes","1","-")*1,"-") -> - | AC14: =IFERROR(IF($B14=$AC$1,"1","-")*1,"-") -> - | AD14: =IFERROR(IF($B14=$AD$1,"1","-")*1,"-") -> - | AE14: =IFERROR(IF($B14=$AE$1,"1","-")*1,"-") -> -
A15: 14 | B15: S7-UCB-3 | C15: Active | D15: On Dwelling | E15: - | F15: Domestic | G15: - | H15: - | J15: {=IFERROR(_xlfn.IFS('Pod Commentary'!B15='Data Validation'!$B$3,"No",'Pod Commentary'!B15='Data Validation'!$B$4,"Yes",'Pod Commentary'!B15='Data Validation'!$B$5,"Yes",'Pod Commentary'!B15='Data Validation'!$B$6,"Yes",'Pod Commentary'!B15='Data Validation'!$B$7,"Yes",'Pod Commentary'!B15='Data Validation'!$B$8,"No",'Pod Commentary'!B15='Data Validation'!$B$9,"Yes",'Pod Commentary'!B15='Data Validation'!$B$10,"Yes",'Pod Commentary'!B15='Data Validation'!$B$11,"-"),"-")} -> No | K15: {=IFERROR(_xlfn.IFS(D15="Garage","No",B15='Data Validation'!$B$3,"Yes",'Pod Commentary'!B15='Data Validation'!$B$4,"No",'Pod Commentary'!B15='Data Validation'!$B$5,"No",'Pod Commentary'!B15='Data Validation'!$B$6,"No",'Pod Commentary'!B15='Data Validation'!$B$7,"No",'Pod Commentary'!B15='Data Validation'!$B$8,"Yes",'Pod Commentary'!B15='Data Validation'!$B$9,"No",'Pod Commentary'!B15='Data Validation'!$B$10,"No",'Pod Commentary'!B15='Data Validation'!$B$11,"No"),"-")} -> Yes | L15: {=IFERROR(_xlfn.IFS(B15='Data Validation'!$B$6,"Yes",B15='Data Validation'!$B$7,"Yes"),"-")} -> - | R15: =IFERROR(IF($B15=$R$1,"1","-")*1,"-") -> 1 | S15: =IFERROR(IF($B15=$S$1,"1","-")*1,"-") -> - | T15: =IFERROR(IF($B15=$T$1,"1","-")*1,"-") -> - | U15: =IFERROR(IF($B15=$U$1,"1","-")*1,"-") -> - | V15: =IFERROR(IF($B15=$V$1,"1","-")*1,"-") -> - | W15: =IFERROR(IF(E15=$W$1,"1","-")*1,"-") -> - | X15: =IFERROR(IF(E15=$X$1,"1","-")*1,"-") -> - | Y15: {=IFERROR(_xlfn.IFS(B15=$U$1,"2",B15=$V$1,"2",J15="Yes","1")*1,"-")} -> - | Z15: =IFERROR(IF(K15="Yes","1","-")*1,"-") -> 1 | AA15: =IFERROR(IF(L15="Yes","1","-")*1,"-") -> - | AB15: =IFERROR(IF(O15="Yes","1","-")*1,"-") -> - | AC15: =IFERROR(IF($B15=$AC$1,"1","-")*1,"-") -> - | AD15: =IFERROR(IF($B15=$AD$1,"1","-")*1,"-") -> - | AE15: =IFERROR(IF($B15=$AE$1,"1","-")*1,"-") -> -
A16: 15 | B16: S7-UCB-3 | C16: Active | D16: On Dwelling | E16: - | F16: Domestic | G16: - | H16: - | J16: {=IFERROR(_xlfn.IFS('Pod Commentary'!B16='Data Validation'!$B$3,"No",'Pod Commentary'!B16='Data Validation'!$B$4,"Yes",'Pod Commentary'!B16='Data Validation'!$B$5,"Yes",'Pod Commentary'!B16='Data Validation'!$B$6,"Yes",'Pod Commentary'!B16='Data Validation'!$B$7,"Yes",'Pod Commentary'!B16='Data Validation'!$B$8,"No",'Pod Commentary'!B16='Data Validation'!$B$9,"Yes",'Pod Commentary'!B16='Data Validation'!$B$10,"Yes",'Pod Commentary'!B16='Data Validation'!$B$11,"-"),"-")} -> No | K16: {=IFERROR(_xlfn.IFS(D16="Garage","No",B16='Data Validation'!$B$3,"Yes",'Pod Commentary'!B16='Data Validation'!$B$4,"No",'Pod Commentary'!B16='Data Validation'!$B$5,"No",'Pod Commentary'!B16='Data Validation'!$B$6,"No",'Pod Commentary'!B16='Data Validation'!$B$7,"No",'Pod Commentary'!B16='Data Validation'!$B$8,"Yes",'Pod Commentary'!B16='Data Validation'!$B$9,"No",'Pod Commentary'!B16='Data Validation'!$B$10,"No",'Pod Commentary'!B16='Data Validation'!$B$11,"No"),"-")} -> Yes | L16: {=IFERROR(_xlfn.IFS(B16='Data Validation'!$B$6,"Yes",B16='Data Validation'!$B$7,"Yes"),"-")} -> - | R16: =IFERROR(IF($B16=$R$1,"1","-")*1,"-") -> 1 | S16: =IFERROR(IF($B16=$S$1,"1","-")*1,"-") -> - | T16: =IFERROR(IF($B16=$T$1,"1","-")*1,"-") -> - | U16: =IFERROR(IF($B16=$U$1,"1","-")*1,"-") -> - | V16: =IFERROR(IF($B16=$V$1,"1","-")*1,"-") -> - | W16: =IFERROR(IF(E16=$W$1,"1","-")*1,"-") -> - | X16: =IFERROR(IF(E16=$X$1,"1","-")*1,"-") -> - | Y16: {=IFERROR(_xlfn.IFS(B16=$U$1,"2",B16=$V$1,"2",J16="Yes","1")*1,"-")} -> - | Z16: =IFERROR(IF(K16="Yes","1","-")*1,"-") -> 1 | AA16: =IFERROR(IF(L16="Yes","1","-")*1,"-") -> - | AB16: =IFERROR(IF(O16="Yes","1","-")*1,"-") -> - | AC16: =IFERROR(IF($B16=$AC$1,"1","-")*1,"-") -> - | AD16: =IFERROR(IF($B16=$AD$1,"1","-")*1,"-") -> - | AE16: =IFERROR(IF($B16=$AE$1,"1","-")*1,"-") -> -
A17: 16 | B17: S7-UCB-3 | C17: Active | D17: Remote (Freestanding) | E17: Single | F17: Domestic | G17: - | H17: - | J17: {=IFERROR(_xlfn.IFS('Pod Commentary'!B17='Data Validation'!$B$3,"No",'Pod Commentary'!B17='Data Validation'!$B$4,"Yes",'Pod Commentary'!B17='Data Validation'!$B$5,"Yes",'Pod Commentary'!B17='Data Validation'!$B$6,"Yes",'Pod Commentary'!B17='Data Validation'!$B$7,"Yes",'Pod Commentary'!B17='Data Validation'!$B$8,"No",'Pod Commentary'!B17='Data Validation'!$B$9,"Yes",'Pod Commentary'!B17='Data Validation'!$B$10,"Yes",'Pod Commentary'!B17='Data Validation'!$B$11,"-"),"-")} -> No | K17: {=IFERROR(_xlfn.IFS(D17="Garage","No",B17='Data Validation'!$B$3,"Yes",'Pod Commentary'!B17='Data Validation'!$B$4,"No",'Pod Commentary'!B17='Data Validation'!$B$5,"No",'Pod Commentary'!B17='Data Validation'!$B$6,"No",'Pod Commentary'!B17='Data Validation'!$B$7,"No",'Pod Commentary'!B17='Data Validation'!$B$8,"Yes",'Pod Commentary'!B17='Data Validation'!$B$9,"No",'Pod Commentary'!B17='Data Validation'!$B$10,"No",'Pod Commentary'!B17='Data Validation'!$B$11,"No"),"-")} -> Yes | L17: {=IFERROR(_xlfn.IFS(B17='Data Validation'!$B$6,"Yes",B17='Data Validation'!$B$7,"Yes"),"-")} -> - | M17: Yes | N17: Ducting from dwelling's power supply to charger location | R17: =IFERROR(IF($B17=$R$1,"1","-")*1,"-") -> 1 | S17: =IFERROR(IF($B17=$S$1,"1","-")*1,"-") -> - | T17: =IFERROR(IF($B17=$T$1,"1","-")*1,"-") -> - | U17: =IFERROR(IF($B17=$U$1,"1","-")*1,"-") -> - | V17: =IFERROR(IF($B17=$V$1,"1","-")*1,"-") -> - | W17: =IFERROR(IF(E17=$W$1,"1","-")*1,"-") -> 1 | X17: =IFERROR(IF(E17=$X$1,"1","-")*1,"-") -> - | Y17: {=IFERROR(_xlfn.IFS(B17=$U$1,"2",B17=$V$1,"2",J17="Yes","1")*1,"-")} -> - | Z17: =IFERROR(IF(K17="Yes","1","-")*1,"-") -> 1 | AA17: =IFERROR(IF(L17="Yes","1","-")*1,"-") -> - | AB17: =IFERROR(IF(O17="Yes","1","-")*1,"-") -> - | AC17: =IFERROR(IF($B17=$AC$1,"1","-")*1,"-") -> - | AD17: =IFERROR(IF($B17=$AD$1,"1","-")*1,"-") -> - | AE17: =IFERROR(IF($B17=$AE$1,"1","-")*1,"-") -> -
A18: 17 | B18: S7-UCB-3 | C18: Active | D18: Remote (Freestanding) | E18: Single | F18: Domestic | G18: - | H18: - | J18: {=IFERROR(_xlfn.IFS('Pod Commentary'!B18='Data Validation'!$B$3,"No",'Pod Commentary'!B18='Data Validation'!$B$4,"Yes",'Pod Commentary'!B18='Data Validation'!$B$5,"Yes",'Pod Commentary'!B18='Data Validation'!$B$6,"Yes",'Pod Commentary'!B18='Data Validation'!$B$7,"Yes",'Pod Commentary'!B18='Data Validation'!$B$8,"No",'Pod Commentary'!B18='Data Validation'!$B$9,"Yes",'Pod Commentary'!B18='Data Validation'!$B$10,"Yes",'Pod Commentary'!B18='Data Validation'!$B$11,"-"),"-")} -> No | K18: {=IFERROR(_xlfn.IFS(D18="Garage","No",B18='Data Validation'!$B$3,"Yes",'Pod Commentary'!B18='Data Validation'!$B$4,"No",'Pod Commentary'!B18='Data Validation'!$B$5,"No",'Pod Commentary'!B18='Data Validation'!$B$6,"No",'Pod Commentary'!B18='Data Validation'!$B$7,"No",'Pod Commentary'!B18='Data Validation'!$B$8,"Yes",'Pod Commentary'!B18='Data Validation'!$B$9,"No",'Pod Commentary'!B18='Data Validation'!$B$10,"No",'Pod Commentary'!B18='Data Validation'!$B$11,"No"),"-")} -> Yes | L18: {=IFERROR(_xlfn.IFS(B18='Data Validation'!$B$6,"Yes",B18='Data Validation'!$B$7,"Yes"),"-")} -> - | M18: Yes | N18: Ducting from dwelling's power supply to charger location | R18: =IFERROR(IF($B18=$R$1,"1","-")*1,"-") -> 1 | S18: =IFERROR(IF($B18=$S$1,"1","-")*1,"-") -> - | T18: =IFERROR(IF($B18=$T$1,"1","-")*1,"-") -> - | U18: =IFERROR(IF($B18=$U$1,"1","-")*1,"-") -> - | V18: =IFERROR(IF($B18=$V$1,"1","-")*1,"-") -> - | W18: =IFERROR(IF(E18=$W$1,"1","-")*1,"-") -> 1 | X18: =IFERROR(IF(E18=$X$1,"1","-")*1,"-") -> - | Y18: {=IFERROR(_xlfn.IFS(B18=$U$1,"2",B18=$V$1,"2",J18="Yes","1")*1,"-")} -> - | Z18: =IFERROR(IF(K18="Yes","1","-")*1,"-") -> 1 | AA18: =IFERROR(IF(L18="Yes","1","-")*1,"-") -> - | AB18: =IFERROR(IF(O18="Yes","1","-")*1,"-") -> - | AC18: =IFERROR(IF($B18=$AC$1,"1","-")*1,"-") -> - | AD18: =IFERROR(IF($B18=$AD$1,"1","-")*1,"-") -> - | AE18: =IFERROR(IF($B18=$AE$1,"1","-")*1,"-") -> -
A19: 18 | B19: S7-UCB-3 | C19: Active | D19: Remote (Freestanding) | E19: Single | F19: Domestic | G19: - | H19: - | J19: {=IFERROR(_xlfn.IFS('Pod Commentary'!B19='Data Validation'!$B$3,"No",'Pod Commentary'!B19='Data Validation'!$B$4,"Yes",'Pod Commentary'!B19='Data Validation'!$B$5,"Yes",'Pod Commentary'!B19='Data Validation'!$B$6,"Yes",'Pod Commentary'!B19='Data Validation'!$B$7,"Yes",'Pod Commentary'!B19='Data Validation'!$B$8,"No",'Pod Commentary'!B19='Data Validation'!$B$9,"Yes",'Pod Commentary'!B19='Data Validation'!$B$10,"Yes",'Pod Commentary'!B19='Data Validation'!$B$11,"-"),"-")} -> No | K19: {=IFERROR(_xlfn.IFS(D19="Garage","No",B19='Data Validation'!$B$3,"Yes",'Pod Commentary'!B19='Data Validation'!$B$4,"No",'Pod Commentary'!B19='Data Validation'!$B$5,"No",'Pod Commentary'!B19='Data Validation'!$B$6,"No",'Pod Commentary'!B19='Data Validation'!$B$7,"No",'Pod Commentary'!B19='Data Validation'!$B$8,"Yes",'Pod Commentary'!B19='Data Validation'!$B$9,"No",'Pod Commentary'!B19='Data Validation'!$B$10,"No",'Pod Commentary'!B19='Data Validation'!$B$11,"No"),"-")} -> Yes | L19: {=IFERROR(_xlfn.IFS(B19='Data Validation'!$B$6,"Yes",B19='Data Validation'!$B$7,"Yes"),"-")} -> - | M19: Yes | N19: Ducting from dwelling's power supply to charger location | R19: =IFERROR(IF($B19=$R$1,"1","-")*1,"-") -> 1 | S19: =IFERROR(IF($B19=$S$1,"1","-")*1,"-") -> - | T19: =IFERROR(IF($B19=$T$1,"1","-")*1,"-") -> - | U19: =IFERROR(IF($B19=$U$1,"1","-")*1,"-") -> - | V19: =IFERROR(IF($B19=$V$1,"1","-")*1,"-") -> - | W19: =IFERROR(IF(E19=$W$1,"1","-")*1,"-") -> 1 | X19: =IFERROR(IF(E19=$X$1,"1","-")*1,"-") -> - | Y19: {=IFERROR(_xlfn.IFS(B19=$U$1,"2",B19=$V$1,"2",J19="Yes","1")*1,"-")} -> - | Z19: =IFERROR(IF(K19="Yes","1","-")*1,"-") -> 1 | AA19: =IFERROR(IF(L19="Yes","1","-")*1,"-") -> - | AB19: =IFERROR(IF(O19="Yes","1","-")*1,"-") -> - | AC19: =IFERROR(IF($B19=$AC$1,"1","-")*1,"-") -> - | AD19: =IFERROR(IF($B19=$AD$1,"1","-")*1,"-") -> - | AE19: =IFERROR(IF($B19=$AE$1,"1","-")*1,"-") -> -
A20: 19 | B20: S7-UCB-3 | C20: Active | D20: Remote (Freestanding) | E20: Single | F20: Domestic | G20: - | H20: - | J20: {=IFERROR(_xlfn.IFS('Pod Commentary'!B20='Data Validation'!$B$3,"No",'Pod Commentary'!B20='Data Validation'!$B$4,"Yes",'Pod Commentary'!B20='Data Validation'!$B$5,"Yes",'Pod Commentary'!B20='Data Validation'!$B$6,"Yes",'Pod Commentary'!B20='Data Validation'!$B$7,"Yes",'Pod Commentary'!B20='Data Validation'!$B$8,"No",'Pod Commentary'!B20='Data Validation'!$B$9,"Yes",'Pod Commentary'!B20='Data Validation'!$B$10,"Yes",'Pod Commentary'!B20='Data Validation'!$B$11,"-"),"-")} -> No | K20: {=IFERROR(_xlfn.IFS(D20="Garage","No",B20='Data Validation'!$B$3,"Yes",'Pod Commentary'!B20='Data Validation'!$B$4,"No",'Pod Commentary'!B20='Data Validation'!$B$5,"No",'Pod Commentary'!B20='Data Validation'!$B$6,"No",'Pod Commentary'!B20='Data Validation'!$B$7,"No",'Pod Commentary'!B20='Data Validation'!$B$8,"Yes",'Pod Commentary'!B20='Data Validation'!$B$9,"No",'Pod Commentary'!B20='Data Validation'!$B$10,"No",'Pod Commentary'!B20='Data Validation'!$B$11,"No"),"-")} -> Yes | L20: {=IFERROR(_xlfn.IFS(B20='Data Validation'!$B$6,"Yes",B20='Data Validation'!$B$7,"Yes"),"-")} -> - | M20: Yes | N20: Ducting from dwelling's power supply to charger location | R20: =IFERROR(IF($B20=$R$1,"1","-")*1,"-") -> 1 | S20: =IFERROR(IF($B20=$S$1,"1","-")*1,"-") -> - | T20: =IFERROR(IF($B20=$T$1,"1","-")*1,"-") -> - | U20: =IFERROR(IF($B20=$U$1,"1","-")*1,"-") -> - | V20: =IFERROR(IF($B20=$V$1,"1","-")*1,"-") -> - | W20: =IFERROR(IF(E20=$W$1,"1","-")*1,"-") -> 1 | X20: =IFERROR(IF(E20=$X$1,"1","-")*1,"-") -> - | Y20: {=IFERROR(_xlfn.IFS(B20=$U$1,"2",B20=$V$1,"2",J20="Yes","1")*1,"-")} -> - | Z20: =IFERROR(IF(K20="Yes","1","-")*1,"-") -> 1 | AA20: =IFERROR(IF(L20="Yes","1","-")*1,"-") -> - | AB20: =IFERROR(IF(O20="Yes","1","-")*1,"-") -> - | AC20: =IFERROR(IF($B20=$AC$1,"1","-")*1,"-") -> - | AD20: =IFERROR(IF($B20=$AD$1,"1","-")*1,"-") -> - | AE20: =IFERROR(IF($B20=$AE$1,"1","-")*1,"-") -> -
A21: 20 | B21: S7-UCB-3 | C21: Active | D21: Remote (Freestanding) | E21: Single | F21: Domestic | G21: - | H21: - | J21: {=IFERROR(_xlfn.IFS('Pod Commentary'!B21='Data Validation'!$B$3,"No",'Pod Commentary'!B21='Data Validation'!$B$4,"Yes",'Pod Commentary'!B21='Data Validation'!$B$5,"Yes",'Pod Commentary'!B21='Data Validation'!$B$6,"Yes",'Pod Commentary'!B21='Data Validation'!$B$7,"Yes",'Pod Commentary'!B21='Data Validation'!$B$8,"No",'Pod Commentary'!B21='Data Validation'!$B$9,"Yes",'Pod Commentary'!B21='Data Validation'!$B$10,"Yes",'Pod Commentary'!B21='Data Validation'!$B$11,"-"),"-")} -> No | K21: {=IFERROR(_xlfn.IFS(D21="Garage","No",B21='Data Validation'!$B$3,"Yes",'Pod Commentary'!B21='Data Validation'!$B$4,"No",'Pod Commentary'!B21='Data Validation'!$B$5,"No",'Pod Commentary'!B21='Data Validation'!$B$6,"No",'Pod Commentary'!B21='Data Validation'!$B$7,"No",'Pod Commentary'!B21='Data Validation'!$B$8,"Yes",'Pod Commentary'!B21='Data Validation'!$B$9,"No",'Pod Commentary'!B21='Data Validation'!$B$10,"No",'Pod Commentary'!B21='Data Validation'!$B$11,"No"),"-")} -> Yes | L21: {=IFERROR(_xlfn.IFS(B21='Data Validation'!$B$6,"Yes",B21='Data Validation'!$B$7,"Yes"),"-")} -> - | M21: Yes | N21: Ducting from dwelling's power supply to charger location | R21: =IFERROR(IF($B21=$R$1,"1","-")*1,"-") -> 1 | S21: =IFERROR(IF($B21=$S$1,"1","-")*1,"-") -> - | T21: =IFERROR(IF($B21=$T$1,"1","-")*1,"-") -> - | U21: =IFERROR(IF($B21=$U$1,"1","-")*1,"-") -> - | V21: =IFERROR(IF($B21=$V$1,"1","-")*1,"-") -> - | W21: =IFERROR(IF(E21=$W$1,"1","-")*1,"-") -> 1 | X21: =IFERROR(IF(E21=$X$1,"1","-")*1,"-") -> - | Y21: {=IFERROR(_xlfn.IFS(B21=$U$1,"2",B21=$V$1,"2",J21="Yes","1")*1,"-")} -> - | Z21: =IFERROR(IF(K21="Yes","1","-")*1,"-") -> 1 | AA21: =IFERROR(IF(L21="Yes","1","-")*1,"-") -> - | AB21: =IFERROR(IF(O21="Yes","1","-")*1,"-") -> - | AC21: =IFERROR(IF($B21=$AC$1,"1","-")*1,"-") -> - | AD21: =IFERROR(IF($B21=$AD$1,"1","-")*1,"-") -> - | AE21: =IFERROR(IF($B21=$AE$1,"1","-")*1,"-") -> -
A22: 21 | B22: S7-UCB-3 | C22: Active | D22: Remote (Wall Mounted) | E22: - | F22: Domestic | G22: - | H22: - | J22: {=IFERROR(_xlfn.IFS('Pod Commentary'!B22='Data Validation'!$B$3,"No",'Pod Commentary'!B22='Data Validation'!$B$4,"Yes",'Pod Commentary'!B22='Data Validation'!$B$5,"Yes",'Pod Commentary'!B22='Data Validation'!$B$6,"Yes",'Pod Commentary'!B22='Data Validation'!$B$7,"Yes",'Pod Commentary'!B22='Data Validation'!$B$8,"No",'Pod Commentary'!B22='Data Validation'!$B$9,"Yes",'Pod Commentary'!B22='Data Validation'!$B$10,"Yes",'Pod Commentary'!B22='Data Validation'!$B$11,"-"),"-")} -> No | K22: {=IFERROR(_xlfn.IFS(D22="Garage","No",B22='Data Validation'!$B$3,"Yes",'Pod Commentary'!B22='Data Validation'!$B$4,"No",'Pod Commentary'!B22='Data Validation'!$B$5,"No",'Pod Commentary'!B22='Data Validation'!$B$6,"No",'Pod Commentary'!B22='Data Validation'!$B$7,"No",'Pod Commentary'!B22='Data Validation'!$B$8,"Yes",'Pod Commentary'!B22='Data Validation'!$B$9,"No",'Pod Commentary'!B22='Data Validation'!$B$10,"No",'Pod Commentary'!B22='Data Validation'!$B$11,"No"),"-")} -> Yes | L22: {=IFERROR(_xlfn.IFS(B22='Data Validation'!$B$6,"Yes",B22='Data Validation'!$B$7,"Yes"),"-")} -> - | M22: Yes | N22: Ducting from dwelling's power supply to charger location | R22: =IFERROR(IF($B22=$R$1,"1","-")*1,"-") -> 1 | S22: =IFERROR(IF($B22=$S$1,"1","-")*1,"-") -> - | T22: =IFERROR(IF($B22=$T$1,"1","-")*1,"-") -> - | U22: =IFERROR(IF($B22=$U$1,"1","-")*1,"-") -> - | V22: =IFERROR(IF($B22=$V$1,"1","-")*1,"-") -> - | W22: =IFERROR(IF(E22=$W$1,"1","-")*1,"-") -> - | X22: =IFERROR(IF(E22=$X$1,"1","-")*1,"-") -> - | Y22: {=IFERROR(_xlfn.IFS(B22=$U$1,"2",B22=$V$1,"2",J22="Yes","1")*1,"-")} -> - | Z22: =IFERROR(IF(K22="Yes","1","-")*1,"-") -> 1 | AA22: =IFERROR(IF(L22="Yes","1","-")*1,"-") -> - | AB22: =IFERROR(IF(O22="Yes","1","-")*1,"-") -> - | AC22: =IFERROR(IF($B22=$AC$1,"1","-")*1,"-") -> - | AD22: =IFERROR(IF($B22=$AD$1,"1","-")*1,"-") -> - | AE22: =IFERROR(IF($B22=$AE$1,"1","-")*1,"-") -> -
A23: 22 | B23: S7-UCB-3 | C23: Active | D23: Remote (Wall Mounted) | E23: - | F23: Domestic | G23: - | H23: - | J23: {=IFERROR(_xlfn.IFS('Pod Commentary'!B23='Data Validation'!$B$3,"No",'Pod Commentary'!B23='Data Validation'!$B$4,"Yes",'Pod Commentary'!B23='Data Validation'!$B$5,"Yes",'Pod Commentary'!B23='Data Validation'!$B$6,"Yes",'Pod Commentary'!B23='Data Validation'!$B$7,"Yes",'Pod Commentary'!B23='Data Validation'!$B$8,"No",'Pod Commentary'!B23='Data Validation'!$B$9,"Yes",'Pod Commentary'!B23='Data Validation'!$B$10,"Yes",'Pod Commentary'!B23='Data Validation'!$B$11,"-"),"-")} -> No | K23: {=IFERROR(_xlfn.IFS(D23="Garage","No",B23='Data Validation'!$B$3,"Yes",'Pod Commentary'!B23='Data Validation'!$B$4,"No",'Pod Commentary'!B23='Data Validation'!$B$5,"No",'Pod Commentary'!B23='Data Validation'!$B$6,"No",'Pod Commentary'!B23='Data Validation'!$B$7,"No",'Pod Commentary'!B23='Data Validation'!$B$8,"Yes",'Pod Commentary'!B23='Data Validation'!$B$9,"No",'Pod Commentary'!B23='Data Validation'!$B$10,"No",'Pod Commentary'!B23='Data Validation'!$B$11,"No"),"-")} -> Yes | L23: {=IFERROR(_xlfn.IFS(B23='Data Validation'!$B$6,"Yes",B23='Data Validation'!$B$7,"Yes"),"-")} -> - | M23: Yes | N23: Ducting from dwelling's power supply to charger location | R23: =IFERROR(IF($B23=$R$1,"1","-")*1,"-") -> 1 | S23: =IFERROR(IF($B23=$S$1,"1","-")*1,"-") -> - | T23: =IFERROR(IF($B23=$T$1,"1","-")*1,"-") -> - | U23: =IFERROR(IF($B23=$U$1,"1","-")*1,"-") -> - | V23: =IFERROR(IF($B23=$V$1,"1","-")*1,"-") -> - | W23: =IFERROR(IF(E23=$W$1,"1","-")*1,"-") -> - | X23: =IFERROR(IF(E23=$X$1,"1","-")*1,"-") -> - | Y23: {=IFERROR(_xlfn.IFS(B23=$U$1,"2",B23=$V$1,"2",J23="Yes","1")*1,"-")} -> - | Z23: =IFERROR(IF(K23="Yes","1","-")*1,"-") -> 1 | AA23: =IFERROR(IF(L23="Yes","1","-")*1,"-") -> - | AB23: =IFERROR(IF(O23="Yes","1","-")*1,"-") -> - | AC23: =IFERROR(IF($B23=$AC$1,"1","-")*1,"-") -> - | AD23: =IFERROR(IF($B23=$AD$1,"1","-")*1,"-") -> - | AE23: =IFERROR(IF($B23=$AE$1,"1","-")*1,"-") -> -
A24: 23 | B24: S7-UCB-3 | C24: Active | D24: On Dwelling | E24: - | F24: Domestic | G24: - | H24: - | J24: {=IFERROR(_xlfn.IFS('Pod Commentary'!B24='Data Validation'!$B$3,"No",'Pod Commentary'!B24='Data Validation'!$B$4,"Yes",'Pod Commentary'!B24='Data Validation'!$B$5,"Yes",'Pod Commentary'!B24='Data Validation'!$B$6,"Yes",'Pod Commentary'!B24='Data Validation'!$B$7,"Yes",'Pod Commentary'!B24='Data Validation'!$B$8,"No",'Pod Commentary'!B24='Data Validation'!$B$9,"Yes",'Pod Commentary'!B24='Data Validation'!$B$10,"Yes",'Pod Commentary'!B24='Data Validation'!$B$11,"-"),"-")} -> No | K24: {=IFERROR(_xlfn.IFS(D24="Garage","No",B24='Data Validation'!$B$3,"Yes",'Pod Commentary'!B24='Data Validation'!$B$4,"No",'Pod Commentary'!B24='Data Validation'!$B$5,"No",'Pod Commentary'!B24='Data Validation'!$B$6,"No",'Pod Commentary'!B24='Data Validation'!$B$7,"No",'Pod Commentary'!B24='Data Validation'!$B$8,"Yes",'Pod Commentary'!B24='Data Validation'!$B$9,"No",'Pod Commentary'!B24='Data Validation'!$B$10,"No",'Pod Commentary'!B24='Data Validation'!$B$11,"No"),"-")} -> Yes | L24: {=IFERROR(_xlfn.IFS(B24='Data Validation'!$B$6,"Yes",B24='Data Validation'!$B$7,"Yes"),"-")} -> - | R24: =IFERROR(IF($B24=$R$1,"1","-")*1,"-") -> 1 | S24: =IFERROR(IF($B24=$S$1,"1","-")*1,"-") -> - | T24: =IFERROR(IF($B24=$T$1,"1","-")*1,"-") -> - | U24: =IFERROR(IF($B24=$U$1,"1","-")*1,"-") -> - | V24: =IFERROR(IF($B24=$V$1,"1","-")*1,"-") -> - | W24: =IFERROR(IF(E24=$W$1,"1","-")*1,"-") -> - | X24: =IFERROR(IF(E24=$X$1,"1","-")*1,"-") -> - | Y24: {=IFERROR(_xlfn.IFS(B24=$U$1,"2",B24=$V$1,"2",J24="Yes","1")*1,"-")} -> - | Z24: =IFERROR(IF(K24="Yes","1","-")*1,"-") -> 1 | AA24: =IFERROR(IF(L24="Yes","1","-")*1,"-") -> - | AB24: =IFERROR(IF(O24="Yes","1","-")*1,"-") -> - | AC24: =IFERROR(IF($B24=$AC$1,"1","-")*1,"-") -> - | AD24: =IFERROR(IF($B24=$AD$1,"1","-")*1,"-") -> - | AE24: =IFERROR(IF($B24=$AE$1,"1","-")*1,"-") -> -
A25: 24 | B25: S7-UCB-3 | C25: Active | D25: On Dwelling | E25: - | F25: Domestic | G25: - | H25: - | J25: {=IFERROR(_xlfn.IFS('Pod Commentary'!B25='Data Validation'!$B$3,"No",'Pod Commentary'!B25='Data Validation'!$B$4,"Yes",'Pod Commentary'!B25='Data Validation'!$B$5,"Yes",'Pod Commentary'!B25='Data Validation'!$B$6,"Yes",'Pod Commentary'!B25='Data Validation'!$B$7,"Yes",'Pod Commentary'!B25='Data Validation'!$B$8,"No",'Pod Commentary'!B25='Data Validation'!$B$9,"Yes",'Pod Commentary'!B25='Data Validation'!$B$10,"Yes",'Pod Commentary'!B25='Data Validation'!$B$11,"-"),"-")} -> No | K25: {=IFERROR(_xlfn.IFS(D25="Garage","No",B25='Data Validation'!$B$3,"Yes",'Pod Commentary'!B25='Data Validation'!$B$4,"No",'Pod Commentary'!B25='Data Validation'!$B$5,"No",'Pod Commentary'!B25='Data Validation'!$B$6,"No",'Pod Commentary'!B25='Data Validation'!$B$7,"No",'Pod Commentary'!B25='Data Validation'!$B$8,"Yes",'Pod Commentary'!B25='Data Validation'!$B$9,"No",'Pod Commentary'!B25='Data Validation'!$B$10,"No",'Pod Commentary'!B25='Data Validation'!$B$11,"No"),"-")} -> Yes | L25: {=IFERROR(_xlfn.IFS(B25='Data Validation'!$B$6,"Yes",B25='Data Validation'!$B$7,"Yes"),"-")} -> - | R25: =IFERROR(IF($B25=$R$1,"1","-")*1,"-") -> 1 | S25: =IFERROR(IF($B25=$S$1,"1","-")*1,"-") -> - | T25: =IFERROR(IF($B25=$T$1,"1","-")*1,"-") -> - | U25: =IFERROR(IF($B25=$U$1,"1","-")*1,"-") -> - | V25: =IFERROR(IF($B25=$V$1,"1","-")*1,"-") -> - | W25: =IFERROR(IF(E25=$W$1,"1","-")*1,"-") -> - | X25: =IFERROR(IF(E25=$X$1,"1","-")*1,"-") -> - | Y25: {=IFERROR(_xlfn.IFS(B25=$U$1,"2",B25=$V$1,"2",J25="Yes","1")*1,"-")} -> - | Z25: =IFERROR(IF(K25="Yes","1","-")*1,"-") -> 1 | AA25: =IFERROR(IF(L25="Yes","1","-")*1,"-") -> - | AB25: =IFERROR(IF(O25="Yes","1","-")*1,"-") -> - | AC25: =IFERROR(IF($B25=$AC$1,"1","-")*1,"-") -> - | AD25: =IFERROR(IF($B25=$AD$1,"1","-")*1,"-") -> - | AE25: =IFERROR(IF($B25=$AE$1,"1","-")*1,"-") -> -
A26: 25 | B26: S7-UCB-3 | C26: Active | D26: On Dwelling | E26: - | F26: Domestic | G26: - | H26: - | J26: {=IFERROR(_xlfn.IFS('Pod Commentary'!B26='Data Validation'!$B$3,"No",'Pod Commentary'!B26='Data Validation'!$B$4,"Yes",'Pod Commentary'!B26='Data Validation'!$B$5,"Yes",'Pod Commentary'!B26='Data Validation'!$B$6,"Yes",'Pod Commentary'!B26='Data Validation'!$B$7,"Yes",'Pod Commentary'!B26='Data Validation'!$B$8,"No",'Pod Commentary'!B26='Data Validation'!$B$9,"Yes",'Pod Commentary'!B26='Data Validation'!$B$10,"Yes",'Pod Commentary'!B26='Data Validation'!$B$11,"-"),"-")} -> No | K26: {=IFERROR(_xlfn.IFS(D26="Garage","No",B26='Data Validation'!$B$3,"Yes",'Pod Commentary'!B26='Data Validation'!$B$4,"No",'Pod Commentary'!B26='Data Validation'!$B$5,"No",'Pod Commentary'!B26='Data Validation'!$B$6,"No",'Pod Commentary'!B26='Data Validation'!$B$7,"No",'Pod Commentary'!B26='Data Validation'!$B$8,"Yes",'Pod Commentary'!B26='Data Validation'!$B$9,"No",'Pod Commentary'!B26='Data Validation'!$B$10,"No",'Pod Commentary'!B26='Data Validation'!$B$11,"No"),"-")} -> Yes | L26: {=IFERROR(_xlfn.IFS(B26='Data Validation'!$B$6,"Yes",B26='Data Validation'!$B$7,"Yes"),"-")} -> - | R26: =IFERROR(IF($B26=$R$1,"1","-")*1,"-") -> 1 | S26: =IFERROR(IF($B26=$S$1,"1","-")*1,"-") -> - | T26: =IFERROR(IF($B26=$T$1,"1","-")*1,"-") -> - | U26: =IFERROR(IF($B26=$U$1,"1","-")*1,"-") -> - | V26: =IFERROR(IF($B26=$V$1,"1","-")*1,"-") -> - | W26: =IFERROR(IF(E26=$W$1,"1","-")*1,"-") -> - | X26: =IFERROR(IF(E26=$X$1,"1","-")*1,"-") -> - | Y26: {=IFERROR(_xlfn.IFS(B26=$U$1,"2",B26=$V$1,"2",J26="Yes","1")*1,"-")} -> - | Z26: =IFERROR(IF(K26="Yes","1","-")*1,"-") -> 1 | AA26: =IFERROR(IF(L26="Yes","1","-")*1,"-") -> - | AB26: =IFERROR(IF(O26="Yes","1","-")*1,"-") -> - | AC26: =IFERROR(IF($B26=$AC$1,"1","-")*1,"-") -> - | AD26: =IFERROR(IF($B26=$AD$1,"1","-")*1,"-") -> - | AE26: =IFERROR(IF($B26=$AE$1,"1","-")*1,"-") -> -
A27: 26 | B27: S7-UCB-3 | C27: Active | D27: Remote (Freestanding) | E27: Single | F27: Domestic | G27: - | H27: - | J27: {=IFERROR(_xlfn.IFS('Pod Commentary'!B27='Data Validation'!$B$3,"No",'Pod Commentary'!B27='Data Validation'!$B$4,"Yes",'Pod Commentary'!B27='Data Validation'!$B$5,"Yes",'Pod Commentary'!B27='Data Validation'!$B$6,"Yes",'Pod Commentary'!B27='Data Validation'!$B$7,"Yes",'Pod Commentary'!B27='Data Validation'!$B$8,"No",'Pod Commentary'!B27='Data Validation'!$B$9,"Yes",'Pod Commentary'!B27='Data Validation'!$B$10,"Yes",'Pod Commentary'!B27='Data Validation'!$B$11,"-"),"-")} -> No | K27: {=IFERROR(_xlfn.IFS(D27="Garage","No",B27='Data Validation'!$B$3,"Yes",'Pod Commentary'!B27='Data Validation'!$B$4,"No",'Pod Commentary'!B27='Data Validation'!$B$5,"No",'Pod Commentary'!B27='Data Validation'!$B$6,"No",'Pod Commentary'!B27='Data Validation'!$B$7,"No",'Pod Commentary'!B27='Data Validation'!$B$8,"Yes",'Pod Commentary'!B27='Data Validation'!$B$9,"No",'Pod Commentary'!B27='Data Validation'!$B$10,"No",'Pod Commentary'!B27='Data Validation'!$B$11,"No"),"-")} -> Yes | L27: {=IFERROR(_xlfn.IFS(B27='Data Validation'!$B$6,"Yes",B27='Data Validation'!$B$7,"Yes"),"-")} -> - | M27: Yes | N27: Ducting from dwelling's power supply to charger location | R27: =IFERROR(IF($B27=$R$1,"1","-")*1,"-") -> 1 | S27: =IFERROR(IF($B27=$S$1,"1","-")*1,"-") -> - | T27: =IFERROR(IF($B27=$T$1,"1","-")*1,"-") -> - | U27: =IFERROR(IF($B27=$U$1,"1","-")*1,"-") -> - | V27: =IFERROR(IF($B27=$V$1,"1","-")*1,"-") -> - | W27: =IFERROR(IF(E27=$W$1,"1","-")*1,"-") -> 1 | X27: =IFERROR(IF(E27=$X$1,"1","-")*1,"-") -> - | Y27: {=IFERROR(_xlfn.IFS(B27=$U$1,"2",B27=$V$1,"2",J27="Yes","1")*1,"-")} -> - | Z27: =IFERROR(IF(K27="Yes","1","-")*1,"-") -> 1 | AA27: =IFERROR(IF(L27="Yes","1","-")*1,"-") -> - | AB27: =IFERROR(IF(O27="Yes","1","-")*1,"-") -> - | AC27: =IFERROR(IF($B27=$AC$1,"1","-")*1,"-") -> - | AD27: =IFERROR(IF($B27=$AD$1,"1","-")*1,"-") -> - | AE27: =IFERROR(IF($B27=$AE$1,"1","-")*1,"-") -> -
A28: 27 | B28: S7-UCB-3 | C28: Active | D28: Remote (Freestanding) | E28: Single | F28: Domestic | G28: - | H28: - | J28: {=IFERROR(_xlfn.IFS('Pod Commentary'!B28='Data Validation'!$B$3,"No",'Pod Commentary'!B28='Data Validation'!$B$4,"Yes",'Pod Commentary'!B28='Data Validation'!$B$5,"Yes",'Pod Commentary'!B28='Data Validation'!$B$6,"Yes",'Pod Commentary'!B28='Data Validation'!$B$7,"Yes",'Pod Commentary'!B28='Data Validation'!$B$8,"No",'Pod Commentary'!B28='Data Validation'!$B$9,"Yes",'Pod Commentary'!B28='Data Validation'!$B$10,"Yes",'Pod Commentary'!B28='Data Validation'!$B$11,"-"),"-")} -> No | K28: {=IFERROR(_xlfn.IFS(D28="Garage","No",B28='Data Validation'!$B$3,"Yes",'Pod Commentary'!B28='Data Validation'!$B$4,"No",'Pod Commentary'!B28='Data Validation'!$B$5,"No",'Pod Commentary'!B28='Data Validation'!$B$6,"No",'Pod Commentary'!B28='Data Validation'!$B$7,"No",'Pod Commentary'!B28='Data Validation'!$B$8,"Yes",'Pod Commentary'!B28='Data Validation'!$B$9,"No",'Pod Commentary'!B28='Data Validation'!$B$10,"No",'Pod Commentary'!B28='Data Validation'!$B$11,"No"),"-")} -> Yes | L28: {=IFERROR(_xlfn.IFS(B28='Data Validation'!$B$6,"Yes",B28='Data Validation'!$B$7,"Yes"),"-")} -> - | M28: Yes | N28: Ducting from dwelling's power supply to charger location | R28: =IFERROR(IF($B28=$R$1,"1","-")*1,"-") -> 1 | S28: =IFERROR(IF($B28=$S$1,"1","-")*1,"-") -> - | T28: =IFERROR(IF($B28=$T$1,"1","-")*1,"-") -> - | U28: =IFERROR(IF($B28=$U$1,"1","-")*1,"-") -> - | V28: =IFERROR(IF($B28=$V$1,"1","-")*1,"-") -> - | W28: =IFERROR(IF(E28=$W$1,"1","-")*1,"-") -> 1 | X28: =IFERROR(IF(E28=$X$1,"1","-")*1,"-") -> - | Y28: {=IFERROR(_xlfn.IFS(B28=$U$1,"2",B28=$V$1,"2",J28="Yes","1")*1,"-")} -> - | Z28: =IFERROR(IF(K28="Yes","1","-")*1,"-") -> 1 | AA28: =IFERROR(IF(L28="Yes","1","-")*1,"-") -> - | AB28: =IFERROR(IF(O28="Yes","1","-")*1,"-") -> - | AC28: =IFERROR(IF($B28=$AC$1,"1","-")*1,"-") -> - | AD28: =IFERROR(IF($B28=$AD$1,"1","-")*1,"-") -> - | AE28: =IFERROR(IF($B28=$AE$1,"1","-")*1,"-") -> -
A29: 28 | B29: S7-UCB-3 | C29: Active | D29: Remote (Freestanding) | E29: Single | F29: Domestic | G29: - | H29: - | J29: {=IFERROR(_xlfn.IFS('Pod Commentary'!B29='Data Validation'!$B$3,"No",'Pod Commentary'!B29='Data Validation'!$B$4,"Yes",'Pod Commentary'!B29='Data Validation'!$B$5,"Yes",'Pod Commentary'!B29='Data Validation'!$B$6,"Yes",'Pod Commentary'!B29='Data Validation'!$B$7,"Yes",'Pod Commentary'!B29='Data Validation'!$B$8,"No",'Pod Commentary'!B29='Data Validation'!$B$9,"Yes",'Pod Commentary'!B29='Data Validation'!$B$10,"Yes",'Pod Commentary'!B29='Data Validation'!$B$11,"-"),"-")} -> No | K29: {=IFERROR(_xlfn.IFS(D29="Garage","No",B29='Data Validation'!$B$3,"Yes",'Pod Commentary'!B29='Data Validation'!$B$4,"No",'Pod Commentary'!B29='Data Validation'!$B$5,"No",'Pod Commentary'!B29='Data Validation'!$B$6,"No",'Pod Commentary'!B29='Data Validation'!$B$7,"No",'Pod Commentary'!B29='Data Validation'!$B$8,"Yes",'Pod Commentary'!B29='Data Validation'!$B$9,"No",'Pod Commentary'!B29='Data Validation'!$B$10,"No",'Pod Commentary'!B29='Data Validation'!$B$11,"No"),"-")} -> Yes | L29: {=IFERROR(_xlfn.IFS(B29='Data Validation'!$B$6,"Yes",B29='Data Validation'!$B$7,"Yes"),"-")} -> - | M29: Yes | N29: Ducting from dwelling's power supply to charger location | R29: =IFERROR(IF($B29=$R$1,"1","-")*1,"-") -> 1 | S29: =IFERROR(IF($B29=$S$1,"1","-")*1,"-") -> - | T29: =IFERROR(IF($B29=$T$1,"1","-")*1,"-") -> - | U29: =IFERROR(IF($B29=$U$1,"1","-")*1,"-") -> - | V29: =IFERROR(IF($B29=$V$1,"1","-")*1,"-") -> - | W29: =IFERROR(IF(E29=$W$1,"1","-")*1,"-") -> 1 | X29: =IFERROR(IF(E29=$X$1,"1","-")*1,"-") -> - | Y29: {=IFERROR(_xlfn.IFS(B29=$U$1,"2",B29=$V$1,"2",J29="Yes","1")*1,"-")} -> - | Z29: =IFERROR(IF(K29="Yes","1","-")*1,"-") -> 1 | AA29: =IFERROR(IF(L29="Yes","1","-")*1,"-") -> - | AB29: =IFERROR(IF(O29="Yes","1","-")*1,"-") -> - | AC29: =IFERROR(IF($B29=$AC$1,"1","-")*1,"-") -> - | AD29: =IFERROR(IF($B29=$AD$1,"1","-")*1,"-") -> - | AE29: =IFERROR(IF($B29=$AE$1,"1","-")*1,"-") -> -
