Workbook
Name A: 'ESP Project Tracker'!#REF!
Name A: 'ESP Project Tracker (2)'!#REF!
Name A: #REF!
Name A: #REF!
Name B: 'ESP Project Tracker'!#REF!
Name B: 'ESP Project Tracker (2)'!#REF!
Name B: #REF!
Name B: #REF!
Name C_: 'ESP Project Tracker'!#REF!
Name C_: 'ESP Project Tracker (2)'!#REF!
Name C_: #REF!
Name C_: #REF!
Name D: 'ESP Project Tracker'!#REF!
Name D: 'ESP Project Tracker (2)'!#REF!
Name D: #REF!
Name Define: #REF!
Name Define: #REF!
Name Define: 'ESP Project Tracker'!$Q$107:$Q$143
Name Define: 'ESP Project Tracker (2)'!$P$94:$P$137
Name Define: #REF!
Name Define: #REF!
Name Define: #REF!
Name E: #REF!
Name E: #REF!
Name E: 'ESP Project Tracker'!#REF!
Name E: 'ESP Project Tracker (2)'!#REF!
Name E: #REF!
Name E: #REF!
Name E: #REF!
Name ESP_Category: #REF!
Name ESP_Category: #REF!
Name ESP_Category: 'ESP Project Tracker'!#REF!
Name ESP_Category: 'ESP Project Tracker (2)'!#REF!
Name ESP_Category: #REF!
Name ESP_Category: #REF!
Name ESP_Category: #REF!

Sheet Bespoke ESP Targets
A1: BESPOKE or AGREED ESP and Community Benefit Targets
A3: NOTE - This page should only be completed when bespoke ESP Targets are agreed with the Client and Scape ESP Framework Manager or when agreeing further targets for monitored ESP or Community Benefit items with clients.
B6: Employment and Skills Areas | C6: Measured by | D6: Measures | K6: Plan to Achieve ESP Target
D7: Agreement | E7: A | F7: B | G7: C | H7: D | I7: E | J7: Number
E8: £1.5m | F8: £3.5m | G8: £7.5m | H8: £15m | I8: £25m
A9: 1 | B9: Work Experience
A10: 1.1 | B10: Work experience over 16 years | C10: No of Individuals | D10: Agreed with WBC on 24-02-2025 | J10: 2 | K10: Balfour Beatty will work alongside our supply chain partners to deliver work experience placements across a range of sectors for students. The opportunities will be made available through local education establishments, the WJSC and other relevant charities. Schools to engage: • The High Close School (Ofsted 2, FSM 47.65) • Westcott Infant School (Ofsted 1, FSM 8.2%) • Floreat Montague Park Primary School (Ofsted 2, FSM 11.6%) • St Crispin’s School (Ofsted 2, FSM 11.2%) • Chiltern Way Academy Wokingham (Ofsted N/A, FSM 59.2%) • The Holt School (Ofsted 1, FSM 7.0%)
E11: 3 | F11: 4 | G11: 6 | H11: 7 | I11: 7
A12: 2 | B12: Engagement with schools/colleges
A13: 2.1 | B13: School college visits | C13: No of visits | D13: Agreed with WBC on 24-02-2025 | E13: 36 | F13: 61 | G13: 73 | H13: 85 | I13: 121 | J13: 10 | K13: Our goal is to engage with schools and colleges through career fairs, site visits, workshops/demonstrations and online engagment such as Construction Live. This will provide students with valuable insights into the construction industry. Our aim is to provide an immersive experience that inspires and educates students about the diverse career opportunities in the construction industry.
A14: 3 | B14: Adult Employment Opportunities (19+)
A15: 3.1 | B15: Number of opportunities created | C15: No of Individuals | D15: Agreed with WBC on 24-02-2025 | E15: 1 | F15: 3 | G15: 7 | H15: 8 | I15: 10 | J15: 2 | K15: Balfour Beatty will endeavour to make links with the Wokingham Job Support Centre (WJSC), a locally funded charity offering free support and guidance to help support those in Wokingham to help find work.
A16: 3.2 | B16: Number of opportunities advertised locally | C16: No of advertised positions | D16: Agreed with WBC on 24-02-2025 | E16: 1 | F16: 3 | G16: 7 | H16: 8 | I16: 10 | J16: 2 | K16: We aim to provide bespoke support into employment for the built environment sector and overall employability skills. This is delivered in collaboration with our supply chain partners to widen opportunities for those seeking work to help diversify the opportunities available.
A17: 4 | B17: Trainees, Apprentices, Internships or Graduates (including Apprentice Training Agency placements)
A18: 4.1 | B18: Number of starts or completions | C18: No of Individuals | D18: Agreed with WBC on 24-02-2025 | E18: 0 | F18: 1 | G18: 3 | H18: 7 | I18: 9 | J18: 1 | K18: To enhance our project's success and support workforce development, we will collaborate with our supply chain partners to ensure the involvement of Xno. apprentices/trainees. These individuals will be integrated into various aspects of the project, gaining hands-on experience and contributing to our goals. We are committed to providing comprehensive training and mentorship to help them build valuable skills.
A19: 4.2 | B19: Weeks on site | C19: Weeks on site per new apprentice | D19: Agreed with WBC on 24-02-2025 | E19: 0 | F19: 12 | G19: 22 | H19: 32 | I19: 32 | J19: 40
A20: 4.3 | B20: Sustained Positions | C20: No of Individuals | D20: To be Monitored | E20: To be Monitored | F20: To be Monitored | G20: To be Monitored | H20: To be Monitored | I20: To be Monitored | J20: To be Monitored
A21: 4.4 | B21: Weeks on site | C21: Weeks on site for existing apprentices | D21: To be Monitored | E21: To be Monitored | F21: To be Monitored | G21: To be Monitored | H21: To be Monitored | I21: To be Monitored | J21: To be Monitored
A22: 5 | B22: Training courses (internal and external)
A23: 5.1 | B23: Health & Safety (SSSTS, SMSTS etc) | C23: No of people days on training courses | D23: Agreed with WBC on 24-02-2025 | E23: 10 | F23: 14 | G23: 20 | H23: 37 | I23: 61 | J23: 2
A24: 5.2 | B24: Professional Development (including Pre-employment courses) | D24: Agreed with WBC on 24-02-2025 | E24: 2 | F24: 3 | G24: 4 | H24: 10 | I24: 14 | J24: 15
A25: 5.3 | B25: Sustainability/innovation | D25: Agreed with WBC on 24-02-2025 | E25: 2 | F25: 3 | G25: 4 | H25: 10 | I25: 14 | J25: 15
A26: 6 | B26: Professional and Academic Qualifications
A27: 6.1 | B27: CIAT; CIBSE; CIOB; ICE etc – Starts or Completions | C27: No of Individuals | D27: Agreed with WBC on 24-02-2025 | E27: 0 | F27: 0 | G27: 1 | H27: 2 | I27: 4 | J27: 2
A28: 6.2 | B28: Degree/HNC or similar – Starts or Completions | C28: No of Individuals | D28: Agreed with WBC on 24-02-2025 | E28: 0 | F28: 0 | G28: 1 | H28: 2 | I28: 4 | J28: 1
A29: 6.3 | B29: NVQ (any level) – Starts or Completions | C29: No of Individuals | D29: Agreed with WBC on 24-02-2025 | E29: 2 | F29: 2 | G29: 4 | H29: 10 | I29: 12 | J29: 15
A30: 7 | B30: Training Groups and Plans
A31: 7.1 | B31: Employment and Skills Groups Meetings | C31: No of Meetings | D31: To be Monitored | E31: To be Monitored | F31: To be Monitored | G31: To be Monitored | H31: To be Monitored | I31: To be Monitored | J31: To be Monitored
A32: 7.2 | B32: Training Plans Reviewed (Staff or Supply Chain) | C32: No Individuals or Companies | D32: To be Monitored | E32: To be Monitored | F32: To be Monitored | G32: To be Monitored | H32: To be Monitored | I32: To be Monitored | J32: To be Monitored
A33: 8 | B33: Community Engagement
A34: 8.1 | B34: Newsletters | C34: No of Newsletters | D34: To be Monitored | E34: To be Monitored | F34: To be Monitored | G34: To be Monitored | H34: To be Monitored | I34: To be Monitored | J34: To be Monitored | K34: We will create valuable newsletters showcasing our social impact progress including the below: 1. Project Updates • Progress reports on ongoing social impact projects. • Milestones achieved and future goals. 2. Success Stories • Testimonials from beneficiaries. • Case studies of individuals or communities positively impacted. 3. Volunteer Spotlights • Profiles of dedicated volunteers. • Interviews or stories highlighting their contributions. 4. Partnership Highlights • Features on collaborations with other organisations. • Impact of these partnerships on our initiatives. 5. Upcoming Events • Announcements of events, workshops, or webinars. • Invitations to participate or volunteer. 6. Impact Metrics • Data and statistics showing measurable outcomes. • Infographics that visualise our progress.
A35: 8.2 | B35: Volunteer Events | C35: No of volunteer days | D35: To be Monitored | E35: To be Monitored | F35: To be Monitored | G35: To be Monitored | H35: To be Monitored | I35: To be Monitored | J35: To be Monitored | K35: Balfour Beatty has identified several local charities and community organisations to support through Balfour Beatty staff volunteering days, some examples of these are below: • Wokingham Food Bank – emergency food • Elevate Me Wokingham - Advice and support on employment, training, and education • Promise Inclusion - support and activities for people with learning disabilities and autism • Wokingham In Need: local run charity helping the homeless We will make links with the Wokingham Volunteer Centre to identify further opportunities for volunteering to support local organisations in need.
A36: 8.3 | B36: Charitable Donations | C36: Amount (£) where this is equipment an equivalent cost should be input | D36: To be Monitored | E36: To be Monitored | F36: To be Monitored | G36: To be Monitored | H36: To be Monitored | I36: To be Monitored | J36: To be Monitored | K36: Balfour Beatty has researched and found various charities in the nearby area of the project for which charitable donations will be carefully considered and fundraising opportunities in line with WBC and Balfour Beatty priorities will be made. We will ensure that fundraising will cover a wide range of areas of focus to ensure a fair and even distribution of charitable donations.
A37: 8.4 | B37: Community Based Events (i.e. Time-capsule or Ground Breaking Ceremony) | C37: No of Events | D37: To be Monitored | E37: To be Monitored | F37: To be Monitored | G37: To be Monitored | H37: To be Monitored | I37: To be Monitored | J37: To be Monitored

Sheet ESP Project Tracker (2)
C1: , | D1: Scape Civil Engineering and Infrastructure Framework
D2: Employment and Skills Plan
D3: Project Tracker
C5: Colour Key | F5: New evidence not on original tracker | L5: Evidence of all activities is required for the final evidence file.
C6: Evidenced | F6: uploaded | L6: Photographs from all events should be shared at the earliest opportunity for PR purposes with the Balfour Beatty evdience team, Comms and the client/Scape if applicable.
C7: Actions Taken | F7: Question for Karen
C8: No longer with company - no way of getting evidence | F8: Stated Target | L8: All achievements should be tracked and recorded even those that do not achieve the overall criteria as it will all count towards any Social Value analysis on completion.
C9: Project to be reviewed on a monthly basis and reported to your Regional ESP Champion | F9: =VLOOKUP(X491, Q478:AM485, 2, FALSE) -> #N/A
C10: Insert rows for individual targets as required (See Example)
D11: Employment and Skills Areas | E11: Measured by | F11: Scape Project Target | G11: Target Delivery Breakdown | H11: Achieved to Date | I11: Duration | J11: Summary of Activities to Date | K11: Plan to Achieve ESP Target | L11: Close Out Date | M11: Person Responsible for Delivery | N11: Project Name Target Was Completed On | O11: Evidence Provided
B12: 6 | C12: 1 | D12: Work Experience
B13: U16 work experience must be at least 1 week in duration and does not have to completed all at once. Work placements can be hosted on-site (office based), with suppliers, designers, clients or in BB local offices if available. | C13: 1.1 | D13: Work experience under 16 years | E13: No of Individuals | F13: =SUM(F14:F19) -> 6 | G13: =SUM(G14:G22) -> 13.75 | H13: =SUM(H14:H19) -> 11 | I13: Days
F14: 1 | G14: 1 | H14: 1 | I14: 5 | J14: Kieran O’Brien from Foundry College completed 5 days WE on 11th Feb - 15th Feb 2019. | M14: 06.10.22 | N14: ECI | O14: Diary and Pic Saved
F15: 1 | G15: 1 | H15: 1 | I15: 5 | J15: Alfie Butler-Mcleod from Foundry College completed 5 days WE on ACRR 11th Feb - 15th Feb 2019. | M15: 06.10.22 | N15: ACRR | O15: Diary and Pic Saved
F16: 1 | G16: 6 | H16: 6 | I16: 30 | J16: Learning in Lockdown Virtual Work Experience 18th - 22nd May 2020. (30 days 6 weeks) Adnan Abdulhusein mentored 6 students | N16: SR & WG PH1 | O16: Email from EE Saved
F17: 1 | G17: 1 | H17: 1 | I17: 5 | J17: Vijaya Singh from The Holt School joined the team from 17th - 21st June 2019. | L17: 10.07.19 | M17: 06.10.22 | N17: WG PH2 | O17: Diary saved
F18: 1 | G18: 1 | H18: 1 | I18: 5 | J18: Wiktoria Popielska from Bulmershe School joined the team from 4th - 8th March 2019 | M18: 06.10.22 | N18: WOOFR | O18: Feedback form and pics saved
F19: 1 | G19: 1 | H19: 1 | I19: 5 | J19: Mauve Webley from The Holt School joined the team from 17th - 21st June 2019. | L19: 24.06.19 | M19: Chris Hall 06.10.22 | N19: EG | O19: Feedback form and pic saved
G20: 0.75 | H20: 0.75 | I20: 3 | J20: Archie McDavitt Willink School (20.10.21 - 22.10.21 Office Assistant at R and M Lighting | O20: letter of confirmation from school, thank you note
G21: 1 | H21: 1 | I21: 5 | J21: Alex Hobdon subby Littlewood | L21: 18.10.22
G22: 1 | H22: 1 | I22: 5 | J22: Harry Jones subby Littlewood | L22: 18.10.22
B23: 15 | C23: 1.2 | D23: Work experience over 16 years | E23: No of Individuals | F23: =SUM(F24:F40) -> 15 | G23: =SUM(G24:G40) -> 7.5 | H23: =SUM(H24:H40) -> 7.5 | I23: Days
B24: Over 16 work experience must be for a minimum duration of 2weeks, but does not have to be completed all at once. Placements can be for Colleges, Universities or Adults seeking work. Work experience for adults not in employment, ex-offenders, armed forces leavers or volunteers can also contribute to wider performance indicators. Again any company working on the project can assist with hosting placements. | E24: Previously unemployed, leaving employment or in education / training | F24: 2 | G24: 0.5 | H24: 0.5 | I24: 4 | J24: Alexandria Bramley (The Piggott School) 30.07.18 - 02.08.18 4 days | N24: ECI | O24: Photo, Diary saved
E25: Previously unemployed, leaving employment or in education / training | G25: 0.5 | H25: 0.5 | I25: 5 | J25: Olivia Bray from Willink School sent by subby joined the team on 22nd July - 26th July 2019. | L25: 06.10.22 | M25: Jasvir Sandhu | N25: ECI | O25: Diary saved
E26: Previously unemployed, leaving employment or in education / training | F26: 2 | G26: 0.5 | H26: 0.5 | I26: 5 | J26: Nathan Gourley from Edgebarrow School joined the team on 18th Feb - 22nd Feb 2019. | L26: 06.10.22 | M26: Sian have completed 1.2 - they will send me evidence | N26: ACRR | O26: Diary saved
E27: Previously unemployed, leaving employment or in education / training | F27: 2 | G27: 0.5 | H27: 0.5 | I27: 5 | J27: Henry Woods from Edgbarrow School joined the team on 8th April - 12th April 2019. | L27: 06.10.22 06 | M27: Jasvir Sandhu | N27: LEWD | O27: Photo, Diary saved
E28: Previously unemployed, leaving employment or in education / training | G28: 0.5 | H28: 0.5 | I28: 4 | J28: Joley Mercer Gray (The Piggott School) 29.0518 - 01.06.18 4 days | N28: LEWD | O28: Photo, Diary saved
E29: Previously unemployed, leaving employment or in education / training | F29: 1 | G29: 1 | H29: 1 | I29: 30 | J29: Alicia Davies has been employed for 6 weeks as a summer placement student by Peter Brett Associates working on the WRR design from 9th July 2018 to 17th August 2018. | N29: WRR PH2 | O29: Letter from PBA saved
E30: Previously unemployed, leaving employment or in education / training | G30: 1 | H30: 1 | I30: 65 | J30: Frazer Humroy joined BB on his Civil Engineering placement from 11th June 2018 until 14th September 2018. | N30: LEWD | O30: HR Letter Saved
F31: 1 | J31: Need
F32: 1 | J32: Need
F33: 1 | J33: Need
F34: 1 | J34: Need
F35: 1 | J35: Need
F36: 1 | J36: Need
E37: Previously unemployed, leaving employment or in education / training | F37: 2 | G37: 1 | H37: 1 | I37: 45 | J37: Matthew Hubbartt joined BB on his Civil Engineering placement from 25th June 2018 until 31st August 2018. | N37: WG PH2 | O37: HR Letter Saved
E38: Previously unemployed, leaving employment or in education / training | G38: 1 | H38: 1 | I38: 75 | J38: Hilton Ellis joined BB on a Civil Engineering Industrial Placement from 01st June 2020- 11th Sep 2020
E39: Previously unemployed, leaving employment or in education / training | G39: 1 | H39: 1 | I39: 65 | J39: Jennifer Barclay has joined Balfour Beatty as a Student Civil Engineer on a summer placement. She joined on 17th June 2019 until 20th September 2019. | N39: WOOFR | O39: HR Letter Saved
E40: Choose employment history | N40: AF
C41: 2 | D41: Engagement with schools/colleges
...

Sheet ESP Project Tracker
D1: , | E1: Scape Civil Engineering and Infrastructure Framework
E2: Employment and Skills Plan
E3: Project Tracker
D5: Project Name | F5: Wokingham Major Highways | G5: Project Start Date | K5: 43493 | M5: Evidence of all activities is required for the final evidence file.
D6: Project ESP Co-ordinator | F6: Jas Sandhu | G6: Project End Date | K6: 45044 | M6: Photographs from all events should be shared at the earliest opportunity for PR purposes with the Balfour Beatty evdience team, Comms and the client/Scape if applicable.
D7: Delivery Unit | F7: SBU | G7: Project Category | K7: F: £40m+
D8: Regional Support | F8: Emma Eves | G8: Date issued | K8: 44070 | M8: All achievements should be tracked and recorded even those that do not achieve the overall criteria as it will all count towards any Social Value analysis on completion.
D9: Project to be reviewed on a monthly basis and reported to your Regional ESP Champion | G9: =VLOOKUP(Y590, R577:AN584, 2, FALSE) -> If target is to be defined please agree the target with your ESP Co-ordinator and Client and enter below. If a target is not set please set target as "0" and measure any achievements
D10: Insert rows for individual targets as required (See Example)
E11: Employment and Skills Areas | F11: Measured by | G11: Scape Project Target | H11: Target Delivery Breakdown | I11: Achieved to Date | J11: Duration | K11: Summary of Activities to Date | L11: Plan to Achieve ESP Target | M11: Close Out Date | N11: Person Responsible for Delivery | O11: Project Name Target Was Completed On | P11: Evidence Provided
D12: 1 | E12: Work Experience
B13: U16 work experience must be at least 1 week in duration and does not have to completed all at once. Work placements can be hosted on-site (office based), with suppliers, designers, clients or in BB local offices if available. | D13: 1.1 | E13: Work experience under 16 years | F13: No of Individuals | G13: =SUM(G14:G31) -> 6 | H13: =SUM(H14:H31) -> 11 | I13: =SUM(I14:I31) -> 11 | J13: Days
C14: ECI | G14: 1 | H14: 1 | I14: 1 | J14: 5 | K14: Kieran O’Brien from Foundry College completed 5 days WE on 11th Feb - 15th Feb 2019. | O14: ECI | P14: Diary and Pic Saved
C15: ACRR | G15: 1 | H15: 1 | I15: 1 | J15: 5 | K15: Alfie Butler-Mcleod from Foundry College completed 5 days WE on ACRR 11th Feb - 15th Feb 2019. | O15: ACRR | P15: Diary and Pic Saved
C16: BB | G16: 0 | O16: BB
O17: BB
C18: LEWD | G18: 0 | O18: LEWD
O19: LEWD
C20: WRR PH2 | G20: 0 | O20: WRR PH2
O21: WRR PH2
C22: SR & WG PH1 | G22: 1 | H22: 6 | I22: 6 | J22: 30 | K22: Adnan Abdulhusein mentored 6 students through Scape's Learning in Lockdown Virtual Work Experience Week 18th - 22nd May 2020. (30 days 6 weeks) | O22: SR & WG PH1 | P22: Email from EE Saved
O23: SR & WG PH1
C24: WG PH2 | G24: 1 | H24: 1 | I24: 1 | J24: 5 | K24: Vijaya Singh from The Holt School joined the team from 17th - 21st June 2019. | M24: 10.07.19 | N24: Matt Parkes | O24: WG PH2 | P24: Diary saved
O25: WG PH2
C26: WOOFR | G26: 1 | H26: 1 | I26: 1 | J26: 5 | K26: Wiktoria Popielska from Bulmershe School joined the team from 4th - 8th March 2019 | O26: WOOFR | P26: Feedback form and pics saved
O27: WOOFR
C28: AF | G28: 0 | O28: AF
O29: AF
C30: EG | G30: 1 | H30: 1 | I30: 1 | J30: 5 | K30: Mauve Webley from The Holt School joined the team from 17th - 21st June 2019. | M30: 24.06.19 | N30: Chris Hall | O30: EG | P30: Feedback form and pic saved
O31: EG
D32: 1.2 | E32: Work experience over 16 years | F32: No of Individuals | G32: =SUM(G33:G52) -> 15 | H32: =SUM(H33:H52) -> 3.5 | I32: =SUM(I33:I52) -> 3 | J32: Days
B33: Over 16 work experience must be for a minimum duration of 2weeks, but does not have to be completed all at once. Placements can be for Colleges, Universities or Adults seeking work. Work experience for adults not in employment, ex-offenders, armed forces leavers or volunteers can also contribute to wider performance indicators. Again any company working on the project can assist with hosting placements. | C33: ECI | F33: Choose employment history | G33: 2 | H33: 0.5 | I33: 0.5 | J33: 4 | K33: Alexandria Bramley from The Piggott School joined us for 4 days from Monday 30th July to Thursday 2nd August 2018. | L33: Dawn Hoskins from Bracknell and Wokingham College has a student named Samuel Curry who will be joining the team WE 1st-5th April 2019. CHRIS DECLINED | O33: ECI | P33: Photo, Diary saved
F34: Choose employment history | H34: 0.5 | I34: 0.5 | J34: 5 | K34: Olivia Bray from Willink School sent by subby joined the team on 22nd July - 26th July 2019. | L34: Dawn Hoskins from Bracknell and Wokingham College has a student named Muhumd Sahto who will be joining the team WE 1st-5th April 2019. CHRIS DECLINED | M34: 06.08.19 | N34: Jasvir Sandhu | O34: ECI | P34: Diary saved
C35: ACRR | F35: Choose employment history | G35: 2 | H35: 0.5 | I35: 0.5 | J35: 5 | K35: Nathan Gourley from Edgebarrow School joined the team on 18th Feb - 22nd Feb 2019. | L35: WBC have sent Emma Gray, Sixth Form student who wants WE during ACRR Archaeological works. Awaiting contact details for Emma. | O35: ACRR | P35: Diary saved
F36: Choose employment history | O36: ACRR
C37: BB | F37: Choose employment history | G37: 1 | L37: Sian have completed 1.2 - they will send me evidence | O37: BB
F38: Choose employment history | O38: BB
C39: LEWD | F39: Choose employment history | G39: 2 | H39: 0.5 | I39: 0.5 | J39: 5 | K39: Henry Woods from Edgbarrow School joined the team on 8th April - 12th April 2019. | M39: 15.04.19 | N39: Jasvir Sandhu | O39: LEWD | P39: Photo, Diary saved
F40: Choose employment history | H40: 0.5 | I40: 0.5 | J40: 4 | K40: Joley Mercer Gray from The Piggott School joined us for 4 days from Tuesday 29th May 2018 to Friday 1st June 2018. | O40: LEWD | P40: Photo, Diary saved
C41: WRR PH2 | F41: Choose employment history | G41: 1 | O41: WRR PH2
...

Sheet ESP dashboard
E1: Wokingham Major Highways - ESP and Social Value Dashboard
AT3: Month Reported: July 2020
A5: 1. Work Experience | P5: 2. Engagement with Schools/Colleges | AE5: 3. Adult Employment Opportunities' (19+) | AT5: 4. Trainees, Apprentices, Internships or Graduates (including apprentice training agency placements)
A7: 1.1 Under 16 - 5 Days | AE7: 3.1 Number of Opportunities' Created (employment must be 13+ weeks) | AT7: 4.1 Number of starts or completions
Q9: Overall target (hours) | Z9: ='ESP Project Tracker'!G54 -> 1000
B10: Overall Target (Students) | K10: ='ESP Project Tracker'!G13 -> 6 | AF10: Overall Target | AO10: ='ESP Project Tracker'!G76 -> 24 | AU10: Overall Target | BB10: ='ESP Project Tracker'!G151 -> 14 | BJ10: Achieved to Date | BQ10: 14
AF13: Achieved to Date | AO13: ='ESP Project Tracker'!I76 -> 33
Q14: Achieved to Date (hours) | Z14: ='ESP Project Tracker'!I54 -> 7189
B15: Achieved To Date | K15: ='ESP Project Tracker'!I13 -> 11 | BC15: Outstanding | BJ15: =BB10-BQ10 -> 0
AF16: Total Outstanding | AO16: =AO10-AO13 -> -9
AF19: Project | AI19: Project Target | AL19: Achieved to Date | AO19: Outstanding
B20: Total Outstanding | K20: =K10-K15 -> -5 | AF20: ECI | AI20: 5 | AL20: ='ESP Project Tracker'!I77+'ESP Project Tracker'!I78+'ESP Project Tracker'!I79+'ESP Project Tracker'!I81+'ESP Project Tracker'!I83 -> 5 | AO20: =AI20-AL20 -> 0
AF21: ACRR | AI21: 4 | AL21: ='ESP Project Tracker'!I84+'ESP Project Tracker'!I85+'ESP Project Tracker'!I86+'ESP Project Tracker'!I90 -> 4 | AO21: =AI21-AL21 -> 0
AF22: BB | AI22: 1 | AL22: ='ESP Project Tracker'!I91 -> 1 | AO22: =AI22-AL22 -> 0
AF23: LEWD | AI23: 1 | AL23: ='ESP Project Tracker'!I93 -> 1 | AO23: =AI23-AL23 -> 0
AF24: WRR | AI24: 1 | AL24: ='ESP Project Tracker'!I94 -> 1 | AO24: =AI24-AL24 -> 0
B25: Student Picture | H25: Student Quote | AF25: SR & WG PH1 | AI25: 3 | AL25: ='ESP Project Tracker'!I95+'ESP Project Tracker'!I96+'ESP Project Tracker'!I97 -> 3 | AO25: =AI25-AL25 -> 0
AF26: WG PH2 | AI26: 2 | AL26: ='ESP Project Tracker'!I98+'ESP Project Tracker'!I101 -> 2 | AO26: =AI26-AL26 -> 0
AF27: WOOFR | AI27: 2 | AL27: ='ESP Project Tracker'!I102+'ESP Project Tracker'!I105 -> 2 | AO27: =AI27-AL27 -> 0
AF28: AF | AI28: 1 | AL28: ='ESP Project Tracker'!I106 -> 1 | AO28: =AI28-AL28 -> 0
AF29: EG | AI29: 4 | AL29: ='ESP Project Tracker'!I107+'ESP Project Tracker'!I108+'ESP Project Tracker'!I109+'ESP Project Tracker'!I112 -> 4 | AO29: =AI29-AL29 -> 0
AT31: 4.2 Weeks on site per new Trainees, Apprentices, Internships or Graduates (including apprentice training agency placements)
BC34: Overall Target | BJ34: ='[1]ESP Project Tracker Master'!F145 -> 40
A39: 1.2 Over 16 - 10 days | AE39: 3.2 Number of opportunities advertised locally | AT39: 4.3 and 4.4 Sustained Positions and Weeks on Site
B42: Overall Target (Students) | K42: ='ESP Project Tracker'!G32 -> 15
AF43: Overall Target | AO43: ='ESP Project Tracker'!G113 -> 36
AF46: Achieved to Date | AO46: ='ESP Project Tracker'!I113 -> 30 | BF46: We will monitor and report sustained postions working on the scheme. Identified at this time is Dan Powell
B47: Achieved To Date | K47: ='ESP Project Tracker'!I32 -> 3
AF49: Total Outstanding | AO49: =AO43-AO46 -> 6
B52: Total Outstanding | K52: =K42-K47 -> 12 | AF52: Project | AI52: Project Target | AL52: Achieved to Date | AO52: Outstanding
AF53: ECI | AI53: 6 | AL53: ='ESP Project Tracker'!I114+'ESP Project Tracker'!I115+'ESP Project Tracker'!I116 -> 5 | AO53: =AI53-AL53 -> 1
AF54: ACRR | AI54: 4 | AL54: ='ESP Project Tracker'!I120+'ESP Project Tracker'!I121+'ESP Project Tracker'!I122+'ESP Project Tracker'!I123 -> 4 | AO54: =AI54-AL54 -> 0
AF55: BB | AI55: 1 | AL55: ='ESP Project Tracker'!I124 -> 1 | AO55: =AI55-AL55 -> 0
AF56: LEWD | AI56: 1 | AL56: ='ESP Project Tracker'!I125 -> 1 | AO56: =AI56-AL56 -> 0
AF57: WRR | AI57: 4 | AL57: ='ESP Project Tracker'!I126+'ESP Project Tracker'!I127+'ESP Project Tracker'!I128+'ESP Project Tracker'!I129 -> 2 | AO57: =AI57-AL57 -> 2
B58: Project | E58: Project Target | H58: Achieved to Date | K58: Outstanding | AF58: SR & WG PH1 | AI58: 4 | AL58: ='ESP Project Tracker'!I130+'ESP Project Tracker'!I131+'ESP Project Tracker'!I132+'ESP Project Tracker'!I133 -> 1 | AO58: =AI58-AL58 -> 3
B59: ECI | E59: 2 | H59: ='ESP Project Tracker'!I33+'ESP Project Tracker'!I34 -> 1 | K59: =E59-H59 -> 1 | AF59: WG PH2 | AI59: 4 | AL59: ='ESP Project Tracker'!I134+'ESP Project Tracker'!I135+'ESP Project Tracker'!I136+'ESP Project Tracker'!I137 -> 2 | AO59: =AI59-AL59 -> 2
B60: ACRR | E60: 2 | H60: ='ESP Project Tracker'!I35 -> 0.5 | K60: =E60-H60 -> 1.5 | AF60: WOOFR | AI60: 4 | AL60: ='ESP Project Tracker'!I138+'ESP Project Tracker'!I139+'ESP Project Tracker'!I140+'ESP Project Tracker'!I141 -> 5 | AO60: =AI60-AL60 -> -1
B61: BB | E61: 1 | H61: ='ESP Project Tracker'!I37 -> 0 | K61: =E61-H61 -> 1 | AF61: AF | AI61: 2 | AL61: ='ESP Project Tracker'!I142+'ESP Project Tracker'!I143 -> 1 | AO61: =AI61-AL61 -> 1
B62: LEWD | E62: 2 | H62: ='ESP Project Tracker'!I39+'ESP Project Tracker'!I40 -> 1 | K62: =E62-H62 -> 1 | AF62: EG | AI62: 6 | AL62: ='ESP Project Tracker'!I144+'ESP Project Tracker'!I145+'ESP Project Tracker'!I146+'ESP Project Tracker'!I147+'ESP Project Tracker'!I148+'ESP Project Tracker'!I149 -> 7 | AO62: =AI62-AL62 -> -1
...

Sheet Formulas
A1: Month | B1: Count | H1: Old Engagements
A2: 09.01.19 | B2: 320 | C2: 09/01/2019 Oakbank School Career's Fair | H2: Month | I2: Count
A3: 05.03.19 | B3: 100 | C3: 05/03/2019 National Apprenticeship Show | H3: 22/2/2018 | I3: 70 | J3: 22/2/2018 Job Safari Adventure- Addington school
A4: 07.03.19 | B4: 1042 | C4: 07/03/2019 Learn Live National Apprenticeship Week | H4: 18/6/2018 | I4: 414 | J4: 18/6/2018 Chestnuts Primary School- Aspiration day
H5: 26/6/2018 | I5: 210 | J5: 26/6/2018 Construction learn live event-online
A6: Section 3.1 - Gauge | H6: 4/7/2018 | I6: 1000 | J6: 4/7/2018 Reading College careers fair
A7: red | B7: 6 | D7: value | E7: =SUM('ESP dashboard'!AL20:AN29) -> 24 | H7: 16/7/2018 | I7: 45 | J7: 16/7/2018 Year 10 Careers Morning - Tony Gee - St John the Baptist School.
A8: amber | B8: 12 | D8: Pointer | E8: 0.25 | H8: 18/7/2018 | I8: 20 | J8: 18/7/2018 Piggott school interview workshop
A9: green | B9: 6 | D9: end | E9: 24 | H9: 43392 | I9: 1400 | J9: 19/10/2018 Careers Fair - The Holt School
A10: Total | B10: 24 | H10: 43395 | I10: 800 | J10: 22/10/2018 We Are Engineers - Science Museum
H11: 43417 | I11: 240 | J11: 13/11/2018 Career's Talk
A12: Section 4.1 - Gauge | H12: 43425 | I12: 500 | J12: 21/11/2018 Reading College Career's Fair
A13: red | B13: 4 | D13: value | E13: 9
A14: amber | B14: 6 | D14: Pointer | E14: 0.25
A15: green | B15: 4 | D15: end | E15: 14
A16: Total | B16: 14
A18: Section 4.2 - Gauge
A19: red | B19: 2 | D19: value | E19: 6
A20: amber | B20: 5 | D20: Pointer | E20: 0.25
A21: green | B21: 2 | D21: end | E21: 9
A22: Total | B22: 9
A24: Section 6.1 - Gauge
A25: red | B25: 25 | D25: value | E25: ='ESP Project Tracker'!I210 -> 159.625
A26: amber | B26: 31 | D26: Pointer | E26: 0.25
A27: green | B27: 25 | D27: end | E27: 81
A28: Total | B28: 81
A30: Section 6.2 - Gauge
A31: red | B31: 8 | D31: value | E31: 4.5
A32: amber | B32: 11 | D32: Pointer | E32: 0.25
A33: green | B33: 8 | D33: end | E33: 27
A34: Total | B34: 27
A36: Section 6.3 - Gauge
A37: red | B37: 8 | D37: value | E37: 10.75
A38: amber | B38: 11 | D38: Pointer | E38: 0.25
A39: green | B39: 8 | D39: end | E39: 27
A40: Total | B40: 27
A42: Section 7.1 - Gauge
A43: red | B43: 2 | D43: value | E43: 0
A44: amber | B44: 2 | D44: Pointer | E44: 0.25
A45: green | B45: 2 | D45: end | E45: 6
...

Sheet ESP Targets Per Scheme
A1: Scape Year 3 Targets – Applicable for all projects reaching delivery agreement before Feb-18
A2: We commit to meeting all of the requirements of Appendix 1 in accordance with the terms and conditions set out in the Framework Agreement. Please note that figures provided are on a project basis.
F3: Original Target F | G3: Original Target
B4: Employment and Skills Areas | C4: Measured by | F4: £40+ | G4: ECI Works | H4: Aborfield £13m | I4: Barkham £3.6m | J4: LEWD £3.4m | K4: WRR Ph2 £5.7m | L4: Spine Road & Western Gateway Ph.1 £16.5m | M4: Western Gateway Ph.2 £7.5m | N4: West of Old Forest Road & Toutley Road £13.5m | O4: Ashridge Farm £3.2m | P4: Eastern Gateway £11.7m | Q4: Current Achieved
A5: 1 | B5: Work Experience | G5: Original Target | H5: Original Target | I5: Original Target | J5: Original Target | K5: Original Target | L5: Original Target | M5: Original Target | N5: Original Target | O5: Original Target | P5: Original Target
A6: 1.1 | B6: Work experience under 16 years - 1 week | C6: No of Individuals | F6: ='ESP Project Tracker'!G13 -> 6 | G6: ='ESP Project Tracker'!I14 -> 1 | H6: 1 | I6: 0 | J6: 0 | K6: 0 | L6: 1 | M6: 1 | N6: 1 | O6: 0 | P6: 1 | Q6: ='ESP Project Tracker'!I13 -> 11
A7: 1.2 | B7: Work experience over 16 years - 2 weeks | C7: No of Individuals | F7: ='ESP Project Tracker'!G32 -> 15 | G7: 2 | H7: 2 | I7: 1 | J7: 2 | K7: 1 | L7: 1 | M7: 2 | N7: 1 | O7: 1 | P7: 2 | Q7: ='ESP Project Tracker'!I32 -> 3
A8: 2 | B8: Engagement with schools/colleges
A9: 2.1 | B9: School college visits | C9: No of pupils | F9: ='ESP Project Tracker'!G54 -> 1000 | G9: 100 | H9: 100 | I9: 99 | J9: 45 | K9: 100 | L9: 100 | M9: 100 | N9: 100 | O9: 100 | P9: 156 | Q9: ='ESP Project Tracker'!I54 -> 7189
A10: 3 | B10: Adult Employment Opportunities (19+) (13 weeks minimum)
A11: 3.1 | B11: Number of opportunities created | C11: No of Individuals | F11: ='ESP Project Tracker'!G76 -> 24 | G11: 5 | H11: 4 | I11: 1 | J11: 1 | K11: 1 | L11: 3 | M11: 2 | N11: 2 | O11: 1 | P11: 4 | Q11: ='ESP Project Tracker'!I76 -> 33
A12: 3.2 | B12: Number of opportunities advertised locally | C12: No of advertised positions | F12: ='ESP Project Tracker'!G113 -> 36 | G12: 6 | H12: 4 | I12: 1 | J12: 1 | K12: 4 | L12: 4 | M12: 4 | N12: 4 | O12: 2 | P12: 6 | Q12: ='ESP Project Tracker'!I113 -> 30
A13: 4 | B13: Trainees, Apprentices, Internships or Graduates
B14: (including Apprentice Training Agency placements)
A15: 4.1 | B15: Number of starts or completions | C15: No of Individuals | F15: ='ESP Project Tracker'!G151 -> 14 | G15: 2 | H15: 2 | I15: 1 | J15: 0 | K15: 2 | L15: 1 | M15: 1 | N15: 2 | O15: 1 | P15: 2 | Q15: ='ESP Project Tracker'!I151 -> 12
A16: 4.2 | B16: Weeks on site | C16: Weeks on site per new apprentice | F16: ='ESP Project Tracker'!G168 -> 40 | G16: 40 | H16: 40 | I16: 40 | J16: 0 | K16: 40 | L16: 40 | M16: 40 | N16: 40 | O16: 40 | P16: 40 | Q16: ='ESP Project Tracker'!I168 -> 517
A17: 4.3 | B17: Sustained Positions and Weeks on site | C17: No of Individuals and Weeks on site for existing apprentices | F17: ='ESP Project Tracker'!G185 -> To Be Monitored | G17: 1 | H17: 1 | I17: 1 | J17: 0 | K17: 1 | L17: 1 | M17: 1 | N17: 1 | O17: 1 | P17: 1 | Q17: ='ESP Project Tracker'!I185 -> 0
A18: 5 | B18: Get into Road Construction (WBC Initiative)
A19: 5.1 | B19: Supporting The Unemployed Back Into Employment (WBC Initiative) | C19: No of Individuals. We envisage running no more than 2 courses over the year, and would only expect 8-10 learners per course. We would be targeting the courses at residents who are unemployed with low level/no qualifications who may find work either with yourselves or other contractors at the labouring / gatekeeping type level. | F19: ='ESP Project Tracker'!G197 -> 8 | G19: 1 | H19: 1 | I19: 0 | J19: 0 | K19: 1 | L19: 1 | M19: 1 | N19: 1 | O19: 1 | P19: 1 | Q19: ='ESP Project Tracker'!I197 -> 1
A20: 6 | B20: Training courses (internal and external)
A21: 6.1 | B21: Health & Safety (SSSTS, SMSTS etc…) | C21: No of people days on training courses | F21: ='ESP Project Tracker'!G210 -> 81 | G21: 9 | H21: 9 | I21: 6 | J21: 2 | K21: 9 | L21: 9 | M21: 9 | N21: 9 | O21: 6 | P21: 13 | Q21: ='ESP Project Tracker'!I210 -> 159.625
A22: 6.2 | B22: Professional Development (including Pre-employment courses) | F22: ='ESP Project Tracker'!G282 -> 27 | G22: 3 | H22: 3 | I22: 1 | J22: 1 | K22: 3 | L22: 3 | M22: 3 | N22: 3 | O22: 3 | P22: 4 | Q22: ='ESP Project Tracker'!I282 -> 31.625
A23: 6.3 | B23: Sustainability/innovation | F23: ='ESP Project Tracker'!G313 -> 27 | G23: 3 | H23: 3 | I23: 1 | J23: 1 | K23: 3 | L23: 3 | M23: 3 | N23: 3 | O23: 3 | P23: 4 | Q23: ='ESP Project Tracker'!I313 -> 20.25
A24: 7 | B24: Professional and Academic Qualifications
A25: 7.1 | B25: CIAT; CIBSE; CIOB; ICE etc… – Starts or Completions | C25: No of Individuals | F25: ='ESP Project Tracker'!G352 -> 6 | G25: 1 | H25: 1 | I25: 0 | J25: 0 | K25: 0 | L25: 1 | M25: 1 | N25: 1 | O25: 0 | P25: 1 | Q25: ='ESP Project Tracker'!I352 -> 5
A26: 7.2 | B26: Degree/HNC or similar – Starts or Completions | C26: No of Individuals | F26: ='ESP Project Tracker'!G374 -> 6 | G26: 1 | H26: 1 | I26: 0 | J26: 0 | K26: 0 | L26: 1 | M26: 1 | N26: 1 | O26: 0 | P26: 1 | Q26: ='ESP Project Tracker'!I374 -> 4
A27: 7.3 | B27: NVQ (any level) – Starts or Completions | C27: No of Individuals | F27: ='ESP Project Tracker'!G395 -> 18 | G27: 4 | H27: 2 | I27: 1 | J27: 1 | K27: 1 | L27: 2 | M27: 1 | N27: 2 | O27: 1 | P27: 3 | Q27: ='ESP Project Tracker'!I395 -> 14
A28: 8 | B28: Training Groups and Plans
A29: 8.1 | B29: Employment and Skills Groups Meetings | C29: No of Meetings | F29: 9 | G29: 1 | H29: 1 | I29: 1 | J29: 0 | K29: 1 | L29: 1 | M29: 1 | N29: 1 | O29: 1 | P29: 1 | Q29: ='ESP Project Tracker'!I422 -> 6
A30: 8.2 | B30: Training Plans Reviewed (Staff or Supply Chain) | C30: No Individuals or Companies | F30: TBM | G30: TBM | H30: TBM | I30: TBM | J30: TBM | K30: TBM | L30: TBM | M30: TBM | N30: TBM | O30: TBM | P30: TBM | Q30: ='ESP Project Tracker'!I433 -> 1
A31: 9 | B31: Community Engagement
A32: 9.1 | B32: Newsletters | C32: No of Newsletters | F32: 9 | G32: 1 | H32: 1 | I32: 1 | J32: 1 | K32: 1 | L32: 1 | M32: 1 | N32: 1 | O32: 1 | P32: 1 | Q32: ='ESP Project Tracker'!I440 -> 12
A33: 9.2 | B33: Volunteer Events | C33: No of volunteer days | F33: 50 | G33: 6 | H33: 6 | I33: 3 | J33: 2 | K33: 6 | L33: 6 | M33: 6 | N33: 6 | O33: 3 | P33: 6 | Q33: ='ESP Project Tracker'!I464 -> 30.375
A34: 9.3 | B34: Charitable Donations | C34: Amount (£) where this is equipment an equivalent cost should be input | F34: 10000 | G34: 1000 | H34: 1000 | I34: 1000 | J34: 1000 | K34: 1000 | L34: 1000 | M34: 1000 | N34: 1000 | O34: 1000 | P34: 1000 | Q34: ='ESP Project Tracker'!I510 -> 12897.48
A35: 9.4 | B35: Community Based Events (i.e. Time-capsule or Ground Breaking Ceremony) | C35: No of Events | F35: 9 | G35: 1 | H35: 1 | I35: 1 | J35: 1 | K35: 1 | L35: 1 | M35: 1 | N35: 1 | O35: 1 | P35: 1 | Q35: ='ESP Project Tracker'!I536 -> 5
A36: Increased targets for subsequent years for the above typical projects: (insert a %) | C36: Year 4 | D36: 0.05 | E36: For every £5m spend on a project at least 1 opportunity must be provided for ex-offenders and or armed forces leavers.
