Workbook

Sheet Cover Sheet
A1: Parking Beat Survey
A2: Wellington Road, Wokingham
A4: Wednesday 29th April 2026
A5: Saturday 2nd May 2026
A7: Created by Bert Ramos

Sheet Methodology
A1: SURVEY DETAILS
A2: Survey Type | B2: PARKING BEAT SURVEY
A3: Methodology Guidance | B3: London Borough of Lambeth
A4: Site | B4: Wellington Road, Wokingham
A5: Survey Area | B5: 200 metre walking distance from site
A6: Date/s | B6: Wednesday 29th April 2026 | C6: Saturday 2nd May 2026
A7: Time/s | B7: 08:00/11:00/14:00/17:30/20:00hrs | C7: 11:00/15:00/20:00hrs
A8: Beat Frequency | B8: Snapshot at above times | C8: Snapshot at above times
A9: Unit for 1 Unmarked Lengthwise Space (m) | B9: 5
A10: Unit for 1 Unmarked Crosswise Space (m) | B10: 2.5
A11: Areas Excluded From Survey | B11: Private parking spaces, private roads and off road parking (unless requested in survey specification).
A12: Sections of road excluded from parking capacity calculation | B12: First 7.5m from junction mouth (for reasons of highway safety). Crossovers, dropped kerbs, build-outs, traffic islands, 24/7 illegal parking. Sections of legal lengthwise parking between illegal parking (crossover, dropped kerbs, double yellow etc) that measure less than the unit specified for 1 space. Where the width of the road is such that parking on both sides would cause an obstruction. In this instance one side of the road has been excluded from the capacity calculation.
A13: Parking excluded from stress calculation | B13: Skips or any other non-vehicle occupying a parking space (but noted separately if observed). Any illegal parking on double yellow lines, crossovers, keep clear lines etc (but noted separately if observed).
A14: Terminology | B14: "Parking Stress" - Calculation to express the number of parked vehicles as a percentage of available parking for each parking type. Stress can be over 100% if cars are small and/or parked very closely together. "Parking Capacity Calculation" - Measurement of each length of road between illegal parking (e.g. crossovers, traffic islands, double yellow etc) converted into parking spaces by rounding down to the nearest unit assigned to one parking space and dividing this figure by the unit. "Lengthwise Parking" - Vehicles parked in a lengthwise orientation with wheels parallel to the kerbside. "Crosswise Parking" - Vehicles parked in a crosswise orientation (as seen in car parks or wide sections of road)

Sheet Area Map

Sheet Stress Tables
A1: PARKING STRESS TABLES
A3: Restriction | E3: 1 | G3: =VLOOKUP(E3,'Capacity Measurements'!K$4:L$7094,2,FALSE) -> Unrestricted
A4: Location | B4: Lengthwise Parking (m) | C4: Lengthwise Spaces | D4: Marked/Crosswise Bays | E4: Total Spaces | G4: =Methodology!$B$6 -> Wednesday 29th April 2026 | V4: Saturday 2nd May 2026
G5: 0.33333333 | J5: 0.45833333 | M5: 0.58333333 | P5: 0.72916667 | S5: 0.83333333 | V5: 0.45833333 | Y5: 0.625 | AB5: 0.83333333
G6: Occupied | H6: Spaces | I6: Stress (%) | J6: Occupied | K6: Spaces | L6: Stress (%) | M6: Occupied | N6: Spaces | O6: Stress (%) | P6: Occupied | Q6: Spaces | R6: Stress (%) | S6: Occupied | T6: Spaces | U6: Stress (%) | V6: Occupied | W6: Spaces | X6: Stress (%) | Y6: Occupied | Z6: Spaces | AA6: Stress (%) | AB6: Occupied | AC6: Spaces | AD6: Stress (%)
A7: Albert Road | B7: =SUMIFS('Capacity Measurements'!G:G, 'Capacity Measurements'!A:A,A7,'Capacity Measurements'!C:C, $F7) -> 10 | C7: =B7/Methodology!B$9 -> 2 | D7: =SUMIFS('Capacity Measurements'!F:F, 'Capacity Measurements'!A:A,A7,'Capacity Measurements'!C:C, $F7) -> 0 | E7: =C7+D7 -> 2 | F7: =G$3 -> Unrestricted | G7: 2 | H7: =IF($E7-G7<0, 0, $E7-G7) -> 0 | I7: =(G7/$E7) -> 1 | J7: 2 | K7: =IF($E7-J7<0, 0, $E7-J7) -> 0 | L7: =(J7/$E7) -> 1 | M7: 1 | N7: =IF($E7-M7<0, 0, $E7-M7) -> 1 | O7: =(M7/$E7) -> 0.5 | P7: 2 | Q7: =IF($E7-P7<0, 0, $E7-P7) -> 0 | R7: =(P7/$E7) -> 1 | S7: 1 | T7: =IF($E7-S7<0, 0, $E7-S7) -> 1 | U7: =(S7/$E7) -> 0.5 | V7: 2 | W7: =IF($E7-V7<0, 0, $E7-V7) -> 0 | X7: =(V7/$E7) -> 1 | Y7: 1 | Z7: =IF($E7-Y7<0, 0, $E7-Y7) -> 1 | AA7: =(Y7/$E7) -> 0.5 | AB7: 1 | AC7: =IF($E7-AB7<0, 0, $E7-AB7) -> 1 | AD7: =(AB7/$E7) -> 0.5
A8: Park Road | B8: =SUMIFS('Capacity Measurements'!G:G, 'Capacity Measurements'!A:A,A8,'Capacity Measurements'!C:C, $F8) -> 90 | C8: =B8/Methodology!B$9 -> 18 | D8: =SUMIFS('Capacity Measurements'!F:F, 'Capacity Measurements'!A:A,A8,'Capacity Measurements'!C:C, $F8) -> 0 | E8: =C8+D8 -> 18 | F8: =G$3 -> Unrestricted | G8: 2 | H8: =IF($E8-G8<0, 0, $E8-G8) -> 16 | I8: =(G8/$E8) -> 0.11111111 | J8: 2 | K8: =IF($E8-J8<0, 0, $E8-J8) -> 16 | L8: =(J8/$E8) -> 0.11111111 | M8: 1 | N8: =IF($E8-M8<0, 0, $E8-M8) -> 17 | O8: =(M8/$E8) -> 0.055555556 | P8: 2 | Q8: =IF($E8-P8<0, 0, $E8-P8) -> 16 | R8: =(P8/$E8) -> 0.11111111 | S8: 2 | T8: =IF($E8-S8<0, 0, $E8-S8) -> 16 | U8: =(S8/$E8) -> 0.11111111 | V8: 5 | W8: =IF($E8-V8<0, 0, $E8-V8) -> 13 | X8: =(V8/$E8) -> 0.27777778 | Y8: 1 | Z8: =IF($E8-Y8<0, 0, $E8-Y8) -> 17 | AA8: =(Y8/$E8) -> 0.055555556 | AB8: 4 | AC8: =IF($E8-AB8<0, 0, $E8-AB8) -> 14 | AD8: =(AB8/$E8) -> 0.22222222
A9: Park Avenue | B9: =SUMIFS('Capacity Measurements'!G:G, 'Capacity Measurements'!A:A,A9,'Capacity Measurements'!C:C, $F9) -> 65 | C9: =B9/Methodology!B$9 -> 13 | D9: =SUMIFS('Capacity Measurements'!F:F, 'Capacity Measurements'!A:A,A9,'Capacity Measurements'!C:C, $F9) -> 0 | E9: =C9+D9 -> 13 | F9: =G$3 -> Unrestricted | G9: 5 | H9: =IF($E9-G9<0, 0, $E9-G9) -> 8 | I9: =(G9/$E9) -> 0.38461538 | J9: 4 | K9: =IF($E9-J9<0, 0, $E9-J9) -> 9 | L9: =(J9/$E9) -> 0.30769231 | M9: 4 | N9: =IF($E9-M9<0, 0, $E9-M9) -> 9 | O9: =(M9/$E9) -> 0.30769231 | P9: 4 | Q9: =IF($E9-P9<0, 0, $E9-P9) -> 9 | R9: =(P9/$E9) -> 0.30769231 | S9: 5 | T9: =IF($E9-S9<0, 0, $E9-S9) -> 8 | U9: =(S9/$E9) -> 0.38461538 | V9: 3 | W9: =IF($E9-V9<0, 0, $E9-V9) -> 10 | X9: =(V9/$E9) -> 0.23076923 | Y9: 2 | Z9: =IF($E9-Y9<0, 0, $E9-Y9) -> 11 | AA9: =(Y9/$E9) -> 0.15384615 | AB9: 4 | AC9: =IF($E9-AB9<0, 0, $E9-AB9) -> 9 | AD9: =(AB9/$E9) -> 0.30769231
A10: Total | B10: =SUM(B7:B9) -> 165 | C10: =SUM(C7:C9) -> 33 | D10: =SUM(D7:D9) -> 0 | E10: =SUM(E7:E9) -> 33 | G10: =SUM(G7:G9) -> 9 | H10: =SUM(H7:H9) -> 24 | I10: =(G10/$E10) -> 0.27272727 | J10: =SUM(J7:J9) -> 8 | K10: =SUM(K7:K9) -> 25 | L10: =(J10/$E10) -> 0.24242424 | M10: =SUM(M7:M9) -> 6 | N10: =SUM(N7:N9) -> 27 | O10: =(M10/$E10) -> 0.18181818 | P10: =SUM(P7:P9) -> 8 | Q10: =SUM(Q7:Q9) -> 25 | R10: =(P10/$E10) -> 0.24242424 | S10: =SUM(S7:S9) -> 8 | T10: =SUM(T7:T9) -> 25 | U10: =(S10/$E10) -> 0.24242424 | V10: =SUM(V7:V9) -> 10 | W10: =SUM(W7:W9) -> 23 | X10: =(V10/$E10) -> 0.3030303 | Y10: =SUM(Y7:Y9) -> 4 | Z10: =SUM(Z7:Z9) -> 29 | AA10: =(Y10/$E10) -> 0.12121212 | AB10: =SUM(AB7:AB9) -> 9 | AC10: =SUM(AC7:AC9) -> 24 | AD10: =(AB10/$E10) -> 0.27272727
A12: Restriction | E12: 2 | G12: =VLOOKUP(E12,'Capacity Measurements'!K$4:L$7094,2,FALSE) -> Parking - Mon-Sat 8am-6pm Resident Permit Holders Only or Waiting Limited to 2 Hours - Return Prohibited for 1 Hour
A13: Location | B13: Lengthwise Parking (m) | C13: Lengthwise Spaces | D13: Marked/Crosswise Bays | E13: Total Spaces | G13: =Methodology!$B$6 -> Wednesday 29th April 2026 | V13: Saturday 2nd May 2026
G14: 0.33333333 | J14: 0.45833333 | M14: 0.58333333 | P14: 0.72916667 | S14: 0.83333333 | V14: 0.45833333 | Y14: 0.625 | AB14: 0.83333333
G15: Occupied | H15: Spaces | I15: Stress (%) | J15: Occupied | K15: Spaces | L15: Stress (%) | M15: Occupied | N15: Spaces | O15: Stress (%) | P15: Occupied | Q15: Spaces | R15: Stress (%) | S15: Occupied | T15: Spaces | U15: Stress (%) | V15: Occupied | W15: Spaces | X15: Stress (%) | Y15: Occupied | Z15: Spaces | AA15: Stress (%) | AB15: Occupied | AC15: Spaces | AD15: Stress (%)
A16: Oxford Road | B16: =SUMIFS('Capacity Measurements'!G:G, 'Capacity Measurements'!A:A,A16,'Capacity Measurements'!C:C, $F16) -> 30 | C16: =B16/Methodology!B$9 -> 6 | D16: =SUMIFS('Capacity Measurements'!F:F, 'Capacity Measurements'!A:A,A16,'Capacity Measurements'!C:C, $F16) -> 0 | E16: =C16+D16 -> 6 | F16: =G$12 -> Parking - Mon-Sat 8am-6pm Resident Permit Holders Only or Waiting Limited to 2 Hours - Return Prohibited for 1 Hour | G16: 3 | H16: =IF($E16-G16<0, 0, $E16-G16) -> 3 | I16: =(G16/$E16) -> 0.5 | J16: 2 | K16: =IF($E16-J16<0, 0, $E16-J16) -> 4 | L16: =(J16/$E16) -> 0.33333333 | M16: 2 | N16: =IF($E16-M16<0, 0, $E16-M16) -> 4 | O16: =(M16/$E16) -> 0.33333333 | P16: 2 | Q16: =IF($E16-P16<0, 0, $E16-P16) -> 4 | R16: =(P16/$E16) -> 0.33333333 | S16: 4 | T16: =IF($E16-S16<0, 0, $E16-S16) -> 2 | U16: =(S16/$E16) -> 0.66666667 | V16: 3 | W16: =IF($E16-V16<0, 0, $E16-V16) -> 3 | X16: =(V16/$E16) -> 0.5 | Y16: 4 | Z16: =IF($E16-Y16<0, 0, $E16-Y16) -> 2 | AA16: =(Y16/$E16) -> 0.66666667 | AB16: 5 | AC16: =IF($E16-AB16<0, 0, $E16-AB16) -> 1 | AD16: =(AB16/$E16) -> 0.83333333
A17: Total | B17: =SUM(B16:B16) -> 30 | C17: =SUM(C16:C16) -> 6 | D17: =SUM(D16:D16) -> 0 | E17: =SUM(E16:E16) -> 6 | G17: =SUM(G16:G16) -> 3 | H17: =SUM(H16:H16) -> 3 | I17: =(G17/$E17) -> 0.5 | J17: =SUM(J16:J16) -> 2 | K17: =SUM(K16:K16) -> 4 | L17: =(J17/$E17) -> 0.33333333 | M17: =SUM(M16:M16) -> 2 | N17: =SUM(N16:N16) -> 4 | O17: =(M17/$E17) -> 0.33333333 | P17: =SUM(P16:P16) -> 2 | Q17: =SUM(Q16:Q16) -> 4 | R17: =(P17/$E17) -> 0.33333333 | S17: =SUM(S16:S16) -> 4 | T17: =SUM(T16:T16) -> 2 | U17: =(S17/$E17) -> 0.66666667 | V17: =SUM(V16:V16) -> 3 | W17: =SUM(W16:W16) -> 3 | X17: =(V17/$E17) -> 0.5 | Y17: =SUM(Y16:Y16) -> 4 | Z17: =SUM(Z16:Z16) -> 2 | AA17: =(Y17/$E17) -> 0.66666667 | AB17: =SUM(AB16:AB16) -> 5 | AC17: =SUM(AC16:AC16) -> 1 | AD17: =(AB17/$E17) -> 0.83333333
A19: Restriction | E19: 3 | G19: =VLOOKUP(E19,'Capacity Measurements'!K$4:L$7094,2,FALSE) -> Parking - Mon-Sat 8am-6pm -- 30 minutes No return within 30 minutes
A20: Location | B20: Lengthwise Parking (m) | C20: Lengthwise Spaces | D20: Marked/Crosswise Bays | E20: Total Spaces | G20: =Methodology!$B$6 -> Wednesday 29th April 2026 | V20: Saturday 2nd May 2026
G21: 0.33333333 | J21: 0.45833333 | M21: 0.58333333 | P21: 0.72916667 | S21: 0.83333333 | V21: 0.45833333 | Y21: 0.625 | AB21: 0.83333333
G22: Occupied | H22: Spaces | I22: Stress (%) | J22: Occupied | K22: Spaces | L22: Stress (%) | M22: Occupied | N22: Spaces | O22: Stress (%) | P22: Occupied | Q22: Spaces | R22: Stress (%) | S22: Occupied | T22: Spaces | U22: Stress (%) | V22: Occupied | W22: Spaces | X22: Stress (%) | Y22: Occupied | Z22: Spaces | AA22: Stress (%) | AB22: Occupied | AC22: Spaces | AD22: Stress (%)
A23: Barkham Road | B23: =SUMIFS('Capacity Measurements'!G:G, 'Capacity Measurements'!A:A,A23,'Capacity Measurements'!C:C, $F23) -> 15 | C23: =B23/Methodology!B$9 -> 3 | D23: =SUMIFS('Capacity Measurements'!F:F, 'Capacity Measurements'!A:A,A23,'Capacity Measurements'!C:C, $F23) -> 0 | E23: =C23+D23 -> 3 | F23: =G$19 -> Parking - Mon-Sat 8am-6pm -- 30 minutes No return within 30 minutes | G23: 1 | H23: =IF($E23-G23<0, 0, $E23-G23) -> 2 | I23: =(G23/$E23) -> 0.33333333 | J23: 1 | K23: =IF($E23-J23<0, 0, $E23-J23) -> 2 | L23: =(J23/$E23) -> 0.33333333 | M23: 1 | N23: =IF($E23-M23<0, 0, $E23-M23) -> 2 | O23: =(M23/$E23) -> 0.33333333 | P23: 2 | Q23: =IF($E23-P23<0, 0, $E23-P23) -> 1 | R23: =(P23/$E23) -> 0.66666667 | S23: 0 | T23: =IF($E23-S23<0, 0, $E23-S23) -> 3 | U23: =(S23/$E23) -> 0 | V23: 3 | W23: =IF($E23-V23<0, 0, $E23-V23) -> 0 | X23: =(V23/$E23) -> 1 | Y23: 3 | Z23: =IF($E23-Y23<0, 0, $E23-Y23) -> 0 | AA23: =(Y23/$E23) -> 1 | AB23: 0 | AC23: =IF($E23-AB23<0, 0, $E23-AB23) -> 3 | AD23: =(AB23/$E23) -> 0
A24: Total | B24: =SUM(B23:B23) -> 15 | C24: =SUM(C23:C23) -> 3 | D24: =SUM(D23:D23) -> 0 | E24: =SUM(E23:E23) -> 3 | G24: =SUM(G23:G23) -> 1 | H24: =SUM(H23:H23) -> 2 | I24: =(G24/$E24) -> 0.33333333 | J24: =SUM(J23:J23) -> 1 | K24: =SUM(K23:K23) -> 2 | L24: =(J24/$E24) -> 0.33333333 | M24: =SUM(M23:M23) -> 1 | N24: =SUM(N23:N23) -> 2 | O24: =(M24/$E24) -> 0.33333333 | P24: =SUM(P23:P23) -> 2 | Q24: =SUM(Q23:Q23) -> 1 | R24: =(P24/$E24) -> 0.66666667 | S24: =SUM(S23:S23) -> 0 | T24: =SUM(T23:T23) -> 3 | U24: =(S24/$E24) -> 0 | V24: =SUM(V23:V23) -> 3 | W24: =SUM(W23:W23) -> 0 | X24: =(V24/$E24) -> 1 | Y24: =SUM(Y23:Y23) -> 3 | Z24: =SUM(Z23:Z23) -> 0 | AA24: =(Y24/$E24) -> 1 | AB24: =SUM(AB23:AB23) -> 0 | AC24: =SUM(AC23:AC23) -> 3 | AD24: =(AB24/$E24) -> 0
A26: Restriction | E26: 4 | G26: =VLOOKUP(E26,'Capacity Measurements'!K$4:L$7094,2,FALSE) -> Parking - 6am - 10pm - 2 Hours - No Return within 1 Hour
A27: Location | B27: Lengthwise Parking (m) | C27: Lengthwise Spaces | D27: Marked/Crosswise Bays | E27: Total Spaces | G27: =Methodology!$B$6 -> Wednesday 29th April 2026 | V27: Saturday 2nd May 2026
G28: 0.33333333 | J28: 0.45833333 | M28: 0.58333333 | P28: 0.72916667 | S28: 0.83333333 | V28: 0.45833333 | Y28: 0.625 | AB28: 0.83333333
G29: Occupied | H29: Spaces | I29: Stress (%) | J29: Occupied | K29: Spaces | L29: Stress (%) | M29: Occupied | N29: Spaces | O29: Stress (%) | P29: Occupied | Q29: Spaces | R29: Stress (%) | S29: Occupied | T29: Spaces | U29: Stress (%) | V29: Occupied | W29: Spaces | X29: Stress (%) | Y29: Occupied | Z29: Spaces | AA29: Stress (%) | AB29: Occupied | AC29: Spaces | AD29: Stress (%)
A30: Outfield Crescent | B30: =SUMIFS('Capacity Measurements'!G:G, 'Capacity Measurements'!A:A,A30,'Capacity Measurements'!C:C, $F30) -> 15 | C30: =B30/Methodology!B$9 -> 3 | D30: =SUMIFS('Capacity Measurements'!F:F, 'Capacity Measurements'!A:A,A30,'Capacity Measurements'!C:C, $F30) -> 0 | E30: =C30+D30 -> 3 | F30: =G$26 -> Parking - 6am - 10pm - 2 Hours - No Return within 1 Hour | G30: 0 | H30: =IF($E30-G30<0, 0, $E30-G30) -> 3 | I30: =(G30/$E30) -> 0 | J30: 0 | K30: =IF($E30-J30<0, 0, $E30-J30) -> 3 | L30: =(J30/$E30) -> 0 | M30: 0 | N30: =IF($E30-M30<0, 0, $E30-M30) -> 3 | O30: =(M30/$E30) -> 0 | P30: 0 | Q30: =IF($E30-P30<0, 0, $E30-P30) -> 3 | R30: =(P30/$E30) -> 0 | S30: 1 | T30: =IF($E30-S30<0, 0, $E30-S30) -> 2 | U30: =(S30/$E30) -> 0.33333333 | V30: 0 | W30: =IF($E30-V30<0, 0, $E30-V30) -> 3 | X30: =(V30/$E30) -> 0 | Y30: 0 | Z30: =IF($E30-Y30<0, 0, $E30-Y30) -> 3 | AA30: =(Y30/$E30) -> 0 | AB30: 1 | AC30: =IF($E30-AB30<0, 0, $E30-AB30) -> 2 | AD30: =(AB30/$E30) -> 0.33333333
A31: Total | B31: =SUM(B30:B30) -> 15 | C31: =SUM(C30:C30) -> 3 | D31: =SUM(D30:D30) -> 0 | E31: =SUM(E30:E30) -> 3 | G31: =SUM(G30:G30) -> 0 | H31: =SUM(H30:H30) -> 3 | I31: =(G31/$E31) -> 0 | J31: =SUM(J30:J30) -> 0 | K31: =SUM(K30:K30) -> 3 | L31: =(J31/$E31) -> 0 | M31: =SUM(M30:M30) -> 0 | N31: =SUM(N30:N30) -> 3 | O31: =(M31/$E31) -> 0 | P31: =SUM(P30:P30) -> 0 | Q31: =SUM(Q30:Q30) -> 3 | R31: =(P31/$E31) -> 0 | S31: =SUM(S30:S30) -> 1 | T31: =SUM(T30:T30) -> 2 | U31: =(S31/$E31) -> 0.33333333 | V31: =SUM(V30:V30) -> 0 | W31: =SUM(W30:W30) -> 3 | X31: =(V31/$E31) -> 0 | Y31: =SUM(Y30:Y30) -> 0 | Z31: =SUM(Z30:Z30) -> 3 | AA31: =(Y31/$E31) -> 0 | AB31: =SUM(AB30:AB30) -> 1 | AC31: =SUM(AC30:AC30) -> 2 | AD31: =(AB31/$E31) -> 0.33333333
A33: Restriction | E33: 5 | G33: =VLOOKUP(E33,'Capacity Measurements'!K$4:L$7094,2,FALSE) -> Drop Zone/Double Yellow
A34: Location | B34: Lengthwise Parking (m) | C34: Lengthwise Spaces | D34: Marked/Crosswise Bays | E34: Total Spaces | G34: =Methodology!$B$6 -> Wednesday 29th April 2026 | V34: Saturday 2nd May 2026
G35: 0.33333333 | J35: 0.45833333 | M35: 0.58333333 | P35: 0.72916667 | S35: 0.83333333 | V35: 0.45833333 | Y35: 0.625 | AB35: 0.83333333
G36: Occupied | H36: Spaces | I36: Stress (%) | J36: Occupied | K36: Spaces | L36: Stress (%) | M36: Occupied | N36: Spaces | O36: Stress (%) | P36: Occupied | Q36: Spaces | R36: Stress (%) | S36: Occupied | T36: Spaces | U36: Stress (%) | V36: Occupied | W36: Spaces | X36: Stress (%) | Y36: Occupied | Z36: Spaces | AA36: Stress (%) | AB36: Occupied | AC36: Spaces | AD36: Stress (%)
A37: Station Approach | B37: =SUMIFS('Capacity Measurements'!G:G, 'Capacity Measurements'!A:A,A37,'Capacity Measurements'!C:C, $F37) -> 55 | C37: =B37/Methodology!B$9 -> 11 | D37: =SUMIFS('Capacity Measurements'!F:F, 'Capacity Measurements'!A:A,A37,'Capacity Measurements'!C:C, $F37) -> 0 | E37: =C37+D37 -> 11 | F37: =G$33 -> Drop Zone/Double Yellow | G37: 0 | H37: =IF($E37-G37<0, 0, $E37-G37) -> 11 | I37: =(G37/$E37) -> 0 | J37: 0 | K37: =IF($E37-J37<0, 0, $E37-J37) -> 11 | L37: =(J37/$E37) -> 0 | M37: 1 | N37: =IF($E37-M37<0, 0, $E37-M37) -> 10 | O37: =(M37/$E37) -> 0.090909091 | P37: 0 | Q37: =IF($E37-P37<0, 0, $E37-P37) -> 11 | R37: =(P37/$E37) -> 0 | S37: 2 | T37: =IF($E37-S37<0, 0, $E37-S37) -> 9 | U37: =(S37/$E37) -> 0.18181818 | V37: 0 | W37: =IF($E37-V37<0, 0, $E37-V37) -> 11 | X37: =(V37/$E37) -> 0 | Y37: 0 | Z37: =IF($E37-Y37<0, 0, $E37-Y37) -> 11 | AA37: =(Y37/$E37) -> 0 | AB37: 1 | AC37: =IF($E37-AB37<0, 0, $E37-AB37) -> 10 | AD37: =(AB37/$E37) -> 0.090909091
A38: Total | B38: =SUM(B37:B37) -> 55 | C38: =SUM(C37:C37) -> 11 | D38: =SUM(D37:D37) -> 0 | E38: =SUM(E37:E37) -> 11 | G38: =SUM(G37:G37) -> 0 | H38: =SUM(H37:H37) -> 11 | I38: =(G38/$E38) -> 0 | J38: =SUM(J37:J37) -> 0 | K38: =SUM(K37:K37) -> 11 | L38: =(J38/$E38) -> 0 | M38: =SUM(M37:M37) -> 1 | N38: =SUM(N37:N37) -> 10 | O38: =(M38/$E38) -> 0.090909091 | P38: =SUM(P37:P37) -> 0 | Q38: =SUM(Q37:Q37) -> 11 | R38: =(P38/$E38) -> 0 | S38: =SUM(S37:S37) -> 2 | T38: =SUM(T37:T37) -> 9 | U38: =(S38/$E38) -> 0.18181818 | V38: =SUM(V37:V37) -> 0 | W38: =SUM(W37:W37) -> 11 | X38: =(V38/$E38) -> 0 | Y38: =SUM(Y37:Y37) -> 0 | Z38: =SUM(Z37:Z37) -> 11 | AA38: =(Y38/$E38) -> 0 | AB38: =SUM(AB37:AB37) -> 1 | AC38: =SUM(AC37:AC37) -> 10 | AD38: =(AB38/$E38) -> 0.090909091
A40: Illegal/Obstructive Parking
A41: Location | C41: Description | G41: =Methodology!$B$6 -> Wednesday 29th April 2026 | V41: Saturday 2nd May 2026
G42: 0.33333333 | J42: 0.45833333 | M42: 0.58333333 | P42: 0.72916667 | S42: 0.83333333 | V42: 0.45833333 | Y42: 0.625 | AB42: 0.83333333
G43: Occupied | J43: Occupied | M43: Occupied | P43: Occupied | S43: Occupied | V43: Occupied | Y43: Occupied | AB43: Occupied
G44: 0 | J44: 0 | M44: 0 | P44: 0 | S44: 0 | V44: 0 | Y44: 0 | AB44: 0
A45: Total | G45: 0 | J45: 0 | M45: 0 | P45: 0 | S45: 0 | V45: 0 | Y45: 0 | AB45: 0

Sheet Capacity Measurements
A1: PARKING CAPACITY MEASUREMENTS
A2: A working table showing kerbside measurements for each parking type.
A3: Location | B3: Side of Road & Measuring Orientation | C3: Parking Type | D3: Section Length (m) | E3: Crosswise Spaces or Lengthwise Marked Bays | F3: Number of Crosswise Spaces or Marked Bays | G3: Unit Round Down (If Lengthwise & Unmarked) | H3: Total Spaces | J3: Location List | K3: Restriction ID | L3: Restriction List
A4: Wellington Road | B4: W N-S | C4: Double Yellow Lines | D4: 56.1 | G4: =IF(E4="",FLOOR(D4,Methodology!B$9),"") -> 55 | H4: =IF(G4<>"",(G4/Methodology!B$9),(F4)) -> 11 | J4: {=IFERROR(INDEX($A$4:$A$39094, MATCH(0,COUNTIF($J$3:J3, $A$4:$A$39094), 0)),"")} -> Wellington Road | L4: {=IFERROR(INDEX($C$4:$C$39094, MATCH(0,COUNTIF($L$3:L3, $C$4:$C$3094), 0)),"")} -> Double Yellow Lines
A5: Wellington Road | B5: E S-N | C5: Double Yellow Lines | D5: 90.8 | G5: =IF(E5="",FLOOR(D5,Methodology!B$9),"") -> 90 | H5: =IF(G5<>"",(G5/Methodology!B$9),(F5)) -> 18 | J5: {=IFERROR(INDEX($A$4:$A$39094, MATCH(0,COUNTIF($J$3:J4, $A$4:$A$39094), 0)),"")} -> Albert Road | L5: {=IFERROR(INDEX($C$4:$C$39094, MATCH(0,COUNTIF($L$3:L4, $C$4:$C$3094), 0)),"")} -> Too Narrow to Park
A6: Albert Road | B6: S W-E | C6: Double Yellow Lines | D6: 9.2 | G6: =IF(E6="",FLOOR(D6,Methodology!B$9),"") -> 5 | H6: =IF(G6<>"",(G6/Methodology!B$9),(F6)) -> 1 | J6: {=IFERROR(INDEX($A$4:$A$39094, MATCH(0,COUNTIF($J$3:J5, $A$4:$A$39094), 0)),"")} -> Station Road | L6: {=IFERROR(INDEX($C$4:$C$39094, MATCH(0,COUNTIF($L$3:L5, $C$4:$C$3094), 0)),"")} -> Crossover
A7: Albert Road | B7: S W-E | C7: Too Narrow to Park | D7: 17.7 | G7: =IF(E7="",FLOOR(D7,Methodology!B$9),"") -> 15 | H7: =IF(G7<>"",(G7/Methodology!B$9),(F7)) -> 3 | J7: {=IFERROR(INDEX($A$4:$A$39094, MATCH(0,COUNTIF($J$3:J6, $A$4:$A$39094), 0)),"")} -> Station Approach | K7: 1 | L7: {=IFERROR(INDEX($C$4:$C$39094, MATCH(0,COUNTIF($L$3:L6, $C$4:$C$3094), 0)),"")} -> Unrestricted
A8: Albert Road | B8: S W-E | C8: Crossover | D8: 10.9 | G8: =IF(E8="",FLOOR(D8,Methodology!B$9),"") -> 10 | H8: =IF(G8<>"",(G8/Methodology!B$9),(F8)) -> 2 | J8: {=IFERROR(INDEX($A$4:$A$39094, MATCH(0,COUNTIF($J$3:J7, $A$4:$A$39094), 0)),"")} -> Barkham Road | L8: {=IFERROR(INDEX($C$4:$C$39094, MATCH(0,COUNTIF($L$3:L7, $C$4:$C$3094), 0)),"")} -> Junction
A9: Albert Road | B9: S W-E | C9: Too Narrow to Park | D9: 6.6 | G9: =IF(E9="",FLOOR(D9,Methodology!B$9),"") -> 5 | H9: =IF(G9<>"",(G9/Methodology!B$9),(F9)) -> 1 | J9: {=IFERROR(INDEX($A$4:$A$39094, MATCH(0,COUNTIF($J$3:J8, $A$4:$A$39094), 0)),"")} -> Oxford Road | L9: {=IFERROR(INDEX($C$4:$C$39094, MATCH(0,COUNTIF($L$3:L8, $C$4:$C$3094), 0)),"")} -> Access (Car Park)
A10: Albert Road | B10: S W-E | C10: Crossover | D10: 11.1 | G10: =IF(E10="",FLOOR(D10,Methodology!B$9),"") -> 10 | H10: =IF(G10<>"",(G10/Methodology!B$9),(F10)) -> 2 | J10: {=IFERROR(INDEX($A$4:$A$39094, MATCH(0,COUNTIF($J$3:J9, $A$4:$A$39094), 0)),"")} -> Outfield Crescent | L10: {=IFERROR(INDEX($C$4:$C$39094, MATCH(0,COUNTIF($L$3:L9, $C$4:$C$3094), 0)),"")} -> White Zig Zag Lines
A11: Albert Road | B11: S W-E | C11: Too Narrow to Park | D11: 8.1 | G11: =IF(E11="",FLOOR(D11,Methodology!B$9),"") -> 5 | H11: =IF(G11<>"",(G11/Methodology!B$9),(F11)) -> 1 | J11: {=IFERROR(INDEX($A$4:$A$39094, MATCH(0,COUNTIF($J$3:J10, $A$4:$A$39094), 0)),"")} -> Park Road | L11: {=IFERROR(INDEX($C$4:$C$39094, MATCH(0,COUNTIF($L$3:L10, $C$4:$C$3094), 0)),"")} -> Car Park Entrance
A12: Albert Road | B12: S W-E | C12: Crossover | D12: 8.6 | G12: =IF(E12="",FLOOR(D12,Methodology!B$9),"") -> 5 | H12: =IF(G12<>"",(G12/Methodology!B$9),(F12)) -> 1 | J12: {=IFERROR(INDEX($A$4:$A$39094, MATCH(0,COUNTIF($J$3:J11, $A$4:$A$39094), 0)),"")} -> Park Avenue | K12: 5 | L12: {=IFERROR(INDEX($C$4:$C$39094, MATCH(0,COUNTIF($L$3:L11, $C$4:$C$3094), 0)),"")} -> Drop Zone/Double Yellow
A13: Albert Road | B13: S W-E | C13: Too Narrow to Park | D13: 9.8 | G13: =IF(E13="",FLOOR(D13,Methodology!B$9),"") -> 5 | H13: =IF(G13<>"",(G13/Methodology!B$9),(F13)) -> 1 | J13: {=IFERROR(INDEX($A$4:$A$39094, MATCH(0,COUNTIF($J$3:J12, $A$4:$A$39094), 0)),"")} -> 0 | L13: {=IFERROR(INDEX($C$4:$C$39094, MATCH(0,COUNTIF($L$3:L12, $C$4:$C$3094), 0)),"")} -> Level Crossing
A14: Albert Road | B14: S W-E | C14: Crossover | D14: 7.6 | G14: =IF(E14="",FLOOR(D14,Methodology!B$9),"") -> 5 | H14: =IF(G14<>"",(G14/Methodology!B$9),(F14)) -> 1 | J14: {=IFERROR(INDEX($A$4:$A$39094, MATCH(0,COUNTIF($J$3:J13, $A$4:$A$39094), 0)),"")} | K14: 2 | L14: {=IFERROR(INDEX($C$4:$C$39094, MATCH(0,COUNTIF($L$3:L13, $C$4:$C$3094), 0)),"")} -> Parking - Mon-Sat 8am-6pm Resident Permit Holders Only or Waiting Limited to 2 Hours - Return Prohibited for 1 Hour
A15: Albert Road | B15: S W-E | C15: Too Narrow to Park | D15: 6.2 | G15: =IF(E15="",FLOOR(D15,Methodology!B$9),"") -> 5 | H15: =IF(G15<>"",(G15/Methodology!B$9),(F15)) -> 1 | J15: {=IFERROR(INDEX($A$4:$A$39094, MATCH(0,COUNTIF($J$3:J14, $A$4:$A$39094), 0)),"")} | K15: 3 | L15: {=IFERROR(INDEX($C$4:$C$39094, MATCH(0,COUNTIF($L$3:L14, $C$4:$C$3094), 0)),"")} -> Parking - Mon-Sat 8am-6pm -- 30 minutes No return within 30 minutes
A16: Albert Road | B16: N E-W | C16: Crossover | D16: 8.9 | G16: =IF(E16="",FLOOR(D16,Methodology!B$9),"") -> 5 | H16: =IF(G16<>"",(G16/Methodology!B$9),(F16)) -> 1 | J16: {=IFERROR(INDEX($A$4:$A$39094, MATCH(0,COUNTIF($J$3:J15, $A$4:$A$39094), 0)),"")} | K16: 4 | L16: {=IFERROR(INDEX($C$4:$C$39094, MATCH(0,COUNTIF($L$3:L15, $C$4:$C$3094), 0)),"")} -> Parking - 6am - 10pm - 2 Hours - No Return within 1 Hour
A17: Albert Road | B17: N E-W | C17: Too Narrow to Park | D17: 10.9 | G17: =IF(E17="",FLOOR(D17,Methodology!B$9),"") -> 10 | H17: =IF(G17<>"",(G17/Methodology!B$9),(F17)) -> 2 | J17: {=IFERROR(INDEX($A$4:$A$39094, MATCH(0,COUNTIF($J$3:J16, $A$4:$A$39094), 0)),"")} | L17: {=IFERROR(INDEX($C$4:$C$39094, MATCH(0,COUNTIF($L$3:L16, $C$4:$C$3094), 0)),"")} -> Access
A18: Albert Road | B18: N E-W | C18: Crossover | D18: 39 | G18: =IF(E18="",FLOOR(D18,Methodology!B$9),"") -> 35 | H18: =IF(G18<>"",(G18/Methodology!B$9),(F18)) -> 7 | J18: {=IFERROR(INDEX($A$4:$A$39094, MATCH(0,COUNTIF($J$3:J17, $A$4:$A$39094), 0)),"")} | L18: {=IFERROR(INDEX($C$4:$C$39094, MATCH(0,COUNTIF($L$3:L17, $C$4:$C$3094), 0)),"")} -> 0
A19: Albert Road | B19: N E-W | C19: Unrestricted | D19: 11.3 | G19: =IF(E19="",FLOOR(D19,Methodology!B$9),"") -> 10 | H19: =IF(G19<>"",(G19/Methodology!B$9),(F19)) -> 2 | J19: {=IFERROR(INDEX($A$4:$A$39094, MATCH(0,COUNTIF($J$3:J18, $A$4:$A$39094), 0)),"")} | L19: {=IFERROR(INDEX($C$4:$C$39094, MATCH(0,COUNTIF($L$3:L18, $C$4:$C$3094), 0)),"")}
A20: Albert Road | B20: N E-W | C20: Crossover | D20: 17.3 | G20: =IF(E20="",FLOOR(D20,Methodology!B$9),"") -> 15 | H20: =IF(G20<>"",(G20/Methodology!B$9),(F20)) -> 3 | J20: {=IFERROR(INDEX($A$4:$A$39094, MATCH(0,COUNTIF($J$3:J19, $A$4:$A$39094), 0)),"")} | L20: {=IFERROR(INDEX($C$4:$C$39094, MATCH(0,COUNTIF($L$3:L19, $C$4:$C$3094), 0)),"")}
A21: Albert Road | B21: N E-W | C21: Double Yellow Lines | D21: 18.5 | G21: =IF(E21="",FLOOR(D21,Methodology!B$9),"") -> 15 | H21: =IF(G21<>"",(G21/Methodology!B$9),(F21)) -> 3 | J21: {=IFERROR(INDEX($A$4:$A$39094, MATCH(0,COUNTIF($J$3:J20, $A$4:$A$39094), 0)),"")} | L21: {=IFERROR(INDEX($C$4:$C$39094, MATCH(0,COUNTIF($L$3:L20, $C$4:$C$3094), 0)),"")}
A22: Wellington Road | B22: E S-N | C22: Double Yellow Lines | D22: 84.3 | G22: =IF(E22="",FLOOR(D22,Methodology!B$9),"") -> 80 | H22: =IF(G22<>"",(G22/Methodology!B$9),(F22)) -> 16 | J22: {=IFERROR(INDEX($A$4:$A$39094, MATCH(0,COUNTIF($J$3:J21, $A$4:$A$39094), 0)),"")} | L22: {=IFERROR(INDEX($C$4:$C$39094, MATCH(0,COUNTIF($L$3:L21, $C$4:$C$3094), 0)),"")}
A23: Wellington Road | B23: E S-N | C23: Junction | H23: 0 | J23: {=IFERROR(INDEX($A$4:$A$39094, MATCH(0,COUNTIF($J$3:J22, $A$4:$A$39094), 0)),"")} | L23: {=IFERROR(INDEX($C$4:$C$39094, MATCH(0,COUNTIF($L$3:L22, $C$4:$C$3094), 0)),"")}
A24: Wellington Road | B24: E S-N | C24: Double Yellow Lines | D24: 80.2 | G24: =IF(E24="",FLOOR(D24,Methodology!B$9),"") -> 80 | H24: =IF(G24<>"",(G24/Methodology!B$9),(F24)) -> 16 | J24: {=IFERROR(INDEX($A$4:$A$39094, MATCH(0,COUNTIF($J$3:J23, $A$4:$A$39094), 0)),"")} | L24: {=IFERROR(INDEX($C$4:$C$39094, MATCH(0,COUNTIF($L$3:L23, $C$4:$C$3094), 0)),"")}
A25: Station Road | B25: S W-E | C25: Double Yellow Lines | D25: 100.5 | G25: =IF(E25="",FLOOR(D25,Methodology!B$9),"") -> 100 | H25: =IF(G25<>"",(G25/Methodology!B$9),(F25)) -> 20 | J25: {=IFERROR(INDEX($A$4:$A$39094, MATCH(0,COUNTIF($J$3:J24, $A$4:$A$39094), 0)),"")} | L25: {=IFERROR(INDEX($C$4:$C$39094, MATCH(0,COUNTIF($L$3:L24, $C$4:$C$3094), 0)),"")}
A26: Station Road | B26: N E-W | C26: Double Yellow Lines | D26: 101.4 | G26: =IF(E26="",FLOOR(D26,Methodology!B$9),"") -> 100 | H26: =IF(G26<>"",(G26/Methodology!B$9),(F26)) -> 20 | J26: {=IFERROR(INDEX($A$4:$A$39094, MATCH(0,COUNTIF($J$3:J25, $A$4:$A$39094), 0)),"")} | L26: {=IFERROR(INDEX($C$4:$C$39094, MATCH(0,COUNTIF($L$3:L25, $C$4:$C$3094), 0)),"")}
A27: Station Approach | B27: E S-N | C27: Double Yellow Lines | D27: 72.5 | G27: =IF(E27="",FLOOR(D27,Methodology!B$9),"") -> 70 | H27: =IF(G27<>"",(G27/Methodology!B$9),(F27)) -> 14 | J27: {=IFERROR(INDEX($A$4:$A$39094, MATCH(0,COUNTIF($J$3:J26, $A$4:$A$39094), 0)),"")} | L27: {=IFERROR(INDEX($C$4:$C$39094, MATCH(0,COUNTIF($L$3:L26, $C$4:$C$3094), 0)),"")}
A28: Station Approach | B28: E S-N | C28: Access (Car Park) | D28: 9 | G28: =IF(E28="",FLOOR(D28,Methodology!B$9),"") -> 5 | H28: =IF(G28<>"",(G28/Methodology!B$9),(F28)) -> 1 | J28: {=IFERROR(INDEX($A$4:$A$39094, MATCH(0,COUNTIF($J$3:J27, $A$4:$A$39094), 0)),"")} | L28: {=IFERROR(INDEX($C$4:$C$39094, MATCH(0,COUNTIF($L$3:L27, $C$4:$C$3094), 0)),"")}
A29: Station Approach | B29: E S-N | C29: White Zig Zag Lines | D29: 46.8 | G29: =IF(E29="",FLOOR(D29,Methodology!B$9),"") -> 45 | H29: =IF(G29<>"",(G29/Methodology!B$9),(F29)) -> 9 | J29: {=IFERROR(INDEX($A$4:$A$39094, MATCH(0,COUNTIF($J$3:J28, $A$4:$A$39094), 0)),"")} | L29: {=IFERROR(INDEX($C$4:$C$39094, MATCH(0,COUNTIF($L$3:L28, $C$4:$C$3094), 0)),"")}
A30: Station Approach | B30: W N-S | C30: Car Park Entrance | D30: 10.9 | G30: =IF(E30="",FLOOR(D30,Methodology!B$9),"") -> 10 | H30: =IF(G30<>"",(G30/Methodology!B$9),(F30)) -> 2 | J30: {=IFERROR(INDEX($A$4:$A$39094, MATCH(0,COUNTIF($J$3:J29, $A$4:$A$39094), 0)),"")} | L30: {=IFERROR(INDEX($C$4:$C$39094, MATCH(0,COUNTIF($L$3:L29, $C$4:$C$3094), 0)),"")}
A31: Station Approach | B31: W N-S | C31: Double Yellow Lines | D31: 2.5 | G31: =IF(E31="",FLOOR(D31,Methodology!B$9),"") -> 0 | H31: =IF(G31<>"",(G31/Methodology!B$9),(F31)) -> 0 | J31: {=IFERROR(INDEX($A$4:$A$39094, MATCH(0,COUNTIF($J$3:J30, $A$4:$A$39094), 0)),"")} | L31: {=IFERROR(INDEX($C$4:$C$39094, MATCH(0,COUNTIF($L$3:L30, $C$4:$C$3094), 0)),"")}
A32: Station Approach | B32: W N-S | C32: White Zig Zag Lines | D32: 40.6 | G32: =IF(E32="",FLOOR(D32,Methodology!B$9),"") -> 40 | H32: =IF(G32<>"",(G32/Methodology!B$9),(F32)) -> 8 | J32: {=IFERROR(INDEX($A$4:$A$39094, MATCH(0,COUNTIF($J$3:J31, $A$4:$A$39094), 0)),"")} | L32: {=IFERROR(INDEX($C$4:$C$39094, MATCH(0,COUNTIF($L$3:L31, $C$4:$C$3094), 0)),"")}
A33: Station Approach | B33: W N-S | C33: Double Yellow Lines | D33: 2.1 | G33: =IF(E33="",FLOOR(D33,Methodology!B$9),"") -> 0 | H33: =IF(G33<>"",(G33/Methodology!B$9),(F33)) -> 0 | J33: {=IFERROR(INDEX($A$4:$A$39094, MATCH(0,COUNTIF($J$3:J32, $A$4:$A$39094), 0)),"")} | L33: {=IFERROR(INDEX($C$4:$C$39094, MATCH(0,COUNTIF($L$3:L32, $C$4:$C$3094), 0)),"")}
A34: Station Approach | B34: W N-S | C34: Drop Zone/Double Yellow | D34: 55.6 | G34: =IF(E34="",FLOOR(D34,Methodology!B$9),"") -> 55 | H34: =IF(G34<>"",(G34/Methodology!B$9),(F34)) -> 11 | J34: {=IFERROR(INDEX($A$4:$A$39094, MATCH(0,COUNTIF($J$3:J33, $A$4:$A$39094), 0)),"")} | L34: {=IFERROR(INDEX($C$4:$C$39094, MATCH(0,COUNTIF($L$3:L33, $C$4:$C$3094), 0)),"")}
A35: Station Approach | B35: W N-S | C35: Double Yellow Lines | D35: 20.8 | G35: =IF(E35="",FLOOR(D35,Methodology!B$9),"") -> 20 | H35: =IF(G35<>"",(G35/Methodology!B$9),(F35)) -> 4 | J35: {=IFERROR(INDEX($A$4:$A$39094, MATCH(0,COUNTIF($J$3:J34, $A$4:$A$39094), 0)),"")} | L35: {=IFERROR(INDEX($C$4:$C$39094, MATCH(0,COUNTIF($L$3:L34, $C$4:$C$3094), 0)),"")}
... A50: Wellington Road | B50: W N-S | C50: Crossover | D50: 18.6 | G50: =IF(E50="",FLOOR(D50,Methodology!B$9),"") -> 15 | H50: =IF(G50<>"",(G50/Methodology!B$9),(F50)) -> 3 | J50: {=IFERROR(INDEX($A$4:$A$39094, MATCH(0,COUNTIF($J$3:J49, $A$4:$A$39094), 0)),"")} | L50: {=IFERROR(INDEX($C$4:$C$39094, MATCH(0,COUNTIF($L$3:L49, $C$4:$C$3094), 0)),"")}
A51: Wellington Road | B51: W N-S | C51: Double Yellow Lines | D51: 49.5 | G51: =IF(E51="",FLOOR(D51,Methodology!B$9),"") -> 45 | H51: =IF(G51<>"",(G51/Methodology!B$9),(F51)) -> 9 | J51: {=IFERROR(INDEX($A$4:$A$39094, MATCH(0,COUNTIF($J$3:J50, $A$4:$A$39094), 0)),"")}
A52: Outfield Crescent | B52: N E-W | C52: Double Yellow Lines | D52: 10.6 | G52: =IF(E52="",FLOOR(D52,Methodology!B$9),"") -> 10 | H52: =IF(G52<>"",(G52/Methodology!B$9),(F52)) -> 2 | J52: {=IFERROR(INDEX($A$4:$A$39094, MATCH(0,COUNTIF($J$3:J51, $A$4:$A$39094), 0)),"")}
A53: Outfield Crescent | B53: N E-W | C53: Parking - 6am - 10pm - 2 Hours - No Return within 1 Hour | D53: 19.5 | G53: =IF(E53="",FLOOR(D53,Methodology!B$9),"") -> 15 | H53: =IF(G53<>"",(G53/Methodology!B$9),(F53)) -> 3 | J53: {=IFERROR(INDEX($A$4:$A$39094, MATCH(0,COUNTIF($J$3:J52, $A$4:$A$39094), 0)),"")}
A54: Outfield Crescent | B54: N E-W | C54: Double Yellow Lines | D54: 3.4 | G54: =IF(E54="",FLOOR(D54,Methodology!B$9),"") -> 0 | H54: =IF(G54<>"",(G54/Methodology!B$9),(F54)) -> 0 | J54: {=IFERROR(INDEX($A$4:$A$39094, MATCH(0,COUNTIF($J$3:J53, $A$4:$A$39094), 0)),"")}
...
